| Back to Multiple platform build/check report for BioC 3.9 |
|
This page was generated on 2019-10-16 12:40:39 -0400 (Wed, 16 Oct 2019).
| Package 395/1741 | Hostname | OS / Arch | INSTALL | BUILD | CHECK | BUILD BIN | ||||||
| ddPCRclust 1.4.0 Benedikt G. Brink
| malbec2 | Linux (Ubuntu 18.04.2 LTS) / x86_64 | OK | OK | OK | |||||||
| tokay2 | Windows Server 2012 R2 Standard / x64 | [ OK ] | OK | WARNINGS | OK | |||||||
| celaya2 | OS X 10.11.6 El Capitan / x86_64 | OK | OK | OK | OK |
| Package: ddPCRclust |
| Version: 1.4.0 |
| Command: C:\cygwin\bin\curl.exe -O https://malbec2.bioconductor.org/BBS/3.9/bioc/src/contrib/ddPCRclust_1.4.0.tar.gz && rm -rf ddPCRclust.buildbin-libdir && mkdir ddPCRclust.buildbin-libdir && C:\Users\biocbuild\bbs-3.9-bioc\R\bin\R.exe CMD INSTALL --merge-multiarch --build --library=ddPCRclust.buildbin-libdir ddPCRclust_1.4.0.tar.gz && C:\Users\biocbuild\bbs-3.9-bioc\R\bin\R.exe CMD INSTALL ddPCRclust_1.4.0.zip && rm ddPCRclust_1.4.0.tar.gz ddPCRclust_1.4.0.zip |
| StartedAt: 2019-10-15 20:51:08 -0400 (Tue, 15 Oct 2019) |
| EndedAt: 2019-10-15 20:52:27 -0400 (Tue, 15 Oct 2019) |
| EllapsedTime: 79.6 seconds |
| RetCode: 0 |
| Status: OK |
##############################################################################
##############################################################################
###
### Running command:
###
### C:\cygwin\bin\curl.exe -O https://malbec2.bioconductor.org/BBS/3.9/bioc/src/contrib/ddPCRclust_1.4.0.tar.gz && rm -rf ddPCRclust.buildbin-libdir && mkdir ddPCRclust.buildbin-libdir && C:\Users\biocbuild\bbs-3.9-bioc\R\bin\R.exe CMD INSTALL --merge-multiarch --build --library=ddPCRclust.buildbin-libdir ddPCRclust_1.4.0.tar.gz && C:\Users\biocbuild\bbs-3.9-bioc\R\bin\R.exe CMD INSTALL ddPCRclust_1.4.0.zip && rm ddPCRclust_1.4.0.tar.gz ddPCRclust_1.4.0.zip
###
##############################################################################
##############################################################################
% Total % Received % Xferd Average Speed Time Time Time Current
Dload Upload Total Spent Left Speed
0 0 0 0 0 0 0 0 --:--:-- --:--:-- --:--:-- 0
100 984k 100 984k 0 0 13.5M 0 --:--:-- --:--:-- --:--:-- 15.0M
install for i386
* installing *source* package 'ddPCRclust' ...
** using staged installation
** R
** inst
** byte-compile and prepare package for lazy loading
Warning: replacing previous import 'flowCore::plot' by 'graphics::plot' when loading 'flowDensity'
** help
*** installing help indices
converting help for package 'ddPCRclust'
finding HTML links ... done
calculateCPDs html
createEnsemble html
finding level-2 HTML links ... done
ddPCRclust html
Rd warning: C:/Users/biocbuild/bbs-3.9-bioc/tmpdir/RtmpO6TmHh/R.INSTALL22b87e952d70/ddPCRclust/man/ddPCRclust.Rd:64: file link 'parallel' in package 'parallel' does not exist and so has been treated as a topic
exportPlots html
exportToCSV html
exportToExcel html
readFiles html
readTemplate html
runDensity html
runPeaks html
runSam html
shearCorrection html
** building package indices
** installing vignettes
** testing if installed package can be loaded from temporary location
Warning: replacing previous import 'flowCore::plot' by 'graphics::plot' when loading 'flowDensity'
** testing if installed package can be loaded from final location
Warning: replacing previous import 'flowCore::plot' by 'graphics::plot' when loading 'flowDensity'
** testing if installed package keeps a record of temporary installation path
install for x64
* installing *source* package 'ddPCRclust' ...
** testing if installed package can be loaded
Warning: replacing previous import 'flowCore::plot' by 'graphics::plot' when loading 'flowDensity'
* MD5 sums
packaged installation of 'ddPCRclust' as ddPCRclust_1.4.0.zip
* DONE (ddPCRclust)
* installing to library 'C:/Users/biocbuild/bbs-3.9-bioc/R/library'
package 'ddPCRclust' successfully unpacked and MD5 sums checked