| Back to Multiple platform build/check report for BioC 3.9 |
|
This page was generated on 2019-10-16 12:40:40 -0400 (Wed, 16 Oct 2019).
| Package 395/1741 | Hostname | OS / Arch | INSTALL | BUILD | CHECK | BUILD BIN | ||||||
| ddPCRclust 1.4.0 Benedikt G. Brink
| malbec2 | Linux (Ubuntu 18.04.2 LTS) / x86_64 | OK | OK | OK | |||||||
| tokay2 | Windows Server 2012 R2 Standard / x64 | OK | OK | WARNINGS | [ OK ] | |||||||
| celaya2 | OS X 10.11.6 El Capitan / x86_64 | OK | OK | OK | OK |
| Package: ddPCRclust |
| Version: 1.4.0 |
| Command: rm -rf ddPCRclust.buildbin-libdir && mkdir ddPCRclust.buildbin-libdir && C:\Users\biocbuild\bbs-3.9-bioc\R\bin\R.exe CMD INSTALL --merge-multiarch --build --library=ddPCRclust.buildbin-libdir ddPCRclust_1.4.0.tar.gz |
| StartedAt: 2019-10-16 09:01:49 -0400 (Wed, 16 Oct 2019) |
| EndedAt: 2019-10-16 09:02:59 -0400 (Wed, 16 Oct 2019) |
| EllapsedTime: 70.5 seconds |
| RetCode: 0 |
| Status: OK |
| PackageFile: ddPCRclust_1.4.0.zip |
| PackageFileSize: 1.354 MiB |
##############################################################################
##############################################################################
###
### Running command:
###
### rm -rf ddPCRclust.buildbin-libdir && mkdir ddPCRclust.buildbin-libdir && C:\Users\biocbuild\bbs-3.9-bioc\R\bin\R.exe CMD INSTALL --merge-multiarch --build --library=ddPCRclust.buildbin-libdir ddPCRclust_1.4.0.tar.gz
###
##############################################################################
##############################################################################
install for i386
* installing *source* package 'ddPCRclust' ...
** using staged installation
** R
** inst
** byte-compile and prepare package for lazy loading
Warning: replacing previous import 'flowCore::plot' by 'graphics::plot' when loading 'flowDensity'
** help
*** installing help indices
converting help for package 'ddPCRclust'
finding HTML links ... done
calculateCPDs html
createEnsemble html
finding level-2 HTML links ... done
ddPCRclust html
Rd warning: C:/Users/biocbuild/bbs-3.9-bioc/tmpdir/Rtmp2JGWbb/R.INSTALLb60b845b8b/ddPCRclust/man/ddPCRclust.Rd:64: file link 'parallel' in package 'parallel' does not exist and so has been treated as a topic
exportPlots html
exportToCSV html
exportToExcel html
readFiles html
readTemplate html
runDensity html
runPeaks html
runSam html
shearCorrection html
** building package indices
** installing vignettes
** testing if installed package can be loaded from temporary location
Warning: replacing previous import 'flowCore::plot' by 'graphics::plot' when loading 'flowDensity'
** testing if installed package can be loaded from final location
Warning: replacing previous import 'flowCore::plot' by 'graphics::plot' when loading 'flowDensity'
** testing if installed package keeps a record of temporary installation path
install for x64
* installing *source* package 'ddPCRclust' ...
** testing if installed package can be loaded
Warning: replacing previous import 'flowCore::plot' by 'graphics::plot' when loading 'flowDensity'
* MD5 sums
packaged installation of 'ddPCRclust' as ddPCRclust_1.4.0.zip
* DONE (ddPCRclust)