| Back to Multiple platform build/check report for BioC 3.9 |
|
This page was generated on 2019-10-16 12:23:23 -0400 (Wed, 16 Oct 2019).
| Package 248/1741 | Hostname | OS / Arch | INSTALL | BUILD | CHECK | BUILD BIN | ||||||
| charm 2.30.0 Peter Murakami
| malbec2 | Linux (Ubuntu 18.04.2 LTS) / x86_64 | ERROR | ERROR | skipped | |||||||
| tokay2 | Windows Server 2012 R2 Standard / x64 | ERROR | [ ERROR ] | skipped | skipped | |||||||
| celaya2 | OS X 10.11.6 El Capitan / x86_64 | ERROR | ERROR | skipped | skipped |
| Package: charm |
| Version: 2.30.0 |
| Command: chmod a+r charm -R && C:\Users\biocbuild\bbs-3.9-bioc\R\bin\R.exe CMD build --keep-empty-dirs --no-resave-data charm |
| StartedAt: 2019-10-15 21:53:34 -0400 (Tue, 15 Oct 2019) |
| EndedAt: 2019-10-15 21:54:07 -0400 (Tue, 15 Oct 2019) |
| EllapsedTime: 33.4 seconds |
| RetCode: 1 |
| Status: ERROR |
| PackageFile: charm_2.30.0.tar.gz |
| PackageFileSize: 84.68 KiB |
##############################################################################
##############################################################################
###
### Running command:
###
### chmod a+r charm -R && C:\Users\biocbuild\bbs-3.9-bioc\R\bin\R.exe CMD build --keep-empty-dirs --no-resave-data charm
###
##############################################################################
##############################################################################
* checking for file 'charm/DESCRIPTION' ... OK
* preparing 'charm':
* checking DESCRIPTION meta-information ... OK
* installing the package to build vignettes
-----------------------------------
* installing *source* package 'charm' ...
** using staged installation
** R
** inst
** byte-compile and prepare package for lazy loading
Error: object 'ebayes' is not exported by 'namespace:limma'
Execution halted
ERROR: lazy loading failed for package 'charm'
* removing 'C:/Users/biocbuild/bbs-3.9-bioc/tmpdir/RtmpsFkeb5/Rinst108c3a957957/charm'
-----------------------------------
ERROR: package installation failed