| Back to Multiple platform build/check report for BioC 3.9 |
|
This page was generated on 2019-10-16 12:47:56 -0400 (Wed, 16 Oct 2019).
| Package 248/1741 | Hostname | OS / Arch | INSTALL | BUILD | CHECK | BUILD BIN | ||||||
| charm 2.30.0 Peter Murakami
| malbec2 | Linux (Ubuntu 18.04.2 LTS) / x86_64 | ERROR | ERROR | skipped | |||||||
| tokay2 | Windows Server 2012 R2 Standard / x64 | ERROR | ERROR | skipped | skipped | |||||||
| celaya2 | OS X 10.11.6 El Capitan / x86_64 | ERROR | [ ERROR ] | skipped | skipped |
| Package: charm |
| Version: 2.30.0 |
| Command: /Library/Frameworks/R.framework/Versions/Current/Resources/bin/R CMD build --keep-empty-dirs --no-resave-data charm |
| StartedAt: 2019-10-15 20:09:00 -0400 (Tue, 15 Oct 2019) |
| EndedAt: 2019-10-15 20:09:19 -0400 (Tue, 15 Oct 2019) |
| EllapsedTime: 18.8 seconds |
| RetCode: 1 |
| Status: ERROR |
| PackageFile: None |
| PackageFileSize: NA |
##############################################################################
##############################################################################
###
### Running command:
###
### /Library/Frameworks/R.framework/Versions/Current/Resources/bin/R CMD build --keep-empty-dirs --no-resave-data charm
###
##############################################################################
##############################################################################
* checking for file ‘charm/DESCRIPTION’ ... OK
* preparing ‘charm’:
* checking DESCRIPTION meta-information ... OK
* installing the package to build vignettes
-----------------------------------
* installing *source* package ‘charm’ ...
** using staged installation
** R
** inst
** byte-compile and prepare package for lazy loading
Error: object ‘ebayes’ is not exported by 'namespace:limma'
Execution halted
ERROR: lazy loading failed for package ‘charm’
* removing ‘/private/tmp/RtmpubDrA4/Rinst14e4024e0e55d/charm’
-----------------------------------
ERROR: package installation failed