| Back to Multiple platform build/check report for BioC 3.9 |
|
This page was generated on 2019-10-16 12:34:44 -0400 (Wed, 16 Oct 2019).
| Package 236/1741 | Hostname | OS / Arch | INSTALL | BUILD | CHECK | BUILD BIN | ||||||
| cellTree 1.14.0 David duVerle
| malbec2 | Linux (Ubuntu 18.04.2 LTS) / x86_64 | OK | OK | OK | |||||||
| tokay2 | Windows Server 2012 R2 Standard / x64 | [ OK ] | OK | WARNINGS | OK | |||||||
| celaya2 | OS X 10.11.6 El Capitan / x86_64 | OK | OK | OK | OK |
| Package: cellTree |
| Version: 1.14.0 |
| Command: C:\cygwin\bin\curl.exe -O https://malbec2.bioconductor.org/BBS/3.9/bioc/src/contrib/cellTree_1.14.0.tar.gz && rm -rf cellTree.buildbin-libdir && mkdir cellTree.buildbin-libdir && C:\Users\biocbuild\bbs-3.9-bioc\R\bin\R.exe CMD INSTALL --merge-multiarch --build --library=cellTree.buildbin-libdir cellTree_1.14.0.tar.gz && C:\Users\biocbuild\bbs-3.9-bioc\R\bin\R.exe CMD INSTALL cellTree_1.14.0.zip && rm cellTree_1.14.0.tar.gz cellTree_1.14.0.zip |
| StartedAt: 2019-10-15 19:17:33 -0400 (Tue, 15 Oct 2019) |
| EndedAt: 2019-10-15 19:18:14 -0400 (Tue, 15 Oct 2019) |
| EllapsedTime: 41.3 seconds |
| RetCode: 0 |
| Status: OK |
##############################################################################
##############################################################################
###
### Running command:
###
### C:\cygwin\bin\curl.exe -O https://malbec2.bioconductor.org/BBS/3.9/bioc/src/contrib/cellTree_1.14.0.tar.gz && rm -rf cellTree.buildbin-libdir && mkdir cellTree.buildbin-libdir && C:\Users\biocbuild\bbs-3.9-bioc\R\bin\R.exe CMD INSTALL --merge-multiarch --build --library=cellTree.buildbin-libdir cellTree_1.14.0.tar.gz && C:\Users\biocbuild\bbs-3.9-bioc\R\bin\R.exe CMD INSTALL cellTree_1.14.0.zip && rm cellTree_1.14.0.tar.gz cellTree_1.14.0.zip
###
##############################################################################
##############################################################################
% Total % Received % Xferd Average Speed Time Time Time Current
Dload Upload Total Spent Left Speed
0 0 0 0 0 0 0 0 --:--:-- --:--:-- --:--:-- 0
100 499k 100 499k 0 0 5965k 0 --:--:-- --:--:-- --:--:-- 6487k
install for i386
* installing *source* package 'cellTree' ...
** using staged installation
** R
** data
*** moving datasets to lazyload DB
** inst
** byte-compile and prepare package for lazy loading
groupGOTerms: GOBPTerm, GOMFTerm, GOCCTerm environments built.
** help
*** installing help indices
converting help for package 'cellTree'
finding HTML links ... done
HSMM_lda_model html
cell.ordering.table html
Rd warning: C:/Users/biocbuild/bbs-3.9-bioc/tmpdir/RtmpWwr3B7/R.INSTALL15a02223475/cellTree/man/cell.ordering.table.Rd:10: file link 'igraph' in package 'igraph' does not exist and so has been treated as a topic
cellTree-package html
compute.backbone.tree html
Rd warning: C:/Users/biocbuild/bbs-3.9-bioc/tmpdir/RtmpWwr3B7/R.INSTALL15a02223475/cellTree/man/compute.backbone.tree.Rd:34: file link 'igraph' in package 'igraph' does not exist and so has been treated as a topic
compute.go.enrichment html
Rd warning: C:/Users/biocbuild/bbs-3.9-bioc/tmpdir/RtmpWwr3B7/R.INSTALL15a02223475/cellTree/man/compute.go.enrichment.Rd:30: file link 'igraph' in package 'igraph' does not exist and so has been treated as a topic
compute.lda html
Rd warning: C:/Users/biocbuild/bbs-3.9-bioc/tmpdir/RtmpWwr3B7/R.INSTALL15a02223475/cellTree/man/compute.lda.Rd:25: file link 'LDA-class' in package 'topicmodels' does not exist and so has been treated as a topic
Rd warning: C:/Users/biocbuild/bbs-3.9-bioc/tmpdir/RtmpWwr3B7/R.INSTALL15a02223475/cellTree/man/compute.lda.Rd:69: file link 'LDA' in package 'topicmodels' does not exist and so has been treated as a topic
Rd warning: C:/Users/biocbuild/bbs-3.9-bioc/tmpdir/RtmpWwr3B7/R.INSTALL15a02223475/cellTree/man/compute.lda.Rd:69: file link 'LDA_Gibbscontrol-class' in package 'topicmodels' does not exist and so has been treated as a topic
Rd warning: C:/Users/biocbuild/bbs-3.9-bioc/tmpdir/RtmpWwr3B7/R.INSTALL15a02223475/cellTree/man/compute.lda.Rd:69: file link 'CTM_VEMcontrol-class' in package 'topicmodels' does not exist and so has been treated as a topic
ct.plot.go.dag html
Rd warning: C:/Users/biocbuild/bbs-3.9-bioc/tmpdir/RtmpWwr3B7/R.INSTALL15a02223475/cellTree/man/ct.plot.go.dag.Rd:27: file link 'igraph' in package 'igraph' does not exist and so has been treated as a topic
ct.plot.grouping html
Rd warning: C:/Users/biocbuild/bbs-3.9-bioc/tmpdir/RtmpWwr3B7/R.INSTALL15a02223475/cellTree/man/ct.plot.grouping.Rd:12: file link 'igraph' in package 'igraph' does not exist and so has been treated as a topic
Rd warning: C:/Users/biocbuild/bbs-3.9-bioc/tmpdir/RtmpWwr3B7/R.INSTALL15a02223475/cellTree/man/ct.plot.grouping.Rd:31: file link 'igraph' in package 'igraph' does not exist and so has been treated as a topic
ct.plot.heatmap html
ct.plot.topics html
Rd warning: C:/Users/biocbuild/bbs-3.9-bioc/tmpdir/RtmpWwr3B7/R.INSTALL15a02223475/cellTree/man/ct.plot.topics.Rd:12: file link 'igraph' in package 'igraph' does not exist and so has been treated as a topic
Rd warning: C:/Users/biocbuild/bbs-3.9-bioc/tmpdir/RtmpWwr3B7/R.INSTALL15a02223475/cellTree/man/ct.plot.topics.Rd:27: file link 'igraph' in package 'igraph' does not exist and so has been treated as a topic
get.cell.dists html
go.results.to.latex html
** building package indices
** installing vignettes
** testing if installed package can be loaded from temporary location
groupGOTerms: GOBPTerm, GOMFTerm, GOCCTerm environments built.
** testing if installed package can be loaded from final location
groupGOTerms: GOBPTerm, GOMFTerm, GOCCTerm environments built.
** testing if installed package keeps a record of temporary installation path
install for x64
* installing *source* package 'cellTree' ...
** testing if installed package can be loaded
groupGOTerms: GOBPTerm, GOMFTerm, GOCCTerm environments built.
* MD5 sums
packaged installation of 'cellTree' as cellTree_1.14.0.zip
* DONE (cellTree)
* installing to library 'C:/Users/biocbuild/bbs-3.9-bioc/R/library'
package 'cellTree' successfully unpacked and MD5 sums checked