| Back to Multiple platform build/check report for BioC 3.9 |
|
This page was generated on 2019-10-16 12:20:26 -0400 (Wed, 16 Oct 2019).
| Package 121/1741 | Hostname | OS / Arch | INSTALL | BUILD | CHECK | BUILD BIN | ||||||
| beadarray 2.34.0 Mark Dunning
| malbec2 | Linux (Ubuntu 18.04.2 LTS) / x86_64 | OK | OK | OK | |||||||
| tokay2 | Windows Server 2012 R2 Standard / x64 | OK | OK | [ OK ] | OK | |||||||
| celaya2 | OS X 10.11.6 El Capitan / x86_64 | OK | OK | OK | OK |
| Package: beadarray |
| Version: 2.34.0 |
| Command: C:\Users\biocbuild\bbs-3.9-bioc\R\bin\R.exe CMD check --force-multiarch --install=check:beadarray.install-out.txt --library=C:\Users\biocbuild\bbs-3.9-bioc\R\library --no-vignettes --timings beadarray_2.34.0.tar.gz |
| StartedAt: 2019-10-16 02:08:20 -0400 (Wed, 16 Oct 2019) |
| EndedAt: 2019-10-16 02:24:22 -0400 (Wed, 16 Oct 2019) |
| EllapsedTime: 962.5 seconds |
| RetCode: 0 |
| Status: OK |
| CheckDir: beadarray.Rcheck |
| Warnings: 0 |
##############################################################################
##############################################################################
###
### Running command:
###
### C:\Users\biocbuild\bbs-3.9-bioc\R\bin\R.exe CMD check --force-multiarch --install=check:beadarray.install-out.txt --library=C:\Users\biocbuild\bbs-3.9-bioc\R\library --no-vignettes --timings beadarray_2.34.0.tar.gz
###
##############################################################################
##############################################################################
* using log directory 'C:/Users/biocbuild/bbs-3.9-bioc/meat/beadarray.Rcheck'
* using R version 3.6.1 (2019-07-05)
* using platform: x86_64-w64-mingw32 (64-bit)
* using session charset: ISO8859-1
* using option '--no-vignettes'
* checking for file 'beadarray/DESCRIPTION' ... OK
* this is package 'beadarray' version '2.34.0'
* checking package namespace information ... OK
* checking package dependencies ... OK
* checking if this is a source package ... OK
* checking if there is a namespace ... OK
* checking for hidden files and directories ... OK
* checking for portable file names ... OK
* checking whether package 'beadarray' can be installed ... OK
* checking installed package size ... OK
* checking package directory ... OK
* checking 'build' directory ... OK
* checking DESCRIPTION meta-information ... OK
* checking top-level files ... OK
* checking for left-over files ... OK
* checking index information ... OK
* checking package subdirectories ... OK
* checking R files for non-ASCII characters ... OK
* checking R files for syntax errors ... OK
* loading checks for arch 'i386'
** checking whether the package can be loaded ... OK
** checking whether the package can be loaded with stated dependencies ... OK
** checking whether the package can be unloaded cleanly ... OK
** checking whether the namespace can be loaded with stated dependencies ... OK
** checking whether the namespace can be unloaded cleanly ... OK
* loading checks for arch 'x64'
** checking whether the package can be loaded ... OK
** checking whether the package can be loaded with stated dependencies ... OK
** checking whether the package can be unloaded cleanly ... OK
** checking whether the namespace can be loaded with stated dependencies ... OK
** checking whether the namespace can be unloaded cleanly ... OK
* checking dependencies in R code ... NOTE
Package in Depends field not imported from: 'hexbin'
These packages need to be imported from (in the NAMESPACE file)
for when this namespace is loaded but not attached.
Unexported objects imported by ':::' calls:
'BeadDataPackR:::combineFiles' 'BeadDataPackR:::readHeader'
'Biobase:::assayDataStorageMode'
See the note in ?`:::` about the use of this operator.
* checking S3 generic/method consistency ... OK
* checking replacement functions ... OK
* checking foreign function calls ... NOTE
Foreign function call to a different package:
.Call("roundLocsFileValues", ..., PACKAGE = "BeadDataPackR")
See chapter 'System and foreign language interfaces' in the 'Writing R
Extensions' manual.
* checking R code for possible problems ... NOTE
combinedControlPlot: no visible binding for global variable 'Control'
combinedControlPlot: no visible binding for global variable 'Negative'
combinedControlPlot: no visible binding for global variable 'ID'
combinedControlPlot: no visible binding for global variable
'Log2Intensity'
combinedControlPlot: no visible binding for global variable
'ControlType'
combinedControlPlot: no visible binding for global variable 'Masked'
createGEOMeta: no visible binding for global variable 'metaTemplate'
expressionQCPipeline: no visible global function definition for
'openPage'
expressionQCPipeline: no visible global function definition for
'hwrite'
expressionQCPipeline: no visible global function definition for
'hwriteImage'
expressionQCPipeline: no visible global function definition for
'closePage'
getPlatformSigs: no visible global function definition for
'lumiHumanIDMapping_dbconn'
getPlatformSigs: no visible global function definition for
'dbListTables'
getPlatformSigs: no visible global function definition for
'dbListFields'
getPlatformSigs: no visible global function definition for 'dbGetQuery'
getPlatformSigs: no visible global function definition for
'lumiMouseIDMapping_dbconn'
getPlatformSigs: no visible global function definition for
'lumiRatIDMapping_dbconn'
imageplot: no visible binding for global variable 'Var1'
imageplot: no visible binding for global variable 'Var2'
imageplot: no visible binding for global variable 'value'
makeReport: no visible binding for global variable 'Nozzle.R1'
makeReport: no visible binding for global variable 'ggbio'
makeReport: no visible global function definition for 'newCustomReport'
makeReport: no visible global function definition for 'newSection'
makeReport: no visible global function definition for 'newTable'
makeReport: no visible global function definition for 'newParagraph'
makeReport: no visible global function definition for 'addTo'
makeReport: no visible global function definition for 'autoplot'
makeReport: no visible global function definition for 'plotIdeogram'
makeReport: no visible global function definition for 'tracks'
makeReport: no visible global function definition for 'newFigure'
makeReport: no visible binding for global variable 'IMAGE.TYPE.RASTER'
makeReport: no visible binding for global variable 'PROTECTION.PUBLIC'
makeReport: no visible binding for global variable 'value'
makeReport: no visible global function definition for 'writeReport'
maplots: no visible binding for global variable 'value.1'
maplots: no visible binding for global variable 'value'
normaliseIllumina: no visible global function definition for 'lumiT'
normaliseIllumina: no visible global function definition for
'normalize.qspline'
normaliseIllumina: no visible global function definition for 'vsn2'
plotBeadLocations2: no visible global function definition for 'qplot'
plotBeadLocations2: no visible global function definition for 'opts'
plotBeadLocations2: no visible global function definition for
'theme_blank'
plotProbe: no visible global function definition for 'autoplot'
plotProbe: no visible binding for global variable 'genesymbol'
plotProbe: no visible global function definition for 'tracks'
plotProbe: no visible binding for global variable 'PROBEQUALITY'
rankInvariantNormalise: no visible global function definition for
'normalize.invariantset'
suggestAnnotation: no visible binding for global variable
'platformSigs'
suggestAnnotation_Vector: no visible binding for global variable
'platformSigs'
[,ExpressionSetIllumina-ANY: no visible global function definition for
'assayDataEnvLock'
boxplot,ExpressionSetIllumina: no visible binding for global variable
'Var2'
boxplot,ExpressionSetIllumina: no visible binding for global variable
'value'
plotMA,ExpressionSetIllumina: no visible binding for global variable
'value.1'
plotMA,ExpressionSetIllumina: no visible binding for global variable
'value'
Undefined global functions or variables:
Control ControlType ID IMAGE.TYPE.RASTER Log2Intensity Masked
Negative Nozzle.R1 PROBEQUALITY PROTECTION.PUBLIC Var1 Var2 addTo
assayDataEnvLock autoplot closePage dbGetQuery dbListFields
dbListTables genesymbol ggbio hwrite hwriteImage
lumiHumanIDMapping_dbconn lumiMouseIDMapping_dbconn
lumiRatIDMapping_dbconn lumiT metaTemplate newCustomReport newFigure
newParagraph newSection newTable normalize.invariantset
normalize.qspline openPage opts platformSigs plotIdeogram qplot
theme_blank tracks value value.1 vsn2 writeReport
* checking Rd files ... OK
* checking Rd metadata ... OK
* checking Rd cross-references ... OK
* checking for missing documentation entries ... OK
* checking for code/documentation mismatches ... OK
* checking Rd \usage sections ... OK
* checking Rd contents ... OK
* checking for unstated dependencies in examples ... OK
* checking contents of 'data' directory ... OK
* checking data for non-ASCII characters ... OK
* checking data for ASCII and uncompressed saves ... OK
* checking line endings in C/C++/Fortran sources/headers ... OK
* checking compiled code ... NOTE
Note: information on .o files for i386 is not available
Note: information on .o files for x64 is not available
File 'C:/Users/biocbuild/bbs-3.9-bioc/R/library/beadarray/libs/i386/beadarray.dll':
Found 'abort', possibly from 'abort' (C), 'runtime' (Fortran)
File 'C:/Users/biocbuild/bbs-3.9-bioc/R/library/beadarray/libs/x64/beadarray.dll':
Found 'abort', possibly from 'abort' (C), 'runtime' (Fortran)
Compiled code should not call entry points which might terminate R nor
write to stdout/stderr instead of to the console, nor use Fortran I/O
nor system RNGs. The detected symbols are linked into the code but
might come from libraries and not actually be called.
See 'Writing portable packages' in the 'Writing R Extensions' manual.
* checking files in 'vignettes' ... OK
* checking examples ...
** running examples for arch 'i386' ... OK
Examples with CPU or elapsed time > 5s
user system elapsed
squeezedVarOutlierMethod 57.19 1.20 58.50
outlierplot 46.14 1.02 47.16
summarize 29.16 2.30 31.52
limmaDE 22.86 0.31 23.17
calculateOutlierStats 19.56 1.08 20.64
controlProbeDetection 19.83 0.48 20.33
calculateDetection 16.25 0.53 16.78
identifyControlBeads 16.50 0.27 16.76
insertSectionData 14.91 0.94 15.85
showArrayMask 14.97 0.81 15.78
makeQCTable 14.33 0.93 15.25
poscontPlot 14.61 0.54 15.16
normaliseIllumina 13.80 0.92 14.82
imageplot 11.68 0.56 12.25
quickSummary 10.34 0.36 10.71
annotationInterface 9.83 0.41 10.23
addFeatureData 8.15 0.29 13.11
maplots 5.33 0.67 6.00
boxplot 5.11 0.31 5.43
plotBeadIntensities 4.83 0.42 5.25
insertBeadData 4.69 0.39 5.08
** running examples for arch 'x64' ... OK
Examples with CPU or elapsed time > 5s
user system elapsed
squeezedVarOutlierMethod 51.39 0.55 51.98
outlierplot 39.94 1.03 40.97
summarize 26.53 2.52 29.05
limmaDE 23.67 0.14 23.81
controlProbeDetection 15.38 0.47 15.85
identifyControlBeads 15.12 0.23 15.36
calculateOutlierStats 14.37 0.58 14.96
normaliseIllumina 13.87 0.64 14.55
showArrayMask 13.10 0.90 14.02
insertSectionData 13.08 0.91 13.98
calculateDetection 13.24 0.42 13.65
poscontPlot 12.43 0.48 12.94
makeQCTable 10.77 0.82 11.59
quickSummary 8.94 0.46 9.39
imageplot 8.77 0.58 9.34
annotationInterface 7.06 0.55 7.61
addFeatureData 5.50 0.20 5.70
maplots 4.42 0.69 5.11
* checking for unstated dependencies in vignettes ... OK
* checking package vignettes in 'inst/doc' ... OK
* checking running R code from vignettes ... SKIPPED
* checking re-building of vignette outputs ... SKIPPED
* checking PDF version of manual ... OK
* DONE
Status: 4 NOTEs
See
'C:/Users/biocbuild/bbs-3.9-bioc/meat/beadarray.Rcheck/00check.log'
for details.
beadarray.Rcheck/00install.out
##############################################################################
##############################################################################
###
### Running command:
###
### C:\cygwin\bin\curl.exe -O https://malbec2.bioconductor.org/BBS/3.9/bioc/src/contrib/beadarray_2.34.0.tar.gz && rm -rf beadarray.buildbin-libdir && mkdir beadarray.buildbin-libdir && C:\Users\biocbuild\bbs-3.9-bioc\R\bin\R.exe CMD INSTALL --merge-multiarch --build --library=beadarray.buildbin-libdir beadarray_2.34.0.tar.gz && C:\Users\biocbuild\bbs-3.9-bioc\R\bin\R.exe CMD INSTALL beadarray_2.34.0.zip && rm beadarray_2.34.0.tar.gz beadarray_2.34.0.zip
###
##############################################################################
##############################################################################
% Total % Received % Xferd Average Speed Time Time Time Current
Dload Upload Total Spent Left Speed
0 0 0 0 0 0 0 0 --:--:-- --:--:-- --:--:-- 0
0 1317k 0 0 0 0 0 0 --:--:-- --:--:-- --:--:-- 0
100 1317k 100 1317k 0 0 18.1M 0 --:--:-- --:--:-- --:--:-- 19.7M
install for i386
* installing *source* package 'beadarray' ...
** using staged installation
** libs
C:/Rtools/mingw_32/bin/gcc -I"C:/Users/BIOCBU~1/BBS-3~1.9-B/R/include" -DNDEBUG -I"C:/extsoft/include" -O3 -Wall -std=gnu99 -mtune=generic -c BASH.c -o BASH.o
C:/Rtools/mingw_32/bin/gcc -I"C:/Users/BIOCBU~1/BBS-3~1.9-B/R/include" -DNDEBUG -I"C:/extsoft/include" -O3 -Wall -std=gnu99 -mtune=generic -c HULK.c -o HULK.o
C:/Rtools/mingw_32/bin/gcc -I"C:/Users/BIOCBU~1/BBS-3~1.9-B/R/include" -DNDEBUG -I"C:/extsoft/include" -O3 -Wall -std=gnu99 -mtune=generic -c determiningGridPositions.c -o determiningGridPositions.o
C:/Rtools/mingw_32/bin/gcc -I"C:/Users/BIOCBU~1/BBS-3~1.9-B/R/include" -DNDEBUG -I"C:/extsoft/include" -O3 -Wall -std=gnu99 -mtune=generic -c findAllOutliers.c -o findAllOutliers.o
findAllOutliers.c: In function 'findBeadStatus':
findAllOutliers.c:196:29: warning: 'ma' may be used uninitialized in this function [-Wmaybe-uninitialized]
if((inten[k] < (m + *nmads*ma)) && (inten[k] > (m - *nmads*ma))){
^
findAllOutliers.c:196:53: warning: 'm' may be used uninitialized in this function [-Wmaybe-uninitialized]
if((inten[k] < (m + *nmads*ma)) && (inten[k] > (m - *nmads*ma))){
^
findAllOutliers.c: In function 'findAllOutliers':
findAllOutliers.c:226:20: warning: 'status' may be used uninitialized in this function [-Wmaybe-uninitialized]
beadStatusStruct *status;
^
C:/Rtools/mingw_32/bin/gcc -I"C:/Users/BIOCBU~1/BBS-3~1.9-B/R/include" -DNDEBUG -I"C:/extsoft/include" -O3 -Wall -std=gnu99 -mtune=generic -c imageProcessing.c -o imageProcessing.o
imageProcessing.c: In function 'illuminaBackground':
imageProcessing.c:88:0: warning: ignoring #pragma omp parallel [-Wunknown-pragmas]
#pragma omp parallel shared(nthreads, nbeads, imageHeight, pixelMatrix, coords) private(tid, start, end)
^
imageProcessing.c: In function 'medianBackground':
imageProcessing.c:135:0: warning: ignoring #pragma omp parallel [-Wunknown-pragmas]
#pragma omp parallel shared(nthreads, nbeads, imageHeight, pixelMatrix, coords) private(tid, start, end)
^
imageProcessing.c: In function 'illuminaSharpen':
imageProcessing.c:244:0: warning: ignoring #pragma omp parallel [-Wunknown-pragmas]
#pragma omp parallel for private(i, j) shared(sharpened) num_threads(2)
^
imageProcessing.c:251:0: warning: ignoring #pragma omp parallel [-Wunknown-pragmas]
#pragma omp parallel for private(i, j, sum) shared(sharpened) num_threads(2)
^
C:/Rtools/mingw_32/bin/gcc -shared -s -static-libgcc -o beadarray.dll tmp.def BASH.o HULK.o determiningGridPositions.o findAllOutliers.o imageProcessing.o -LC:/extsoft/lib/i386 -LC:/extsoft/lib -LC:/Users/BIOCBU~1/BBS-3~1.9-B/R/bin/i386 -lR
installing to C:/Users/biocbuild/bbs-3.9-bioc/meat/beadarray.buildbin-libdir/00LOCK-beadarray/00new/beadarray/libs/i386
** R
** data
*** moving datasets to lazyload DB
** inst
** byte-compile and prepare package for lazy loading
** help
*** installing help indices
converting help for package 'beadarray'
finding HTML links ... done
BASH html
BASHCompact html
BASHDiffuse html
BASHExtended html
GEO html
GEOtemplate html
HULK html
addFeatureData html
annotationInterface html
backgroundCorrectSingleSection html
beadarray-package html
beadarrayUsersGuide html
boxplot html
calculateDetection html
calculateOutlierStats html
checkRegistration html
class-BeadLevelList html
class-ExpressionSetIllumina html
class-beadLevelData html
class-beadRegistrationData html
class-illuminaChannel html
class-limmaResults html
combine html
controlProbeDetection html
convertBeadLevelList html
createTargetsFile html
deprecatedFunctions html
dim html
expressionQCPipeline html
generateNeighbours html
getBeadData html
identifyControlBeads html
illuminaOutlierMethod html
imageProcessing html
imageplot html
insertBeadData html
insertSectionData html
limmaDE html
makeControlProfile html
makeQCTable html
maplots html
medianNormalise html
metrics html
noOutlierMethod html
normaliseIllumina html
numBeads html
outlierplot html
platformSigs html
plotBeadIntensities html
plotBeadLocations html
plotChipLayout html
plotMAXY html
plotTIFF html
poscontPlot html
processSwathData html
quickSummary html
readBeadSummaryData html
readIdatFiles html
readIllumina html
readLocsFile html
readTIFF html
sampleSheet html
sectionNames html
setWeights html
show html
showArrayMask html
squeezedVarOutlierMethod html
summarize html
transformationFunctions html
weightsOutlierMethod html
** building package indices
** installing vignettes
** testing if installed package can be loaded from temporary location
** testing if installed package can be loaded from final location
** testing if installed package keeps a record of temporary installation path
install for x64
* installing *source* package 'beadarray' ...
** libs
C:/Rtools/mingw_64/bin/gcc -I"C:/Users/BIOCBU~1/BBS-3~1.9-B/R/include" -DNDEBUG -I"C:/extsoft/include" -O2 -Wall -std=gnu99 -mtune=generic -c BASH.c -o BASH.o
C:/Rtools/mingw_64/bin/gcc -I"C:/Users/BIOCBU~1/BBS-3~1.9-B/R/include" -DNDEBUG -I"C:/extsoft/include" -O2 -Wall -std=gnu99 -mtune=generic -c HULK.c -o HULK.o
C:/Rtools/mingw_64/bin/gcc -I"C:/Users/BIOCBU~1/BBS-3~1.9-B/R/include" -DNDEBUG -I"C:/extsoft/include" -O2 -Wall -std=gnu99 -mtune=generic -c determiningGridPositions.c -o determiningGridPositions.o
C:/Rtools/mingw_64/bin/gcc -I"C:/Users/BIOCBU~1/BBS-3~1.9-B/R/include" -DNDEBUG -I"C:/extsoft/include" -O2 -Wall -std=gnu99 -mtune=generic -c findAllOutliers.c -o findAllOutliers.o
findAllOutliers.c: In function 'findBeadStatus':
findAllOutliers.c:196:29: warning: 'ma' may be used uninitialized in this function [-Wmaybe-uninitialized]
if((inten[k] < (m + *nmads*ma)) && (inten[k] > (m - *nmads*ma))){
^
findAllOutliers.c:196:53: warning: 'm' may be used uninitialized in this function [-Wmaybe-uninitialized]
if((inten[k] < (m + *nmads*ma)) && (inten[k] > (m - *nmads*ma))){
^
findAllOutliers.c: In function 'findAllOutliers':
findAllOutliers.c:226:20: warning: 'status' may be used uninitialized in this function [-Wmaybe-uninitialized]
beadStatusStruct *status;
^
C:/Rtools/mingw_64/bin/gcc -I"C:/Users/BIOCBU~1/BBS-3~1.9-B/R/include" -DNDEBUG -I"C:/extsoft/include" -O2 -Wall -std=gnu99 -mtune=generic -c imageProcessing.c -o imageProcessing.o
imageProcessing.c: In function 'illuminaBackground':
imageProcessing.c:88:0: warning: ignoring #pragma omp parallel [-Wunknown-pragmas]
#pragma omp parallel shared(nthreads, nbeads, imageHeight, pixelMatrix, coords) private(tid, start, end)
^
imageProcessing.c: In function 'medianBackground':
imageProcessing.c:135:0: warning: ignoring #pragma omp parallel [-Wunknown-pragmas]
#pragma omp parallel shared(nthreads, nbeads, imageHeight, pixelMatrix, coords) private(tid, start, end)
^
imageProcessing.c: In function 'illuminaSharpen':
imageProcessing.c:244:0: warning: ignoring #pragma omp parallel [-Wunknown-pragmas]
#pragma omp parallel for private(i, j) shared(sharpened) num_threads(2)
^
imageProcessing.c:251:0: warning: ignoring #pragma omp parallel [-Wunknown-pragmas]
#pragma omp parallel for private(i, j, sum) shared(sharpened) num_threads(2)
^
C:/Rtools/mingw_64/bin/gcc -shared -s -static-libgcc -o beadarray.dll tmp.def BASH.o HULK.o determiningGridPositions.o findAllOutliers.o imageProcessing.o -LC:/extsoft/lib/x64 -LC:/extsoft/lib -LC:/Users/BIOCBU~1/BBS-3~1.9-B/R/bin/x64 -lR
installing to C:/Users/biocbuild/bbs-3.9-bioc/meat/beadarray.buildbin-libdir/beadarray/libs/x64
** testing if installed package can be loaded
* MD5 sums
packaged installation of 'beadarray' as beadarray_2.34.0.zip
* DONE (beadarray)
* installing to library 'C:/Users/biocbuild/bbs-3.9-bioc/R/library'
package 'beadarray' successfully unpacked and MD5 sums checked
|
beadarray.Rcheck/examples_i386/beadarray-Ex.timings
|
beadarray.Rcheck/examples_x64/beadarray-Ex.timings
|