| Back to Multiple platform build/check report for BioC 3.9 |
|
This page was generated on 2019-10-16 12:45:49 -0400 (Wed, 16 Oct 2019).
| Package 121/1741 | Hostname | OS / Arch | INSTALL | BUILD | CHECK | BUILD BIN | ||||||
| beadarray 2.34.0 Mark Dunning
| malbec2 | Linux (Ubuntu 18.04.2 LTS) / x86_64 | OK | OK | OK | |||||||
| tokay2 | Windows Server 2012 R2 Standard / x64 | OK | OK | OK | OK | |||||||
| celaya2 | OS X 10.11.6 El Capitan / x86_64 | OK | OK | [ OK ] | OK |
| Package: beadarray |
| Version: 2.34.0 |
| Command: /Library/Frameworks/R.framework/Versions/Current/Resources/bin/R CMD check --install=check:beadarray.install-out.txt --library=/Library/Frameworks/R.framework/Versions/Current/Resources/library --no-vignettes --timings beadarray_2.34.0.tar.gz |
| StartedAt: 2019-10-16 00:49:22 -0400 (Wed, 16 Oct 2019) |
| EndedAt: 2019-10-16 00:59:35 -0400 (Wed, 16 Oct 2019) |
| EllapsedTime: 613.4 seconds |
| RetCode: 0 |
| Status: OK |
| CheckDir: beadarray.Rcheck |
| Warnings: 0 |
##############################################################################
##############################################################################
###
### Running command:
###
### /Library/Frameworks/R.framework/Versions/Current/Resources/bin/R CMD check --install=check:beadarray.install-out.txt --library=/Library/Frameworks/R.framework/Versions/Current/Resources/library --no-vignettes --timings beadarray_2.34.0.tar.gz
###
##############################################################################
##############################################################################
* using log directory ‘/Users/biocbuild/bbs-3.9-bioc/meat/beadarray.Rcheck’
* using R version 3.6.1 (2019-07-05)
* using platform: x86_64-apple-darwin15.6.0 (64-bit)
* using session charset: UTF-8
* using option ‘--no-vignettes’
* checking for file ‘beadarray/DESCRIPTION’ ... OK
* this is package ‘beadarray’ version ‘2.34.0’
* checking package namespace information ... OK
* checking package dependencies ... OK
* checking if this is a source package ... OK
* checking if there is a namespace ... OK
* checking for hidden files and directories ... OK
* checking for portable file names ... OK
* checking for sufficient/correct file permissions ... OK
* checking whether package ‘beadarray’ can be installed ... OK
* checking installed package size ... OK
* checking package directory ... OK
* checking ‘build’ directory ... OK
* checking DESCRIPTION meta-information ... OK
* checking top-level files ... OK
* checking for left-over files ... OK
* checking index information ... OK
* checking package subdirectories ... OK
* checking R files for non-ASCII characters ... OK
* checking R files for syntax errors ... OK
* checking whether the package can be loaded ... OK
* checking whether the package can be loaded with stated dependencies ... OK
* checking whether the package can be unloaded cleanly ... OK
* checking whether the namespace can be loaded with stated dependencies ... OK
* checking whether the namespace can be unloaded cleanly ... OK
* checking dependencies in R code ... NOTE
Package in Depends field not imported from: ‘hexbin’
These packages need to be imported from (in the NAMESPACE file)
for when this namespace is loaded but not attached.
Unexported objects imported by ':::' calls:
‘BeadDataPackR:::combineFiles’ ‘BeadDataPackR:::readHeader’
‘Biobase:::assayDataStorageMode’
See the note in ?`:::` about the use of this operator.
* checking S3 generic/method consistency ... OK
* checking replacement functions ... OK
* checking foreign function calls ... NOTE
Foreign function call to a different package:
.Call("roundLocsFileValues", ..., PACKAGE = "BeadDataPackR")
See chapter ‘System and foreign language interfaces’ in the ‘Writing R
Extensions’ manual.
* checking R code for possible problems ... NOTE
combinedControlPlot: no visible binding for global variable ‘Control’
combinedControlPlot: no visible binding for global variable ‘Negative’
combinedControlPlot: no visible binding for global variable ‘ID’
combinedControlPlot: no visible binding for global variable
‘Log2Intensity’
combinedControlPlot: no visible binding for global variable
‘ControlType’
combinedControlPlot: no visible binding for global variable ‘Masked’
createGEOMeta: no visible binding for global variable ‘metaTemplate’
expressionQCPipeline: no visible global function definition for
‘openPage’
expressionQCPipeline: no visible global function definition for
‘hwrite’
expressionQCPipeline: no visible global function definition for
‘hwriteImage’
expressionQCPipeline: no visible global function definition for
‘closePage’
getPlatformSigs: no visible global function definition for
‘lumiHumanIDMapping_dbconn’
getPlatformSigs: no visible global function definition for
‘dbListTables’
getPlatformSigs: no visible global function definition for
‘dbListFields’
getPlatformSigs: no visible global function definition for ‘dbGetQuery’
getPlatformSigs: no visible global function definition for
‘lumiMouseIDMapping_dbconn’
getPlatformSigs: no visible global function definition for
‘lumiRatIDMapping_dbconn’
imageplot: no visible binding for global variable ‘Var1’
imageplot: no visible binding for global variable ‘Var2’
imageplot: no visible binding for global variable ‘value’
makeReport: no visible binding for global variable ‘Nozzle.R1’
makeReport: no visible binding for global variable ‘ggbio’
makeReport: no visible global function definition for ‘newCustomReport’
makeReport: no visible global function definition for ‘newSection’
makeReport: no visible global function definition for ‘newTable’
makeReport: no visible global function definition for ‘newParagraph’
makeReport: no visible global function definition for ‘addTo’
makeReport: no visible global function definition for ‘autoplot’
makeReport: no visible global function definition for ‘plotIdeogram’
makeReport: no visible global function definition for ‘tracks’
makeReport: no visible global function definition for ‘newFigure’
makeReport: no visible binding for global variable ‘IMAGE.TYPE.RASTER’
makeReport: no visible binding for global variable ‘PROTECTION.PUBLIC’
makeReport: no visible binding for global variable ‘value’
makeReport: no visible global function definition for ‘writeReport’
maplots: no visible binding for global variable ‘value.1’
maplots: no visible binding for global variable ‘value’
normaliseIllumina: no visible global function definition for ‘lumiT’
normaliseIllumina: no visible global function definition for
‘normalize.qspline’
normaliseIllumina: no visible global function definition for ‘vsn2’
plotBeadLocations2: no visible global function definition for ‘qplot’
plotBeadLocations2: no visible global function definition for ‘opts’
plotBeadLocations2: no visible global function definition for
‘theme_blank’
plotProbe: no visible global function definition for ‘autoplot’
plotProbe: no visible binding for global variable ‘genesymbol’
plotProbe: no visible global function definition for ‘tracks’
plotProbe: no visible binding for global variable ‘PROBEQUALITY’
rankInvariantNormalise: no visible global function definition for
‘normalize.invariantset’
suggestAnnotation: no visible binding for global variable
‘platformSigs’
suggestAnnotation_Vector: no visible binding for global variable
‘platformSigs’
[,ExpressionSetIllumina-ANY: no visible global function definition for
‘assayDataEnvLock’
boxplot,ExpressionSetIllumina: no visible binding for global variable
‘Var2’
boxplot,ExpressionSetIllumina: no visible binding for global variable
‘value’
plotMA,ExpressionSetIllumina: no visible binding for global variable
‘value.1’
plotMA,ExpressionSetIllumina: no visible binding for global variable
‘value’
Undefined global functions or variables:
Control ControlType ID IMAGE.TYPE.RASTER Log2Intensity Masked
Negative Nozzle.R1 PROBEQUALITY PROTECTION.PUBLIC Var1 Var2 addTo
assayDataEnvLock autoplot closePage dbGetQuery dbListFields
dbListTables genesymbol ggbio hwrite hwriteImage
lumiHumanIDMapping_dbconn lumiMouseIDMapping_dbconn
lumiRatIDMapping_dbconn lumiT metaTemplate newCustomReport newFigure
newParagraph newSection newTable normalize.invariantset
normalize.qspline openPage opts platformSigs plotIdeogram qplot
theme_blank tracks value value.1 vsn2 writeReport
* checking Rd files ... OK
* checking Rd metadata ... OK
* checking Rd cross-references ... OK
* checking for missing documentation entries ... OK
* checking for code/documentation mismatches ... OK
* checking Rd \usage sections ... OK
* checking Rd contents ... OK
* checking for unstated dependencies in examples ... OK
* checking contents of ‘data’ directory ... OK
* checking data for non-ASCII characters ... OK
* checking data for ASCII and uncompressed saves ... OK
* checking line endings in C/C++/Fortran sources/headers ... OK
* checking compiled code ... NOTE
Note: information on .o files is not available
* checking sizes of PDF files under ‘inst/doc’ ... OK
* checking files in ‘vignettes’ ... OK
* checking examples ... OK
Examples with CPU or elapsed time > 5s
user system elapsed
squeezedVarOutlierMethod 58.409 1.178 60.149
summarize 34.039 5.618 40.050
limmaDE 36.140 0.894 37.721
normaliseIllumina 19.967 2.279 22.257
outlierplot 18.463 1.583 20.149
calculateDetection 17.431 2.146 19.577
calculateOutlierStats 16.176 2.639 18.816
controlProbeDetection 12.824 1.401 14.329
insertSectionData 11.795 2.245 14.701
identifyControlBeads 12.632 0.659 14.353
makeQCTable 10.538 1.930 12.470
poscontPlot 10.512 0.993 11.526
maplots 6.894 2.975 9.869
imageplot 8.562 1.220 9.984
showArrayMask 8.088 1.556 9.762
quickSummary 8.284 1.151 9.449
addFeatureData 8.789 0.641 9.477
annotationInterface 7.928 1.100 9.034
transformationFunctions 4.477 0.998 5.478
plotBeadIntensities 4.494 0.931 5.432
insertBeadData 4.551 0.769 5.319
illuminaOutlierMethod 4.430 0.790 5.259
combine 4.266 0.899 5.167
* checking for unstated dependencies in vignettes ... OK
* checking package vignettes in ‘inst/doc’ ... OK
* checking running R code from vignettes ... SKIPPED
* checking re-building of vignette outputs ... SKIPPED
* checking PDF version of manual ... OK
* DONE
Status: 4 NOTEs
See
‘/Users/biocbuild/bbs-3.9-bioc/meat/beadarray.Rcheck/00check.log’
for details.
beadarray.Rcheck/00install.out
############################################################################## ############################################################################## ### ### Running command: ### ### /Library/Frameworks/R.framework/Versions/Current/Resources/bin/R CMD INSTALL beadarray ### ############################################################################## ############################################################################## * installing to library ‘/Library/Frameworks/R.framework/Versions/3.6/Resources/library’ * installing *source* package ‘beadarray’ ... ** using staged installation ** libs clang -I"/Library/Frameworks/R.framework/Resources/include" -DNDEBUG -isysroot /Library/Developer/CommandLineTools/SDKs/MacOSX.sdk -I/usr/local/include -fPIC -Wall -g -O2 -c BASH.c -o BASH.o clang -I"/Library/Frameworks/R.framework/Resources/include" -DNDEBUG -isysroot /Library/Developer/CommandLineTools/SDKs/MacOSX.sdk -I/usr/local/include -fPIC -Wall -g -O2 -c HULK.c -o HULK.o clang -I"/Library/Frameworks/R.framework/Resources/include" -DNDEBUG -isysroot /Library/Developer/CommandLineTools/SDKs/MacOSX.sdk -I/usr/local/include -fPIC -Wall -g -O2 -c determiningGridPositions.c -o determiningGridPositions.o clang -I"/Library/Frameworks/R.framework/Resources/include" -DNDEBUG -isysroot /Library/Developer/CommandLineTools/SDKs/MacOSX.sdk -I/usr/local/include -fPIC -Wall -g -O2 -c findAllOutliers.c -o findAllOutliers.o clang -I"/Library/Frameworks/R.framework/Resources/include" -DNDEBUG -isysroot /Library/Developer/CommandLineTools/SDKs/MacOSX.sdk -I/usr/local/include -fPIC -Wall -g -O2 -c imageProcessing.c -o imageProcessing.o clang -dynamiclib -Wl,-headerpad_max_install_names -undefined dynamic_lookup -single_module -multiply_defined suppress -L/Library/Frameworks/R.framework/Resources/lib -L/usr/local/lib -o beadarray.so BASH.o HULK.o determiningGridPositions.o findAllOutliers.o imageProcessing.o -F/Library/Frameworks/R.framework/.. -framework R -Wl,-framework -Wl,CoreFoundation installing to /Library/Frameworks/R.framework/Versions/3.6/Resources/library/00LOCK-beadarray/00new/beadarray/libs ** R ** data *** moving datasets to lazyload DB ** inst ** byte-compile and prepare package for lazy loading ** help *** installing help indices ** building package indices ** installing vignettes ** testing if installed package can be loaded from temporary location ** checking absolute paths in shared objects and dynamic libraries ** testing if installed package can be loaded from final location ** testing if installed package keeps a record of temporary installation path * DONE (beadarray)
beadarray.Rcheck/beadarray-Ex.timings
| name | user | system | elapsed | |
| BASH | 0.001 | 0.001 | 0.002 | |
| BASHCompact | 0.001 | 0.000 | 0.001 | |
| BASHDiffuse | 0.001 | 0.001 | 0.001 | |
| BASHExtended | 0 | 0 | 0 | |
| GEO | 0.000 | 0.000 | 0.001 | |
| GEOtemplate | 0.005 | 0.002 | 0.007 | |
| HULK | 0.001 | 0.000 | 0.001 | |
| addFeatureData | 8.789 | 0.641 | 9.477 | |
| annotationInterface | 7.928 | 1.100 | 9.034 | |
| backgroundCorrectSingleSection | 0.000 | 0.000 | 0.001 | |
| beadarrayUsersGuide | 0.003 | 0.000 | 0.004 | |
| boxplot | 4.282 | 0.406 | 4.689 | |
| calculateDetection | 17.431 | 2.146 | 19.577 | |
| calculateOutlierStats | 16.176 | 2.639 | 18.816 | |
| class-beadLevelData | 3.328 | 0.565 | 3.892 | |
| class-illuminaChannel | 0.005 | 0.001 | 0.006 | |
| combine | 4.266 | 0.899 | 5.167 | |
| controlProbeDetection | 12.824 | 1.401 | 14.329 | |
| createTargetsFile | 0 | 0 | 0 | |
| expressionQCPipeline | 0.044 | 0.002 | 0.053 | |
| generateNeighbours | 0.000 | 0.001 | 0.001 | |
| getBeadData | 3.616 | 0.627 | 4.458 | |
| identifyControlBeads | 12.632 | 0.659 | 14.353 | |
| illuminaOutlierMethod | 4.430 | 0.790 | 5.259 | |
| imageplot | 8.562 | 1.220 | 9.984 | |
| insertBeadData | 4.551 | 0.769 | 5.319 | |
| insertSectionData | 11.795 | 2.245 | 14.701 | |
| limmaDE | 36.140 | 0.894 | 37.721 | |
| makeControlProfile | 0.624 | 0.019 | 0.643 | |
| makeQCTable | 10.538 | 1.930 | 12.470 | |
| maplots | 6.894 | 2.975 | 9.869 | |
| medianNormalise | 2.157 | 0.280 | 2.518 | |
| metrics | 2.273 | 0.362 | 2.635 | |
| noOutlierMethod | 2.607 | 0.261 | 2.871 | |
| normaliseIllumina | 19.967 | 2.279 | 22.257 | |
| numBeads | 2.695 | 0.455 | 3.151 | |
| outlierplot | 18.463 | 1.583 | 20.149 | |
| plotBeadIntensities | 4.494 | 0.931 | 5.432 | |
| plotBeadLocations | 3.801 | 0.570 | 4.372 | |
| plotChipLayout | 0.000 | 0.000 | 0.001 | |
| plotMAXY | 0 | 0 | 0 | |
| poscontPlot | 10.512 | 0.993 | 11.526 | |
| quickSummary | 8.284 | 1.151 | 9.449 | |
| readBeadSummaryData | 0.001 | 0.000 | 0.001 | |
| sectionNames | 2.780 | 0.318 | 3.101 | |
| showArrayMask | 8.088 | 1.556 | 9.762 | |
| squeezedVarOutlierMethod | 58.409 | 1.178 | 60.149 | |
| summarize | 34.039 | 5.618 | 40.050 | |
| transformationFunctions | 4.477 | 0.998 | 5.478 | |
| weightsOutlierMethod | 0.000 | 0.000 | 0.001 | |