| Back to Multiple platform build/check report for BioC 3.9 |
|
This page was generated on 2019-10-16 12:34:18 -0400 (Wed, 16 Oct 2019).
| Package 1616/1741 | Hostname | OS / Arch | INSTALL | BUILD | CHECK | BUILD BIN | ||||||
| SWATH2stats 1.14.0 Peter Blattmann
| malbec2 | Linux (Ubuntu 18.04.2 LTS) / x86_64 | OK | OK | OK | |||||||
| tokay2 | Windows Server 2012 R2 Standard / x64 | OK | OK | OK | [ OK ] | |||||||
| celaya2 | OS X 10.11.6 El Capitan / x86_64 | OK | OK | OK | OK |
| Package: SWATH2stats |
| Version: 1.14.0 |
| Command: rm -rf SWATH2stats.buildbin-libdir && mkdir SWATH2stats.buildbin-libdir && C:\Users\biocbuild\bbs-3.9-bioc\R\bin\R.exe CMD INSTALL --merge-multiarch --build --library=SWATH2stats.buildbin-libdir SWATH2stats_1.14.0.tar.gz |
| StartedAt: 2019-10-16 10:19:43 -0400 (Wed, 16 Oct 2019) |
| EndedAt: 2019-10-16 10:20:41 -0400 (Wed, 16 Oct 2019) |
| EllapsedTime: 58.4 seconds |
| RetCode: 0 |
| Status: OK |
| PackageFile: SWATH2stats_1.14.0.zip |
| PackageFileSize: 3.146 MiB |
##############################################################################
##############################################################################
###
### Running command:
###
### rm -rf SWATH2stats.buildbin-libdir && mkdir SWATH2stats.buildbin-libdir && C:\Users\biocbuild\bbs-3.9-bioc\R\bin\R.exe CMD INSTALL --merge-multiarch --build --library=SWATH2stats.buildbin-libdir SWATH2stats_1.14.0.tar.gz
###
##############################################################################
##############################################################################
install for i386
* installing *source* package 'SWATH2stats' ...
** using staged installation
** R
** data
** inst
** byte-compile and prepare package for lazy loading
** help
*** installing help indices
converting help for package 'SWATH2stats'
finding HTML links ... done
JPP_update html
MSstats_data html
OpenSWATH_data html
SWATH2stats-package html
Spyogenes html
Study_design html
add_genesymbol html
assess_decoy_rate html
assess_fdr_byrun html
assess_fdr_overall html
convert4MSstats html
convert4PECA html
convert4aLFQ html
convert4mapDIA html
convert4pythonscript html
convert_protein_ids html
count_analytes html
disaggregate html
filter_all_peptides html
filter_mscore_all html
filter_mscore_fdr html
filter_on_max_peptides html
filter_on_min_peptides html
filter_proteotypic_peptides html
import_data html
load_mart html
mscore4assayfdr html
mscore4pepfdr html
mscore4protfdr html
plot.fdr_cube html
plot.fdr_table html
plot_correlation_between_samples html
plot_variation html
plot_variation_vs_total html
reduce_OpenSWATH_output html
removeDecoyProteins html
sample_annotation html
transform_MSstats_OpenSWATH html
unifyProteinGroupLabels html
write_matrix_peptides html
write_matrix_proteins html
** building package indices
** installing vignettes
** testing if installed package can be loaded from temporary location
** testing if installed package can be loaded from final location
** testing if installed package keeps a record of temporary installation path
install for x64
* installing *source* package 'SWATH2stats' ...
** testing if installed package can be loaded
* MD5 sums
packaged installation of 'SWATH2stats' as SWATH2stats_1.14.0.zip
* DONE (SWATH2stats)