| Back to Multiple platform build/check report for BioC 3.9 |
|
This page was generated on 2019-10-16 12:56:34 -0400 (Wed, 16 Oct 2019).
| Package 1616/1741 | Hostname | OS / Arch | INSTALL | BUILD | CHECK | BUILD BIN | ||||||
| SWATH2stats 1.14.0 Peter Blattmann
| malbec2 | Linux (Ubuntu 18.04.2 LTS) / x86_64 | OK | OK | OK | |||||||
| tokay2 | Windows Server 2012 R2 Standard / x64 | OK | OK | OK | OK | |||||||
| celaya2 | OS X 10.11.6 El Capitan / x86_64 | OK | [ OK ] | OK | OK |
| Package: SWATH2stats |
| Version: 1.14.0 |
| Command: /Library/Frameworks/R.framework/Versions/Current/Resources/bin/R CMD build --keep-empty-dirs --no-resave-data SWATH2stats |
| StartedAt: 2019-10-15 21:58:30 -0400 (Tue, 15 Oct 2019) |
| EndedAt: 2019-10-15 21:59:33 -0400 (Tue, 15 Oct 2019) |
| EllapsedTime: 63.3 seconds |
| RetCode: 0 |
| Status: OK |
| PackageFile: SWATH2stats_1.14.0.tar.gz |
| PackageFileSize: 2.974 MiB |
############################################################################## ############################################################################## ### ### Running command: ### ### /Library/Frameworks/R.framework/Versions/Current/Resources/bin/R CMD build --keep-empty-dirs --no-resave-data SWATH2stats ### ############################################################################## ############################################################################## * checking for file ‘SWATH2stats/DESCRIPTION’ ... OK * preparing ‘SWATH2stats’: * checking DESCRIPTION meta-information ... OK * installing the package to build vignettes * creating vignettes ... OK * checking for LF line-endings in source and make files and shell scripts * checking for empty or unneeded directories * looking to see if a ‘data/datalist’ file should be added * building ‘SWATH2stats_1.14.0.tar.gz’