| Back to Multiple platform build/check report for BioC 3.9 |
|
This page was generated on 2019-10-16 12:35:15 -0400 (Wed, 16 Oct 2019).
| Package 1187/1741 | Hostname | OS / Arch | INSTALL | BUILD | CHECK | BUILD BIN | ||||||
| PCAN 1.12.0 Matthew Page
| malbec2 | Linux (Ubuntu 18.04.2 LTS) / x86_64 | OK | OK | OK | |||||||
| tokay2 | Windows Server 2012 R2 Standard / x64 | OK | OK | OK | [ OK ] | |||||||
| celaya2 | OS X 10.11.6 El Capitan / x86_64 | OK | OK | OK | OK |
| Package: PCAN |
| Version: 1.12.0 |
| Command: rm -rf PCAN.buildbin-libdir && mkdir PCAN.buildbin-libdir && C:\Users\biocbuild\bbs-3.9-bioc\R\bin\R.exe CMD INSTALL --merge-multiarch --build --library=PCAN.buildbin-libdir PCAN_1.12.0.tar.gz |
| StartedAt: 2019-10-16 09:52:25 -0400 (Wed, 16 Oct 2019) |
| EndedAt: 2019-10-16 09:53:15 -0400 (Wed, 16 Oct 2019) |
| EllapsedTime: 50.3 seconds |
| RetCode: 0 |
| Status: OK |
| PackageFile: PCAN_1.12.0.zip |
| PackageFileSize: 2.262 MiB |
##############################################################################
##############################################################################
###
### Running command:
###
### rm -rf PCAN.buildbin-libdir && mkdir PCAN.buildbin-libdir && C:\Users\biocbuild\bbs-3.9-bioc\R\bin\R.exe CMD INSTALL --merge-multiarch --build --library=PCAN.buildbin-libdir PCAN_1.12.0.tar.gz
###
##############################################################################
##############################################################################
install for i386
* installing *source* package 'PCAN' ...
** using staged installation
** R
** data
** inst
** byte-compile and prepare package for lazy loading
** help
*** installing help indices
converting help for package 'PCAN'
finding HTML links ... done
calcHpSim html
compareHPSets html
finding level-2 HTML links ... done
computeHpIC html
geneByHp html
geneByTrait html
geneDef html
hpByTrait html
hpDef html
hpGeneHeatmap html
hpGeneListComp html
hpSetCompBestMatch html
hpSetCompSummary html
hp_ancestors html
hp_class html
hp_descendants html
hqStrNw html
hsEntrezByRPath html
rPath html
traitDef html
** building package indices
** installing vignettes
** testing if installed package can be loaded from temporary location
** testing if installed package can be loaded from final location
** testing if installed package keeps a record of temporary installation path
install for x64
* installing *source* package 'PCAN' ...
** testing if installed package can be loaded
* MD5 sums
packaged installation of 'PCAN' as PCAN_1.12.0.zip
* DONE (PCAN)