| Back to Multiple platform build/check report for BioC 3.9 |
|
This page was generated on 2019-10-16 12:57:26 -0400 (Wed, 16 Oct 2019).
| Package 1187/1741 | Hostname | OS / Arch | INSTALL | BUILD | CHECK | BUILD BIN | ||||||
| PCAN 1.12.0 Matthew Page
| malbec2 | Linux (Ubuntu 18.04.2 LTS) / x86_64 | OK | OK | OK | |||||||
| tokay2 | Windows Server 2012 R2 Standard / x64 | OK | OK | OK | OK | |||||||
| celaya2 | OS X 10.11.6 El Capitan / x86_64 | OK | [ OK ] | OK | OK |
| Package: PCAN |
| Version: 1.12.0 |
| Command: /Library/Frameworks/R.framework/Versions/Current/Resources/bin/R CMD build --keep-empty-dirs --no-resave-data PCAN |
| StartedAt: 2019-10-15 22:13:14 -0400 (Tue, 15 Oct 2019) |
| EndedAt: 2019-10-15 22:15:08 -0400 (Tue, 15 Oct 2019) |
| EllapsedTime: 114.5 seconds |
| RetCode: 0 |
| Status: OK |
| PackageFile: PCAN_1.12.0.tar.gz |
| PackageFileSize: 2.655 MiB |
############################################################################## ############################################################################## ### ### Running command: ### ### /Library/Frameworks/R.framework/Versions/Current/Resources/bin/R CMD build --keep-empty-dirs --no-resave-data PCAN ### ############################################################################## ############################################################################## * checking for file ‘PCAN/DESCRIPTION’ ... OK * preparing ‘PCAN’: * checking DESCRIPTION meta-information ... OK * installing the package to build vignettes * creating vignettes ... OK * checking for LF line-endings in source and make files and shell scripts * checking for empty or unneeded directories * looking to see if a ‘data/datalist’ file should be added * building ‘PCAN_1.12.0.tar.gz’