| Back to Multiple platform build/check report for BioC 3.9 | 
  | 
This page was generated on 2019-10-16 12:19:29 -0400 (Wed, 16 Oct 2019).
| Package 1024/1741 | Hostname | OS / Arch | INSTALL | BUILD | CHECK | BUILD BIN | ||||||
| MLInterfaces 1.64.1 V. Carey 
  | malbec2 | Linux (Ubuntu 18.04.2 LTS) / x86_64 | OK | OK | OK | |||||||
| tokay2 | Windows Server 2012 R2 Standard / x64 | [ OK ] | OK | OK | OK | |||||||
| celaya2 | OS X 10.11.6 El Capitan / x86_64 | OK | OK | OK | OK | 
| Package: MLInterfaces | 
| Version: 1.64.1 | 
| Command: C:\cygwin\bin\curl.exe -O https://malbec2.bioconductor.org/BBS/3.9/bioc/src/contrib/MLInterfaces_1.64.1.tar.gz && rm -rf MLInterfaces.buildbin-libdir && mkdir MLInterfaces.buildbin-libdir && C:\Users\biocbuild\bbs-3.9-bioc\R\bin\R.exe CMD INSTALL --merge-multiarch --build --library=MLInterfaces.buildbin-libdir MLInterfaces_1.64.1.tar.gz && C:\Users\biocbuild\bbs-3.9-bioc\R\bin\R.exe CMD INSTALL MLInterfaces_1.64.1.zip && rm MLInterfaces_1.64.1.tar.gz MLInterfaces_1.64.1.zip | 
| StartedAt: 2019-10-15 21:09:44 -0400 (Tue, 15 Oct 2019) | 
| EndedAt: 2019-10-15 21:11:04 -0400 (Tue, 15 Oct 2019) | 
| EllapsedTime: 80.0 seconds | 
| RetCode: 0 | 
| Status: OK | 
##############################################################################
##############################################################################
###
### Running command:
###
###   C:\cygwin\bin\curl.exe -O https://malbec2.bioconductor.org/BBS/3.9/bioc/src/contrib/MLInterfaces_1.64.1.tar.gz && rm -rf MLInterfaces.buildbin-libdir && mkdir MLInterfaces.buildbin-libdir && C:\Users\biocbuild\bbs-3.9-bioc\R\bin\R.exe CMD INSTALL --merge-multiarch --build --library=MLInterfaces.buildbin-libdir MLInterfaces_1.64.1.tar.gz && C:\Users\biocbuild\bbs-3.9-bioc\R\bin\R.exe CMD INSTALL MLInterfaces_1.64.1.zip && rm MLInterfaces_1.64.1.tar.gz MLInterfaces_1.64.1.zip
###
##############################################################################
##############################################################################
  % Total    % Received % Xferd  Average Speed   Time    Time     Time  Current
                                 Dload  Upload   Total   Spent    Left  Speed
  0     0    0     0    0     0      0      0 --:--:-- --:--:-- --:--:--     0
100  205k  100  205k    0     0  3064k      0 --:--:-- --:--:-- --:--:-- 3427k
install for i386
* installing *source* package 'MLInterfaces' ...
** using staged installation
** R
** inst
** byte-compile and prepare package for lazy loading
** help
*** installing help indices
  converting help for package 'MLInterfaces'
    finding HTML links ... done
    MLIntInternals                          html  
    MLearn-new                              html  
    RAB                                     html  
    balKfold.xvspec                         html  
    classifierOutput-class                  html  
    clusteringOutput-class                  html  
    confuMat-methods                        html  
    confuTab                                html  
    fs.absT                                 html  
    fsHistory                               html  
    hclustWidget                            html  
    finding level-2 HTML links ... done
    learnerSchema-class                     html  
    performance-analytics                   html  
    planarPlot-methods                      html  
    plspinHcube                             html  
    predict.classifierOutput                html  
    projectLearnerToGrid                    html  
    projectedLearner-class                  html  
    raboostCont-class                       html  
    varImpStruct-class                      html  
    xvalLoop                                html  
    xvalSpec                                html  
** building package indices
** installing vignettes
** testing if installed package can be loaded from temporary location
** testing if installed package can be loaded from final location
** testing if installed package keeps a record of temporary installation path
install for x64
* installing *source* package 'MLInterfaces' ...
** testing if installed package can be loaded
* MD5 sums
packaged installation of 'MLInterfaces' as MLInterfaces_1.64.1.zip
* DONE (MLInterfaces)
* installing to library 'C:/Users/biocbuild/bbs-3.9-bioc/R/library'
package 'MLInterfaces' successfully unpacked and MD5 sums checked