| Back to Multiple platform build/check report for BioC 3.9 |
|
This page was generated on 2019-10-16 12:42:58 -0400 (Wed, 16 Oct 2019).
| Package 836/1741 | Hostname | OS / Arch | INSTALL | BUILD | CHECK | BUILD BIN | ||||||
| IsoCorrectoRGUI 1.0.2 Christian Kohler
| malbec2 | Linux (Ubuntu 18.04.2 LTS) / x86_64 | OK | OK | OK | |||||||
| tokay2 | Windows Server 2012 R2 Standard / x64 | [ OK ] | OK | OK | OK | |||||||
| celaya2 | OS X 10.11.6 El Capitan / x86_64 | OK | OK | OK | OK |
| Package: IsoCorrectoRGUI |
| Version: 1.0.2 |
| Command: C:\cygwin\bin\curl.exe -O https://malbec2.bioconductor.org/BBS/3.9/bioc/src/contrib/IsoCorrectoRGUI_1.0.2.tar.gz && rm -rf IsoCorrectoRGUI.buildbin-libdir && mkdir IsoCorrectoRGUI.buildbin-libdir && C:\Users\biocbuild\bbs-3.9-bioc\R\bin\R.exe CMD INSTALL --merge-multiarch --build --library=IsoCorrectoRGUI.buildbin-libdir IsoCorrectoRGUI_1.0.2.tar.gz && C:\Users\biocbuild\bbs-3.9-bioc\R\bin\R.exe CMD INSTALL IsoCorrectoRGUI_1.0.2.zip && rm IsoCorrectoRGUI_1.0.2.tar.gz IsoCorrectoRGUI_1.0.2.zip |
| StartedAt: 2019-10-15 19:20:50 -0400 (Tue, 15 Oct 2019) |
| EndedAt: 2019-10-15 19:21:41 -0400 (Tue, 15 Oct 2019) |
| EllapsedTime: 50.1 seconds |
| RetCode: 0 |
| Status: OK |
##############################################################################
##############################################################################
###
### Running command:
###
### C:\cygwin\bin\curl.exe -O https://malbec2.bioconductor.org/BBS/3.9/bioc/src/contrib/IsoCorrectoRGUI_1.0.2.tar.gz && rm -rf IsoCorrectoRGUI.buildbin-libdir && mkdir IsoCorrectoRGUI.buildbin-libdir && C:\Users\biocbuild\bbs-3.9-bioc\R\bin\R.exe CMD INSTALL --merge-multiarch --build --library=IsoCorrectoRGUI.buildbin-libdir IsoCorrectoRGUI_1.0.2.tar.gz && C:\Users\biocbuild\bbs-3.9-bioc\R\bin\R.exe CMD INSTALL IsoCorrectoRGUI_1.0.2.zip && rm IsoCorrectoRGUI_1.0.2.tar.gz IsoCorrectoRGUI_1.0.2.zip
###
##############################################################################
##############################################################################
% Total % Received % Xferd Average Speed Time Time Time Current
Dload Upload Total Spent Left Speed
0 0 0 0 0 0 0 0 --:--:-- --:--:-- --:--:-- 0
100 202k 100 202k 0 0 3353k 0 --:--:-- --:--:-- --:--:-- 3759k
install for i386
* installing *source* package 'IsoCorrectoRGUI' ...
** using staged installation
** R
** inst
** byte-compile and prepare package for lazy loading
** help
*** installing help indices
converting help for package 'IsoCorrectoRGUI'
finding HTML links ... done
GetGUIstatus html
IsoCorrectionGUI html
** building package indices
** installing vignettes
** testing if installed package can be loaded from temporary location
** testing if installed package can be loaded from final location
** testing if installed package keeps a record of temporary installation path
install for x64
* installing *source* package 'IsoCorrectoRGUI' ...
** testing if installed package can be loaded
* MD5 sums
packaged installation of 'IsoCorrectoRGUI' as IsoCorrectoRGUI_1.0.2.zip
* DONE (IsoCorrectoRGUI)
* installing to library 'C:/Users/biocbuild/bbs-3.9-bioc/R/library'
package 'IsoCorrectoRGUI' successfully unpacked and MD5 sums checked