| Back to Multiple platform build/check report for BioC 3.9 |
|
This page was generated on 2019-10-16 13:03:53 -0400 (Wed, 16 Oct 2019).
| Package 836/1741 | Hostname | OS / Arch | INSTALL | BUILD | CHECK | BUILD BIN | ||||||
| IsoCorrectoRGUI 1.0.2 Christian Kohler
| malbec2 | Linux (Ubuntu 18.04.2 LTS) / x86_64 | OK | OK | OK | |||||||
| tokay2 | Windows Server 2012 R2 Standard / x64 | OK | OK | OK | OK | |||||||
| celaya2 | OS X 10.11.6 El Capitan / x86_64 | OK | OK | [ OK ] | OK |
| Package: IsoCorrectoRGUI |
| Version: 1.0.2 |
| Command: /Library/Frameworks/R.framework/Versions/Current/Resources/bin/R CMD check --install=check:IsoCorrectoRGUI.install-out.txt --library=/Library/Frameworks/R.framework/Versions/Current/Resources/library --no-vignettes --timings IsoCorrectoRGUI_1.0.2.tar.gz |
| StartedAt: 2019-10-16 03:57:04 -0400 (Wed, 16 Oct 2019) |
| EndedAt: 2019-10-16 03:58:06 -0400 (Wed, 16 Oct 2019) |
| EllapsedTime: 62.0 seconds |
| RetCode: 0 |
| Status: OK |
| CheckDir: IsoCorrectoRGUI.Rcheck |
| Warnings: 0 |
############################################################################## ############################################################################## ### ### Running command: ### ### /Library/Frameworks/R.framework/Versions/Current/Resources/bin/R CMD check --install=check:IsoCorrectoRGUI.install-out.txt --library=/Library/Frameworks/R.framework/Versions/Current/Resources/library --no-vignettes --timings IsoCorrectoRGUI_1.0.2.tar.gz ### ############################################################################## ############################################################################## * using log directory ‘/Users/biocbuild/bbs-3.9-bioc/meat/IsoCorrectoRGUI.Rcheck’ * using R version 3.6.1 (2019-07-05) * using platform: x86_64-apple-darwin15.6.0 (64-bit) * using session charset: UTF-8 * using option ‘--no-vignettes’ * checking for file ‘IsoCorrectoRGUI/DESCRIPTION’ ... OK * this is package ‘IsoCorrectoRGUI’ version ‘1.0.2’ * checking package namespace information ... OK * checking package dependencies ... OK * checking if this is a source package ... OK * checking if there is a namespace ... OK * checking for hidden files and directories ... OK * checking for portable file names ... OK * checking for sufficient/correct file permissions ... OK * checking whether package ‘IsoCorrectoRGUI’ can be installed ... OK * checking installed package size ... OK * checking package directory ... OK * checking ‘build’ directory ... OK * checking DESCRIPTION meta-information ... OK * checking top-level files ... OK * checking for left-over files ... OK * checking index information ... OK * checking package subdirectories ... OK * checking R files for non-ASCII characters ... OK * checking R files for syntax errors ... OK * checking whether the package can be loaded ... OK * checking whether the package can be loaded with stated dependencies ... OK * checking whether the package can be unloaded cleanly ... OK * checking whether the namespace can be loaded with stated dependencies ... OK * checking whether the namespace can be unloaded cleanly ... OK * checking dependencies in R code ... OK * checking S3 generic/method consistency ... OK * checking replacement functions ... OK * checking foreign function calls ... OK * checking R code for possible problems ... OK * checking Rd files ... OK * checking Rd metadata ... OK * checking Rd cross-references ... OK * checking for missing documentation entries ... OK * checking for code/documentation mismatches ... OK * checking Rd \usage sections ... OK * checking Rd contents ... OK * checking for unstated dependencies in examples ... OK * checking files in ‘vignettes’ ... OK * checking examples ... OK * checking for unstated dependencies in ‘tests’ ... OK * checking tests ... Running ‘testthat.R’ OK * checking for unstated dependencies in vignettes ... OK * checking package vignettes in ‘inst/doc’ ... OK * checking running R code from vignettes ... SKIPPED * checking re-building of vignette outputs ... SKIPPED * checking PDF version of manual ... OK * DONE Status: OK
IsoCorrectoRGUI.Rcheck/00install.out
############################################################################## ############################################################################## ### ### Running command: ### ### /Library/Frameworks/R.framework/Versions/Current/Resources/bin/R CMD INSTALL IsoCorrectoRGUI ### ############################################################################## ############################################################################## * installing to library ‘/Library/Frameworks/R.framework/Versions/3.6/Resources/library’ * installing *source* package ‘IsoCorrectoRGUI’ ... ** using staged installation ** R ** inst ** byte-compile and prepare package for lazy loading ** help *** installing help indices ** building package indices ** installing vignettes ** testing if installed package can be loaded from temporary location ** testing if installed package can be loaded from final location ** testing if installed package keeps a record of temporary installation path * DONE (IsoCorrectoRGUI)
IsoCorrectoRGUI.Rcheck/tests/testthat.Rout
R version 3.6.1 (2019-07-05) -- "Action of the Toes"
Copyright (C) 2019 The R Foundation for Statistical Computing
Platform: x86_64-apple-darwin15.6.0 (64-bit)
R is free software and comes with ABSOLUTELY NO WARRANTY.
You are welcome to redistribute it under certain conditions.
Type 'license()' or 'licence()' for distribution details.
R is a collaborative project with many contributors.
Type 'contributors()' for more information and
'citation()' on how to cite R or R packages in publications.
Type 'demo()' for some demos, 'help()' for on-line help, or
'help.start()' for an HTML browser interface to help.
Type 'q()' to quit R.
> library(testthat)
> library(IsoCorrectoRGUI)
IsoCorrectoRGUI v1.0.2
For help, type browseVignettes('IsoCorrectoRGUI') to view the IsoCorrectoRGUI documentation or ?IsoCorrectionGUI
to view the documentation of the IsoCorrectionGUI() function.
IsoCorrectoRGUI is licensed under GPL-3. It is free software and comes without any warranty.
If you use IsoCorrectoRGUI in published research, please cite:
Paul Heinrich, Christian Kohler et al.
Correction for natural isotope abundance and tracer impurity in MS-, MS/MS- and high-resolution multiple-tracer-data from stable isotope labeling experiments using IsoCorrectoR (Scientific reports, 2018)
>
> test_check("IsoCorrectoRGUI")
══ testthat results ═══════════════════════════════════════════════════════════
[ OK: 4 | SKIPPED: 0 | WARNINGS: 0 | FAILED: 0 ]
>
> proc.time()
user system elapsed
2.786 0.704 3.536
IsoCorrectoRGUI.Rcheck/IsoCorrectoRGUI-Ex.timings
| name | user | system | elapsed | |
| GetGUIstatus | 0.001 | 0.000 | 0.001 | |
| IsoCorrectionGUI | 0.152 | 0.032 | 0.197 | |