| Back to Multiple platform build/check report for BioC 3.9 |
|
This page was generated on 2019-10-16 12:36:31 -0400 (Wed, 16 Oct 2019).
| Package 209/1741 | Hostname | OS / Arch | INSTALL | BUILD | CHECK | BUILD BIN | ||||||
| CancerSubtypes 1.10.0 Taosheng Xu
| malbec2 | Linux (Ubuntu 18.04.2 LTS) / x86_64 | OK | OK | OK | |||||||
| tokay2 | Windows Server 2012 R2 Standard / x64 | OK | [ OK ] | OK | OK | |||||||
| celaya2 | OS X 10.11.6 El Capitan / x86_64 | OK | OK | OK | OK |
| Package: CancerSubtypes |
| Version: 1.10.0 |
| Command: chmod a+r CancerSubtypes -R && C:\Users\biocbuild\bbs-3.9-bioc\R\bin\R.exe CMD build --keep-empty-dirs --no-resave-data CancerSubtypes |
| StartedAt: 2019-10-16 00:09:22 -0400 (Wed, 16 Oct 2019) |
| EndedAt: 2019-10-16 00:12:17 -0400 (Wed, 16 Oct 2019) |
| EllapsedTime: 175.8 seconds |
| RetCode: 0 |
| Status: OK |
| PackageFile: CancerSubtypes_1.10.0.tar.gz |
| PackageFileSize: 1.44 MiB |
##############################################################################
##############################################################################
###
### Running command:
###
### chmod a+r CancerSubtypes -R && C:\Users\biocbuild\bbs-3.9-bioc\R\bin\R.exe CMD build --keep-empty-dirs --no-resave-data CancerSubtypes
###
##############################################################################
##############################################################################
* checking for file 'CancerSubtypes/DESCRIPTION' ... OK
* preparing 'CancerSubtypes':
* checking DESCRIPTION meta-information ... OK
* installing the package to build vignettes
* creating vignettes ... OK
Warning: 'inst/doc' files
'CancerSubtypes-vignette.Rmd', 'CancerSubtypes-vignette.html', 'CancerSubtypes-vignette.R'
ignored as vignettes have been rebuilt.
Run R CMD build with --no-build-vignettes to prevent rebuilding.
* checking for LF line-endings in source and make files and shell scripts
* checking for empty or unneeded directories
* looking to see if a 'data/datalist' file should be added
* building 'CancerSubtypes_1.10.0.tar.gz'