| Back to Multiple platform build/check report for BioC 3.9 |
|
This page was generated on 2019-10-16 12:36:31 -0400 (Wed, 16 Oct 2019).
| Package 209/1741 | Hostname | OS / Arch | INSTALL | BUILD | CHECK | BUILD BIN | ||||||
| CancerSubtypes 1.10.0 Taosheng Xu
| malbec2 | Linux (Ubuntu 18.04.2 LTS) / x86_64 | OK | OK | OK | |||||||
| tokay2 | Windows Server 2012 R2 Standard / x64 | OK | OK | OK | [ OK ] | |||||||
| celaya2 | OS X 10.11.6 El Capitan / x86_64 | OK | OK | OK | OK |
| Package: CancerSubtypes |
| Version: 1.10.0 |
| Command: rm -rf CancerSubtypes.buildbin-libdir && mkdir CancerSubtypes.buildbin-libdir && C:\Users\biocbuild\bbs-3.9-bioc\R\bin\R.exe CMD INSTALL --merge-multiarch --build --library=CancerSubtypes.buildbin-libdir CancerSubtypes_1.10.0.tar.gz |
| StartedAt: 2019-10-16 08:50:12 -0400 (Wed, 16 Oct 2019) |
| EndedAt: 2019-10-16 08:50:45 -0400 (Wed, 16 Oct 2019) |
| EllapsedTime: 32.2 seconds |
| RetCode: 0 |
| Status: OK |
| PackageFile: CancerSubtypes_1.10.0.zip |
| PackageFileSize: 1.553 MiB |
##############################################################################
##############################################################################
###
### Running command:
###
### rm -rf CancerSubtypes.buildbin-libdir && mkdir CancerSubtypes.buildbin-libdir && C:\Users\biocbuild\bbs-3.9-bioc\R\bin\R.exe CMD INSTALL --merge-multiarch --build --library=CancerSubtypes.buildbin-libdir CancerSubtypes_1.10.0.tar.gz
###
##############################################################################
##############################################################################
install for i386
* installing *source* package 'CancerSubtypes' ...
** using staged installation
** R
** data
** inst
** byte-compile and prepare package for lazy loading
** help
*** installing help indices
converting help for package 'CancerSubtypes'
finding HTML links ... done
DiffExp.limma html
ExecuteCC html
ExecuteCNMF html
finding level-2 HTML links ... done
ExecuteSNF.CC html
ExecuteSNF html
ExecuteWSNF html
ExecuteiCluster html
FSbyCox html
FSbyMAD html
FSbyPCA html
FSbyVar html
GeneExp html
Ranking html
data.checkDistribution html
data.imputation html
data.normalization html
drawHeatmap html
miRNAExp html
saveFigure html
sigclustTest html
silhouette_SimilarityMatrix html
spectralAlg html
status html
survAnalysis html
time html
** building package indices
** installing vignettes
** testing if installed package can be loaded from temporary location
** testing if installed package can be loaded from final location
** testing if installed package keeps a record of temporary installation path
install for x64
* installing *source* package 'CancerSubtypes' ...
** testing if installed package can be loaded
* MD5 sums
packaged installation of 'CancerSubtypes' as CancerSubtypes_1.10.0.zip
* DONE (CancerSubtypes)