| Back to Multiple platform build/check report for BioC 3.9 |
|
This page was generated on 2019-04-09 13:27:20 -0400 (Tue, 09 Apr 2019).
| Package 1683/1703 | Hostname | OS / Arch | INSTALL | BUILD | CHECK | BUILD BIN | ||||||
| waveTiling 1.25.0 Kristof De Beuf
| malbec2 | Linux (Ubuntu 18.04.2 LTS) / x86_64 | OK | OK | OK | |||||||
| tokay2 | Windows Server 2012 R2 Standard / x64 | OK | OK | OK | OK | |||||||
| celaya2 | OS X 10.11.6 El Capitan / x86_64 | OK | OK | OK | OK | |||||||
| merida2 | OS X 10.11.6 El Capitan / x86_64 | [ OK ] | OK | OK | OK |
| Package: waveTiling |
| Version: 1.25.0 |
| Command: /Library/Frameworks/R.framework/Versions/Current/Resources/bin/R CMD INSTALL waveTiling |
| StartedAt: 2019-04-08 19:03:05 -0400 (Mon, 08 Apr 2019) |
| EndedAt: 2019-04-08 19:03:52 -0400 (Mon, 08 Apr 2019) |
| EllapsedTime: 47.3 seconds |
| RetCode: 0 |
| Status: OK |
##############################################################################
##############################################################################
###
### Running command:
###
### /Library/Frameworks/R.framework/Versions/Current/Resources/bin/R CMD INSTALL waveTiling
###
##############################################################################
##############################################################################
* installing to library ‘/Library/Frameworks/R.framework/Versions/3.6/Resources/library’
* installing *source* package ‘waveTiling’ ...
** libs
clang -I"/Library/Frameworks/R.framework/Resources/include" -DNDEBUG -I/usr/local/include -fPIC -Wall -g -O2 -c waveTiling.c -o waveTiling.o
waveTiling.c:10:11: warning: unused variable 'n' [-Wunused-variable]
int i,j,m,n,Jcount=0;
^
waveTiling.c:43:11: warning: unused variable 'n' [-Wunused-variable]
int i,j,m,n,Jcount=0;
^
waveTiling.c:81:11: warning: unused variable 'n' [-Wunused-variable]
int i,j,m,n,Jcount=0;
^
waveTiling.c:114:11: warning: unused variable 'n' [-Wunused-variable]
int i,j,m,n,Jcount=0;
^
4 warnings generated.
clang -dynamiclib -Wl,-headerpad_max_install_names -undefined dynamic_lookup -single_module -multiply_defined suppress -L/Library/Frameworks/R.framework/Resources/lib -L/usr/local/lib -o waveTiling.so waveTiling.o -F/Library/Frameworks/R.framework/.. -framework R -Wl,-framework -Wl,CoreFoundation
installing to /Library/Frameworks/R.framework/Versions/3.6/Resources/library/waveTiling/libs
** R
** inst
** byte-compile and prepare package for lazy loading
** help
*** installing help indices
** building package indices
** installing vignettes
** testing if installed package can be loaded
* DONE (waveTiling)