| Back to Multiple platform build/check report for BioC 3.9 |
|
This page was generated on 2019-04-09 12:43:02 -0400 (Tue, 09 Apr 2019).
| Package 1665/1703 | Hostname | OS / Arch | INSTALL | BUILD | CHECK | BUILD BIN | ||||||
| universalmotif 1.1.66 Benjamin Jean-Marie Tremblay
| malbec2 | Linux (Ubuntu 18.04.2 LTS) / x86_64 | OK | OK | OK | |||||||
| tokay2 | Windows Server 2012 R2 Standard / x64 | OK | OK | ERROR | [ OK ] | |||||||
| celaya2 | OS X 10.11.6 El Capitan / x86_64 | OK | OK | OK | OK | |||||||
| merida2 | OS X 10.11.6 El Capitan / x86_64 | OK | OK | OK | OK |
| Package: universalmotif |
| Version: 1.1.66 |
| Command: rm -rf universalmotif.buildbin-libdir && mkdir universalmotif.buildbin-libdir && C:\Users\biocbuild\bbs-3.9-bioc\R\bin\R.exe CMD INSTALL --merge-multiarch --build --library=universalmotif.buildbin-libdir universalmotif_1.1.66.tar.gz |
| StartedAt: 2019-04-09 09:10:09 -0400 (Tue, 09 Apr 2019) |
| EndedAt: 2019-04-09 09:12:35 -0400 (Tue, 09 Apr 2019) |
| EllapsedTime: 146.1 seconds |
| RetCode: 0 |
| Status: OK |
| PackageFile: universalmotif_1.1.66.zip |
| PackageFileSize: 3.138 MiB |
##############################################################################
##############################################################################
###
### Running command:
###
### rm -rf universalmotif.buildbin-libdir && mkdir universalmotif.buildbin-libdir && C:\Users\biocbuild\bbs-3.9-bioc\R\bin\R.exe CMD INSTALL --merge-multiarch --build --library=universalmotif.buildbin-libdir universalmotif_1.1.66.tar.gz
###
##############################################################################
##############################################################################
install for i386
* installing *source* package 'universalmotif' ...
** libs
C:/Rtools/mingw_32/bin/g++ -I"C:/Users/BIOCBU˜1/BBS-3˜1.9-B/R/include" -DNDEBUG -I"C:/Users/biocbuild/bbs-3.9-bioc/R/library/Rcpp/include" -I"C:/extsoft/include" -O2 -Wall -mtune=generic -c RcppExports.cpp -o RcppExports.o
C:/Rtools/mingw_32/bin/g++ -I"C:/Users/BIOCBU˜1/BBS-3˜1.9-B/R/include" -DNDEBUG -I"C:/Users/biocbuild/bbs-3.9-bioc/R/library/Rcpp/include" -I"C:/extsoft/include" -O2 -Wall -mtune=generic -c add_multifreq_helper.cpp -o add_multifreq_helper.o
C:/Rtools/mingw_32/bin/g++ -I"C:/Users/BIOCBU˜1/BBS-3˜1.9-B/R/include" -DNDEBUG -I"C:/Users/biocbuild/bbs-3.9-bioc/R/library/Rcpp/include" -I"C:/extsoft/include" -O2 -Wall -mtune=generic -c motif_peaks_helper.cpp -o motif_peaks_helper.o
C:/Rtools/mingw_32/bin/g++ -I"C:/Users/BIOCBU˜1/BBS-3˜1.9-B/R/include" -DNDEBUG -I"C:/Users/biocbuild/bbs-3.9-bioc/R/library/Rcpp/include" -I"C:/extsoft/include" -O2 -Wall -mtune=generic -c motif_pvalue_helper.cpp -o motif_pvalue_helper.o
C:/Rtools/mingw_32/bin/g++ -I"C:/Users/BIOCBU˜1/BBS-3˜1.9-B/R/include" -DNDEBUG -I"C:/Users/biocbuild/bbs-3.9-bioc/R/library/Rcpp/include" -I"C:/extsoft/include" -O2 -Wall -mtune=generic -c motif_simil_helper.cpp -o motif_simil_helper.o
C:/Rtools/mingw_32/bin/g++ -I"C:/Users/BIOCBU˜1/BBS-3˜1.9-B/R/include" -DNDEBUG -I"C:/Users/biocbuild/bbs-3.9-bioc/R/library/Rcpp/include" -I"C:/extsoft/include" -O2 -Wall -mtune=generic -c scan_sequences_helper.cpp -o scan_sequences_helper.o
C:/Rtools/mingw_32/bin/g++ -I"C:/Users/BIOCBU˜1/BBS-3˜1.9-B/R/include" -DNDEBUG -I"C:/Users/biocbuild/bbs-3.9-bioc/R/library/Rcpp/include" -I"C:/extsoft/include" -O2 -Wall -mtune=generic -c shuffle_sequences_helper.cpp -o shuffle_sequences_helper.o
C:/Rtools/mingw_32/bin/g++ -I"C:/Users/BIOCBU˜1/BBS-3˜1.9-B/R/include" -DNDEBUG -I"C:/Users/biocbuild/bbs-3.9-bioc/R/library/Rcpp/include" -I"C:/extsoft/include" -O2 -Wall -mtune=generic -c trim_motifs_helper.cpp -o trim_motifs_helper.o
C:/Rtools/mingw_32/bin/g++ -I"C:/Users/BIOCBU˜1/BBS-3˜1.9-B/R/include" -DNDEBUG -I"C:/Users/biocbuild/bbs-3.9-bioc/R/library/Rcpp/include" -I"C:/extsoft/include" -O2 -Wall -mtune=generic -c universalmotif_helper.cpp -o universalmotif_helper.o
C:/Rtools/mingw_32/bin/g++ -I"C:/Users/BIOCBU˜1/BBS-3˜1.9-B/R/include" -DNDEBUG -I"C:/Users/biocbuild/bbs-3.9-bioc/R/library/Rcpp/include" -I"C:/extsoft/include" -O2 -Wall -mtune=generic -c utils.cpp -o utils.o
C:/Rtools/mingw_32/bin/g++ -shared -s -static-libgcc -o universalmotif.dll tmp.def RcppExports.o add_multifreq_helper.o motif_peaks_helper.o motif_pvalue_helper.o motif_simil_helper.o scan_sequences_helper.o shuffle_sequences_helper.o trim_motifs_helper.o universalmotif_helper.o utils.o -LC:/extsoft/lib/i386 -LC:/extsoft/lib -LC:/Users/BIOCBU˜1/BBS-3˜1.9-B/R/bin/i386 -lR
if test -e "/usr/bin/strip" & test -e "/bin/uname" & [[ `uname` == "Linux" ]] ; then /usr/bin/strip --strip-debug universalmotif.dll; fi
[[: not found
installing to C:/Users/biocbuild/bbs-3.9-bioc/meat/universalmotif.buildbin-libdir/00LOCK-universalmotif/00new/universalmotif/libs/i386
** R
** data
** inst
** byte-compile and prepare package for lazy loading
in method for 'convert_motifs' with signature 'motifs="MotifList"': no definition for class "MotifList"
in method for 'convert_motifs' with signature 'motifs="TFFMFirst"': no definition for class "TFFMFirst"
in method for 'convert_motifs' with signature 'motifs="PFMatrix"': no definition for class "PFMatrix"
in method for 'convert_motifs' with signature 'motifs="PWMatrix"': no definition for class "PWMatrix"
in method for 'convert_motifs' with signature 'motifs="ICMatrix"': no definition for class "ICMatrix"
in method for 'convert_motifs' with signature 'motifs="XMatrixList"': no definition for class "XMatrixList"
in method for 'convert_motifs' with signature 'motifs="pwm"': no definition for class "pwm"
in method for 'convert_motifs' with signature 'motifs="pcm"': no definition for class "pcm"
in method for 'convert_motifs' with signature 'motifs="pfm"': no definition for class "pfm"
in method for 'convert_motifs' with signature 'motifs="PWM"': no definition for class "PWM"
in method for 'convert_motifs' with signature 'motifs="Motif"': no definition for class "Motif"
** help
*** installing help indices
converting help for package 'universalmotif'
finding HTML links ... done
ArabidopsisMotif html
ArabidopsisPromoters html
finding level-2 HTML links ... done
JASPAR2018_CORE_DBSCORES html
JASPAR2018_CORE_DBSCORES_NORM html
add_multifreq html
compare_motifs html
convert_motifs html
convert_type html
create_motif html
create_sequences html
enrich_motifs html
examplemotif html
examplemotif2 html
filter_motifs html
get_bkg html
Rd warning: C:/Users/biocbuild/bbs-3.9-bioc/tmpdir/RtmpaI3nXH/Rbuild1be057e97516/universalmotif/man/get_bkg.Rd:53: file link 'oligonucleotideFrequency' in package 'Biostrings' does not exist and so has been treated as a topic
merge_motifs html
motif_peaks html
motif_pvalue html
Rd warning: C:/Users/biocbuild/bbs-3.9-bioc/tmpdir/RtmpaI3nXH/Rbuild1be057e97516/universalmotif/man/motif_pvalue.Rd:69: file link 'qnorm' in package 'stats' does not exist and so has been treated as a topic
motif_rc html
motif_tree html
read_cisbp html
read_homer html
read_jaspar html
read_matrix html
read_meme html
read_motifs html
read_transfac html
read_uniprobe html
reexports html
Rd warning: C:/Users/biocbuild/bbs-3.9-bioc/tmpdir/Rtmp4sCoxS/R.INSTALL28c4651d4f5a/universalmotif/man/reexports.Rd:25: file link 'rownames' in package 'BiocGenerics' does not exist and so has been treated as a topic
Rd warning: C:/Users/biocbuild/bbs-3.9-bioc/tmpdir/Rtmp4sCoxS/R.INSTALL28c4651d4f5a/universalmotif/man/reexports.Rd:25: file link 'colnames' in package 'BiocGenerics' does not exist and so has been treated as a topic
Rd warning: C:/Users/biocbuild/bbs-3.9-bioc/tmpdir/Rtmp4sCoxS/R.INSTALL28c4651d4f5a/universalmotif/man/reexports.Rd:25: file link 'ncol' in package 'BiocGenerics' does not exist and so has been treated as a topic
Rd warning: C:/Users/biocbuild/bbs-3.9-bioc/tmpdir/Rtmp4sCoxS/R.INSTALL28c4651d4f5a/universalmotif/man/reexports.Rd:25: file link 'rowSums' in package 'BiocGenerics' does not exist and so has been treated as a topic
Rd warning: C:/Users/biocbuild/bbs-3.9-bioc/tmpdir/Rtmp4sCoxS/R.INSTALL28c4651d4f5a/universalmotif/man/reexports.Rd:25: file link 'colSums' in package 'BiocGenerics' does not exist and so has been treated as a topic
Rd warning: C:/Users/biocbuild/bbs-3.9-bioc/tmpdir/Rtmp4sCoxS/R.INSTALL28c4651d4f5a/universalmotif/man/reexports.Rd:25: file link 'colMeans' in package 'BiocGenerics' does not exist and so has been treated as a topic
Rd warning: C:/Users/biocbuild/bbs-3.9-bioc/tmpdir/Rtmp4sCoxS/R.INSTALL28c4651d4f5a/universalmotif/man/reexports.Rd:25: file link 'rowMeans' in package 'BiocGenerics' does not exist and so has been treated as a topic
run_meme html
sample_sites html
scan_sequences html
Rd warning: C:/Users/biocbuild/bbs-3.9-bioc/tmpdir/RtmpaI3nXH/Rbuild1be057e97516/universalmotif/man/scan_sequences.Rd:75: file link 'mask' in package 'Biostrings' does not exist and so has been treated as a topic
shuffle_motifs html
shuffle_sequences html
switch_alph html
trim_motifs html
universalmotif-class html
universalmotif-pkg html
utilities html
view_motifs html
write_homer html
write_jaspar html
write_matrix html
write_meme html
write_motifs html
write_transfac html
** building package indices
** installing vignettes
** testing if installed package can be loaded from temporary location
** testing if installed package can be loaded from final location
** testing if installed package keeps a record of temporary installation path
install for x64
* installing *source* package 'universalmotif' ...
** libs
C:/Rtools/mingw_64/bin/g++ -I"C:/Users/BIOCBU˜1/BBS-3˜1.9-B/R/include" -DNDEBUG -I"C:/Users/biocbuild/bbs-3.9-bioc/R/library/Rcpp/include" -I"C:/extsoft/include" -O2 -Wall -mtune=generic -c RcppExports.cpp -o RcppExports.o
C:/Rtools/mingw_64/bin/g++ -I"C:/Users/BIOCBU˜1/BBS-3˜1.9-B/R/include" -DNDEBUG -I"C:/Users/biocbuild/bbs-3.9-bioc/R/library/Rcpp/include" -I"C:/extsoft/include" -O2 -Wall -mtune=generic -c add_multifreq_helper.cpp -o add_multifreq_helper.o
C:/Rtools/mingw_64/bin/g++ -I"C:/Users/BIOCBU˜1/BBS-3˜1.9-B/R/include" -DNDEBUG -I"C:/Users/biocbuild/bbs-3.9-bioc/R/library/Rcpp/include" -I"C:/extsoft/include" -O2 -Wall -mtune=generic -c motif_peaks_helper.cpp -o motif_peaks_helper.o
C:/Rtools/mingw_64/bin/g++ -I"C:/Users/BIOCBU˜1/BBS-3˜1.9-B/R/include" -DNDEBUG -I"C:/Users/biocbuild/bbs-3.9-bioc/R/library/Rcpp/include" -I"C:/extsoft/include" -O2 -Wall -mtune=generic -c motif_pvalue_helper.cpp -o motif_pvalue_helper.o
C:/Rtools/mingw_64/bin/g++ -I"C:/Users/BIOCBU˜1/BBS-3˜1.9-B/R/include" -DNDEBUG -I"C:/Users/biocbuild/bbs-3.9-bioc/R/library/Rcpp/include" -I"C:/extsoft/include" -O2 -Wall -mtune=generic -c motif_simil_helper.cpp -o motif_simil_helper.o
C:/Rtools/mingw_64/bin/g++ -I"C:/Users/BIOCBU˜1/BBS-3˜1.9-B/R/include" -DNDEBUG -I"C:/Users/biocbuild/bbs-3.9-bioc/R/library/Rcpp/include" -I"C:/extsoft/include" -O2 -Wall -mtune=generic -c scan_sequences_helper.cpp -o scan_sequences_helper.o
C:/Rtools/mingw_64/bin/g++ -I"C:/Users/BIOCBU˜1/BBS-3˜1.9-B/R/include" -DNDEBUG -I"C:/Users/biocbuild/bbs-3.9-bioc/R/library/Rcpp/include" -I"C:/extsoft/include" -O2 -Wall -mtune=generic -c shuffle_sequences_helper.cpp -o shuffle_sequences_helper.o
C:/Rtools/mingw_64/bin/g++ -I"C:/Users/BIOCBU˜1/BBS-3˜1.9-B/R/include" -DNDEBUG -I"C:/Users/biocbuild/bbs-3.9-bioc/R/library/Rcpp/include" -I"C:/extsoft/include" -O2 -Wall -mtune=generic -c trim_motifs_helper.cpp -o trim_motifs_helper.o
C:/Rtools/mingw_64/bin/g++ -I"C:/Users/BIOCBU˜1/BBS-3˜1.9-B/R/include" -DNDEBUG -I"C:/Users/biocbuild/bbs-3.9-bioc/R/library/Rcpp/include" -I"C:/extsoft/include" -O2 -Wall -mtune=generic -c universalmotif_helper.cpp -o universalmotif_helper.o
C:/Rtools/mingw_64/bin/g++ -I"C:/Users/BIOCBU˜1/BBS-3˜1.9-B/R/include" -DNDEBUG -I"C:/Users/biocbuild/bbs-3.9-bioc/R/library/Rcpp/include" -I"C:/extsoft/include" -O2 -Wall -mtune=generic -c utils.cpp -o utils.o
C:/Rtools/mingw_64/bin/g++ -shared -s -static-libgcc -o universalmotif.dll tmp.def RcppExports.o add_multifreq_helper.o motif_peaks_helper.o motif_pvalue_helper.o motif_simil_helper.o scan_sequences_helper.o shuffle_sequences_helper.o trim_motifs_helper.o universalmotif_helper.o utils.o -LC:/extsoft/lib/x64 -LC:/extsoft/lib -LC:/Users/BIOCBU˜1/BBS-3˜1.9-B/R/bin/x64 -lR
if test -e "/usr/bin/strip" & test -e "/bin/uname" & [[ `uname` == "Linux" ]] ; then /usr/bin/strip --strip-debug universalmotif.dll; fi
[[: not found
installing to C:/Users/biocbuild/bbs-3.9-bioc/meat/universalmotif.buildbin-libdir/universalmotif/libs/x64
** testing if installed package can be loaded
* MD5 sums
packaged installation of 'universalmotif' as universalmotif_1.1.66.zip
* DONE (universalmotif)