| Back to Multiple platform build/check report for BioC 3.9 | 
 | 
This page was generated on 2019-04-09 12:24:43 -0400 (Tue, 09 Apr 2019).
| Package 1590/1703 | Hostname | OS / Arch | INSTALL | BUILD | CHECK | BUILD BIN | ||||||
| synlet 1.13.1 Chunxuan Shao 
 | malbec2 | Linux (Ubuntu 18.04.2 LTS) / x86_64 | OK | OK | OK |  | ||||||
| tokay2 | Windows Server 2012 R2 Standard / x64 | [ OK ] | OK | OK | OK |  | ||||||
| celaya2 | OS X 10.11.6 El Capitan / x86_64 | OK | OK | OK | OK |  | ||||||
| merida2 | OS X 10.11.6 El Capitan / x86_64 | OK | OK | OK | OK | 
| Package: synlet | 
| Version: 1.13.1 | 
| Command: C:\cygwin\bin\curl.exe -O https://malbec2.bioconductor.org/BBS/3.9/bioc/src/contrib/synlet_1.13.1.tar.gz && rm -rf synlet.buildbin-libdir && mkdir synlet.buildbin-libdir && C:\Users\biocbuild\bbs-3.9-bioc\R\bin\R.exe CMD INSTALL --merge-multiarch --build --library=synlet.buildbin-libdir synlet_1.13.1.tar.gz && C:\Users\biocbuild\bbs-3.9-bioc\R\bin\R.exe CMD INSTALL synlet_1.13.1.zip && rm synlet_1.13.1.tar.gz synlet_1.13.1.zip | 
| StartedAt: 2019-04-08 18:58:05 -0400 (Mon, 08 Apr 2019) | 
| EndedAt: 2019-04-08 18:58:35 -0400 (Mon, 08 Apr 2019) | 
| EllapsedTime: 29.5 seconds | 
| RetCode: 0 | 
| Status: OK | 
##############################################################################
##############################################################################
###
### Running command:
###
###   C:\cygwin\bin\curl.exe -O https://malbec2.bioconductor.org/BBS/3.9/bioc/src/contrib/synlet_1.13.1.tar.gz && rm -rf synlet.buildbin-libdir && mkdir synlet.buildbin-libdir && C:\Users\biocbuild\bbs-3.9-bioc\R\bin\R.exe CMD INSTALL --merge-multiarch --build --library=synlet.buildbin-libdir synlet_1.13.1.tar.gz && C:\Users\biocbuild\bbs-3.9-bioc\R\bin\R.exe CMD INSTALL synlet_1.13.1.zip && rm synlet_1.13.1.tar.gz synlet_1.13.1.zip
###
##############################################################################
##############################################################################
  % Total    % Received % Xferd  Average Speed   Time    Time     Time  Current
                                 Dload  Upload   Total   Spent    Left  Speed
  0     0    0     0    0     0      0      0 --:--:-- --:--:-- --:--:--     0
100  451k  100  451k    0     0  8016k      0 --:--:-- --:--:-- --:--:-- 9032k
install for i386
* installing *source* package 'synlet' ...
** R
** data
*** moving datasets to lazyload DB
** byte-compile and prepare package for lazy loading
** help
*** installing help indices
  converting help for package 'synlet'
    finding HTML links ... done
    bScore                                  html  
    exampleDat                              html  
    madSelect                               html  
    plateHeatmap                            html  
    rankProdHits                            html  
    rsaHits                                 html  
    scatterPlot                             html  
    siRNAPlot                               html  
    tTest                                   html  
    zFactor                                 html  
** building package indices
** installing vignettes
** testing if installed package can be loaded from temporary location
** testing if installed package can be loaded from final location
** testing if installed package keeps a record of temporary installation path
install for x64
* installing *source* package 'synlet' ...
** testing if installed package can be loaded
* MD5 sums
packaged installation of 'synlet' as synlet_1.13.1.zip
* DONE (synlet)
* installing to library 'C:/Users/biocbuild/bbs-3.9-bioc/R/library'
package 'synlet' successfully unpacked and MD5 sums checked