| Back to Multiple platform build/check report for BioC 3.9 |
|
This page was generated on 2019-04-09 12:24:44 -0400 (Tue, 09 Apr 2019).
| Package 1590/1703 | Hostname | OS / Arch | INSTALL | BUILD | CHECK | BUILD BIN | ||||||
| synlet 1.13.1 Chunxuan Shao
| malbec2 | Linux (Ubuntu 18.04.2 LTS) / x86_64 | OK | OK | OK | |||||||
| tokay2 | Windows Server 2012 R2 Standard / x64 | OK | OK | OK | [ OK ] | |||||||
| celaya2 | OS X 10.11.6 El Capitan / x86_64 | OK | OK | OK | OK | |||||||
| merida2 | OS X 10.11.6 El Capitan / x86_64 | OK | OK | OK | OK |
| Package: synlet |
| Version: 1.13.1 |
| Command: rm -rf synlet.buildbin-libdir && mkdir synlet.buildbin-libdir && C:\Users\biocbuild\bbs-3.9-bioc\R\bin\R.exe CMD INSTALL --merge-multiarch --build --library=synlet.buildbin-libdir synlet_1.13.1.tar.gz |
| StartedAt: 2019-04-09 09:04:26 -0400 (Tue, 09 Apr 2019) |
| EndedAt: 2019-04-09 09:05:31 -0400 (Tue, 09 Apr 2019) |
| EllapsedTime: 65.1 seconds |
| RetCode: 0 |
| Status: OK |
| PackageFile: synlet_1.13.1.zip |
| PackageFileSize: 847.3 KiB |
##############################################################################
##############################################################################
###
### Running command:
###
### rm -rf synlet.buildbin-libdir && mkdir synlet.buildbin-libdir && C:\Users\biocbuild\bbs-3.9-bioc\R\bin\R.exe CMD INSTALL --merge-multiarch --build --library=synlet.buildbin-libdir synlet_1.13.1.tar.gz
###
##############################################################################
##############################################################################
install for i386
* installing *source* package 'synlet' ...
** R
** data
*** moving datasets to lazyload DB
** inst
** byte-compile and prepare package for lazy loading
** help
*** installing help indices
converting help for package 'synlet'
finding HTML links ... done
bScore html
exampleDat html
madSelect html
plateHeatmap html
rankProdHits html
rsaHits html
scatterPlot html
siRNAPlot html
tTest html
zFactor html
** building package indices
** installing vignettes
** testing if installed package can be loaded from temporary location
** testing if installed package can be loaded from final location
** testing if installed package keeps a record of temporary installation path
install for x64
* installing *source* package 'synlet' ...
** testing if installed package can be loaded
* MD5 sums
packaged installation of 'synlet' as synlet_1.13.1.zip
* DONE (synlet)