| Back to Multiple platform build/check report for BioC 3.9 |
|
This page was generated on 2019-04-09 12:00:51 -0400 (Tue, 09 Apr 2019).
| Package 1588/1703 | Hostname | OS / Arch | INSTALL | BUILD | CHECK | BUILD BIN | ||||||
| synapter 2.7.1 Laurent Gatto
| malbec2 | Linux (Ubuntu 18.04.2 LTS) / x86_64 | OK | OK | OK | |||||||
| tokay2 | Windows Server 2012 R2 Standard / x64 | OK | OK | OK | [ OK ] | |||||||
| celaya2 | OS X 10.11.6 El Capitan / x86_64 | OK | OK | OK | OK | |||||||
| merida2 | OS X 10.11.6 El Capitan / x86_64 | OK | OK | OK | OK |
| Package: synapter |
| Version: 2.7.1 |
| Command: rm -rf synapter.buildbin-libdir && mkdir synapter.buildbin-libdir && C:\Users\biocbuild\bbs-3.9-bioc\R\bin\R.exe CMD INSTALL --merge-multiarch --build --library=synapter.buildbin-libdir synapter_2.7.1.tar.gz |
| StartedAt: 2019-04-09 09:04:19 -0400 (Tue, 09 Apr 2019) |
| EndedAt: 2019-04-09 09:06:05 -0400 (Tue, 09 Apr 2019) |
| EllapsedTime: 106.3 seconds |
| RetCode: 0 |
| Status: OK |
| PackageFile: synapter_2.7.1.zip |
| PackageFileSize: 3.374 MiB |
##############################################################################
##############################################################################
###
### Running command:
###
### rm -rf synapter.buildbin-libdir && mkdir synapter.buildbin-libdir && C:\Users\biocbuild\bbs-3.9-bioc\R\bin\R.exe CMD INSTALL --merge-multiarch --build --library=synapter.buildbin-libdir synapter_2.7.1.tar.gz
###
##############################################################################
##############################################################################
install for i386
* installing *source* package 'synapter' ...
** R
** data
** inst
** byte-compile and prepare package for lazy loading
** help
*** installing help indices
converting help for package 'synapter'
finding HTML links ... done
MasterFdrResults-class html
MasterPeptides-class html
Synapter html
finding level-2 HTML links ... done
createUniquePeptideDbRds html
defunct html
estimateMasterFdr html
inspectPeptideScores html
makeMaster html
plotCrossMatching html
requantify html
rescaleForTop3 html
synapter-package html
synapterGuide html
synapterPlgsAgreement html
synapterTinyData html
synergise html
synergise2 html
** building package indices
** installing vignettes
** testing if installed package can be loaded from temporary location
** testing if installed package can be loaded from final location
** testing if installed package keeps a record of temporary installation path
install for x64
* installing *source* package 'synapter' ...
** testing if installed package can be loaded
* MD5 sums
packaged installation of 'synapter' as synapter_2.7.1.zip
* DONE (synapter)