| Back to Multiple platform build/check report for BioC 3.9 |
|
This page was generated on 2019-04-09 13:23:01 -0400 (Tue, 09 Apr 2019).
| Package 1556/1703 | Hostname | OS / Arch | INSTALL | BUILD | CHECK | BUILD BIN | ||||||
| ssize 1.57.0 Gregory R. Warnes
| malbec2 | Linux (Ubuntu 18.04.2 LTS) / x86_64 | OK | OK | OK | |||||||
| tokay2 | Windows Server 2012 R2 Standard / x64 | OK | OK | OK | OK | |||||||
| celaya2 | OS X 10.11.6 El Capitan / x86_64 | OK | OK | OK | OK | |||||||
| merida2 | OS X 10.11.6 El Capitan / x86_64 | OK | OK | [ OK ] | OK |
| Package: ssize |
| Version: 1.57.0 |
| Command: /Library/Frameworks/R.framework/Versions/Current/Resources/bin/R CMD check --install=check:ssize.install-out.txt --library=/Library/Frameworks/R.framework/Versions/Current/Resources/library --no-vignettes --timings ssize_1.57.0.tar.gz |
| StartedAt: 2019-04-09 03:56:53 -0400 (Tue, 09 Apr 2019) |
| EndedAt: 2019-04-09 03:57:21 -0400 (Tue, 09 Apr 2019) |
| EllapsedTime: 27.6 seconds |
| RetCode: 0 |
| Status: OK |
| CheckDir: ssize.Rcheck |
| Warnings: 0 |
##############################################################################
##############################################################################
###
### Running command:
###
### /Library/Frameworks/R.framework/Versions/Current/Resources/bin/R CMD check --install=check:ssize.install-out.txt --library=/Library/Frameworks/R.framework/Versions/Current/Resources/library --no-vignettes --timings ssize_1.57.0.tar.gz
###
##############################################################################
##############################################################################
* using log directory ‘/Users/biocbuild/bbs-3.9-bioc/meat/ssize.Rcheck’
* using R Under development (unstable) (2018-11-27 r75683)
* using platform: x86_64-apple-darwin15.6.0 (64-bit)
* using session charset: UTF-8
* using option ‘--no-vignettes’
* checking for file ‘ssize/DESCRIPTION’ ... OK
* this is package ‘ssize’ version ‘1.57.0’
* checking package namespace information ... OK
* checking package dependencies ... OK
* checking if this is a source package ... OK
* checking if there is a namespace ... OK
* checking for hidden files and directories ... OK
* checking for portable file names ... OK
* checking for sufficient/correct file permissions ... OK
* checking whether package ‘ssize’ can be installed ... OK
* checking installed package size ... OK
* checking package directory ... OK
* checking ‘build’ directory ... OK
* checking DESCRIPTION meta-information ... OK
* checking top-level files ... OK
* checking for left-over files ... OK
* checking index information ... OK
* checking package subdirectories ... OK
* checking R files for non-ASCII characters ... OK
* checking R files for syntax errors ... OK
* checking whether the package can be loaded ... OK
* checking whether the package can be loaded with stated dependencies ... OK
* checking whether the package can be unloaded cleanly ... OK
* checking whether the namespace can be loaded with stated dependencies ... OK
* checking whether the namespace can be unloaded cleanly ... OK
* checking dependencies in R code ... NOTE
Package in Depends field not imported from: ‘xtable’
These packages need to be imported from (in the NAMESPACE file)
for when this namespace is loaded but not attached.
* checking S3 generic/method consistency ... OK
* checking replacement functions ... OK
* checking foreign function calls ... OK
* checking R code for possible problems ... NOTE
crit.fn: no visible global function definition for ‘pt’
delta: no visible global function definition for ‘power.t.test’
delta.plot: no visible global function definition for ‘ecdf’
delta.plot: no visible global function definition for ‘plot’
delta.plot: no visible global function definition for ‘axis’
delta.plot: no visible global function definition for ‘par’
delta.plot: no visible global function definition for ‘lines’
delta.plot: no visible global function definition for ‘text’
pow: no visible global function definition for ‘power.t.test’
power.plot: no visible global function definition for ‘ecdf’
power.plot: no visible global function definition for ‘plot’
power.plot: no visible global function definition for ‘axis’
power.plot: no visible global function definition for ‘par’
power.plot: no visible global function definition for ‘lines’
power.plot: no visible global function definition for ‘text’
power.t.test.FDR: no visible global function definition for ‘uniroot’
ssize: no visible global function definition for ‘power.t.test’
ssize.plot: no visible global function definition for ‘ecdf’
ssize.plot: no visible global function definition for ‘plot’
ssize.plot: no visible global function definition for ‘axis’
ssize.plot: no visible global function definition for ‘par’
ssize.plot: no visible global function definition for ‘lines’
ssize.plot: no visible global function definition for ‘text’
Undefined global functions or variables:
axis ecdf lines par plot power.t.test pt text uniroot
Consider adding
importFrom("graphics", "axis", "lines", "par", "plot", "text")
importFrom("stats", "ecdf", "power.t.test", "pt", "uniroot")
to your NAMESPACE file.
* checking Rd files ... OK
* checking Rd metadata ... OK
* checking Rd cross-references ... OK
* checking for missing documentation entries ... OK
* checking for code/documentation mismatches ... OK
* checking Rd \usage sections ... OK
* checking Rd contents ... OK
* checking for unstated dependencies in examples ... OK
* checking contents of ‘data’ directory ... OK
* checking data for non-ASCII characters ... OK
* checking data for ASCII and uncompressed saves ... OK
* checking sizes of PDF files under ‘inst/doc’ ... OK
* checking files in ‘vignettes’ ... OK
* checking examples ... OK
* checking for unstated dependencies in vignettes ... OK
* checking package vignettes in ‘inst/doc’ ... OK
* checking running R code from vignettes ... SKIPPED
* checking re-building of vignette outputs ... SKIPPED
* checking PDF version of manual ... OK
* DONE
Status: 2 NOTEs
See
‘/Users/biocbuild/bbs-3.9-bioc/meat/ssize.Rcheck/00check.log’
for details.
ssize.Rcheck/00install.out
############################################################################## ############################################################################## ### ### Running command: ### ### /Library/Frameworks/R.framework/Versions/Current/Resources/bin/R CMD INSTALL ssize ### ############################################################################## ############################################################################## * installing to library ‘/Library/Frameworks/R.framework/Versions/3.6/Resources/library’ * installing *source* package ‘ssize’ ... ** R ** data ** byte-compile and prepare package for lazy loading ** help *** installing help indices ** building package indices ** installing vignettes ** testing if installed package can be loaded * DONE (ssize)
ssize.Rcheck/ssize-Ex.timings
| name | user | system | elapsed | |
| exp.sd | 0.046 | 0.006 | 0.051 | |
| pow | 2.136 | 0.015 | 2.172 | |
| power.t.test.FDR | 0.043 | 0.001 | 0.045 | |