| Back to Multiple platform build/check report for BioC 3.9 |
|
This page was generated on 2019-04-09 13:23:01 -0400 (Tue, 09 Apr 2019).
| Package 1556/1703 | Hostname | OS / Arch | INSTALL | BUILD | CHECK | BUILD BIN | ||||||
| ssize 1.57.0 Gregory R. Warnes
| malbec2 | Linux (Ubuntu 18.04.2 LTS) / x86_64 | OK | OK | OK | |||||||
| tokay2 | Windows Server 2012 R2 Standard / x64 | OK | OK | OK | OK | |||||||
| celaya2 | OS X 10.11.6 El Capitan / x86_64 | OK | OK | OK | OK | |||||||
| merida2 | OS X 10.11.6 El Capitan / x86_64 | OK | OK | OK | [ OK ] |
| Package: ssize |
| Version: 1.57.0 |
| Command: rm -rf ssize.buildbin-libdir && mkdir ssize.buildbin-libdir && /Users/biocbuild/BBS/utils/build-universal.sh ssize_1.57.0.tar.gz /Library/Frameworks/R.framework/Versions/Current/Resources/bin/R ssize.buildbin-libdir |
| StartedAt: 2019-04-09 06:35:08 -0400 (Tue, 09 Apr 2019) |
| EndedAt: 2019-04-09 06:36:24 -0400 (Tue, 09 Apr 2019) |
| EllapsedTime: 75.8 seconds |
| RetCode: 0 |
| Status: OK |
| PackageFile: ssize_1.57.0.tgz |
| PackageFileSize: 401.2 KiB |
############################################################################## ############################################################################## ### ### Running command: ### ### rm -rf ssize.buildbin-libdir && mkdir ssize.buildbin-libdir && /Users/biocbuild/BBS/utils/build-universal.sh ssize_1.57.0.tar.gz /Library/Frameworks/R.framework/Versions/Current/Resources/bin/R ssize.buildbin-libdir ### ############################################################################## ############################################################################## >>>>>>> >>>>>>> INSTALLATION WITH 'R CMD INSTALL --preclean --no-multiarch --library=ssize.buildbin-libdir ssize_1.57.0.tar.gz' >>>>>>> * installing *source* package ‘ssize’ ... ** R ** data ** inst ** byte-compile and prepare package for lazy loading ** help *** installing help indices ** building package indices ** installing vignettes ** testing if installed package can be loaded * DONE (ssize)