| Back to Multiple platform build/check report for BioC 3.9 |
|
This page was generated on 2019-04-09 12:23:49 -0400 (Tue, 09 Apr 2019).
| Package 1524/1703 | Hostname | OS / Arch | INSTALL | BUILD | CHECK | BUILD BIN | ||||||
| soGGi 1.15.1 Tom Carroll
| malbec2 | Linux (Ubuntu 18.04.2 LTS) / x86_64 | OK | OK | WARNINGS | |||||||
| tokay2 | Windows Server 2012 R2 Standard / x64 | OK | OK | WARNINGS | [ OK ] | |||||||
| celaya2 | OS X 10.11.6 El Capitan / x86_64 | OK | OK | WARNINGS | OK | |||||||
| merida2 | OS X 10.11.6 El Capitan / x86_64 | OK | OK | WARNINGS | OK |
| Package: soGGi |
| Version: 1.15.1 |
| Command: rm -rf soGGi.buildbin-libdir && mkdir soGGi.buildbin-libdir && C:\Users\biocbuild\bbs-3.9-bioc\R\bin\R.exe CMD INSTALL --merge-multiarch --build --library=soGGi.buildbin-libdir soGGi_1.15.1.tar.gz |
| StartedAt: 2019-04-09 09:00:32 -0400 (Tue, 09 Apr 2019) |
| EndedAt: 2019-04-09 09:01:55 -0400 (Tue, 09 Apr 2019) |
| EllapsedTime: 82.6 seconds |
| RetCode: 0 |
| Status: OK |
| PackageFile: soGGi_1.15.1.zip |
| PackageFileSize: 3.401 MiB |
##############################################################################
##############################################################################
###
### Running command:
###
### rm -rf soGGi.buildbin-libdir && mkdir soGGi.buildbin-libdir && C:\Users\biocbuild\bbs-3.9-bioc\R\bin\R.exe CMD INSTALL --merge-multiarch --build --library=soGGi.buildbin-libdir soGGi_1.15.1.tar.gz
###
##############################################################################
##############################################################################
install for i386
* installing *source* package 'soGGi' ...
** R
** data
** inst
** byte-compile and prepare package for lazy loading
Warning: replacing previous import 'ggplot2::Position' by 'BiocGenerics::Position' when loading 'soGGi'
** help
*** installing help indices
converting help for package 'soGGi'
finding HTML links ... done
ChIPprofile html
Ops html
chipExampleBig html
findconsensusRegions html
groupByOverlaps html
ik_Example html
ik_Profiles html
manipulateObjects html
normalise html
normaliseQuantiles html
orientBy html
plotRegion html
pwmCov html
pwmToCoverage html
singleGRange html
** building package indices
** installing vignettes
** testing if installed package can be loaded from temporary location
Warning: replacing previous import 'ggplot2::Position' by 'BiocGenerics::Position' when loading 'soGGi'
** testing if installed package can be loaded from final location
Warning: replacing previous import 'ggplot2::Position' by 'BiocGenerics::Position' when loading 'soGGi'
** testing if installed package keeps a record of temporary installation path
install for x64
* installing *source* package 'soGGi' ...
** testing if installed package can be loaded
Warning: replacing previous import 'ggplot2::Position' by 'BiocGenerics::Position' when loading 'soGGi'
* MD5 sums
packaged installation of 'soGGi' as soGGi_1.15.1.zip
* DONE (soGGi)