| Back to Multiple platform build/check report for BioC 3.9 |
|
This page was generated on 2019-04-09 12:17:01 -0400 (Tue, 09 Apr 2019).
| Package 1450/1703 | Hostname | OS / Arch | INSTALL | BUILD | CHECK | BUILD BIN | ||||||
| scsR 1.19.0 Andrea Franceschini
| malbec2 | Linux (Ubuntu 18.04.2 LTS) / x86_64 | OK | OK | OK | |||||||
| tokay2 | Windows Server 2012 R2 Standard / x64 | [ OK ] | OK | OK | OK | |||||||
| celaya2 | OS X 10.11.6 El Capitan / x86_64 | OK | OK | OK | OK | |||||||
| merida2 | OS X 10.11.6 El Capitan / x86_64 | OK | OK | OK | OK |
| Package: scsR |
| Version: 1.19.0 |
| Command: C:\cygwin\bin\curl.exe -O https://malbec2.bioconductor.org/BBS/3.9/bioc/src/contrib/scsR_1.19.0.tar.gz && rm -rf scsR.buildbin-libdir && mkdir scsR.buildbin-libdir && C:\Users\biocbuild\bbs-3.9-bioc\R\bin\R.exe CMD INSTALL --merge-multiarch --build --library=scsR.buildbin-libdir scsR_1.19.0.tar.gz && C:\Users\biocbuild\bbs-3.9-bioc\R\bin\R.exe CMD INSTALL scsR_1.19.0.zip && rm scsR_1.19.0.tar.gz scsR_1.19.0.zip |
| StartedAt: 2019-04-08 19:16:31 -0400 (Mon, 08 Apr 2019) |
| EndedAt: 2019-04-08 19:17:28 -0400 (Mon, 08 Apr 2019) |
| EllapsedTime: 57.2 seconds |
| RetCode: 0 |
| Status: OK |
##############################################################################
##############################################################################
###
### Running command:
###
### C:\cygwin\bin\curl.exe -O https://malbec2.bioconductor.org/BBS/3.9/bioc/src/contrib/scsR_1.19.0.tar.gz && rm -rf scsR.buildbin-libdir && mkdir scsR.buildbin-libdir && C:\Users\biocbuild\bbs-3.9-bioc\R\bin\R.exe CMD INSTALL --merge-multiarch --build --library=scsR.buildbin-libdir scsR_1.19.0.tar.gz && C:\Users\biocbuild\bbs-3.9-bioc\R\bin\R.exe CMD INSTALL scsR_1.19.0.zip && rm scsR_1.19.0.tar.gz scsR_1.19.0.zip
###
##############################################################################
##############################################################################
% Total % Received % Xferd Average Speed Time Time Time Current
Dload Upload Total Spent Left Speed
0 0 0 0 0 0 0 0 --:--:-- --:--:-- --:--:-- 0
0 1790k 0 0 0 0 0 0 --:--:-- --:--:-- --:--:-- 0
100 1790k 100 1790k 0 0 2080k 0 --:--:-- --:--:-- --:--:-- 2094k
install for i386
* installing *source* package 'scsR' ...
** R
** data
** byte-compile and prepare package for lazy loading
** help
*** installing help indices
converting help for package 'scsR'
finding HTML links ... done
OPIrsa html
OPIrsaScore html
add_rank_col html
add_seed html
benchmark_shared_hits html
bydf html
check_consistency html
compare_sorted_geneSets html
create_sd_matrix html
delColDf html
delete_undefined_rows html
enrichment_geneSet html
enrichment_heatmap html
get_sd_quant html
get_seed_oligos_df html
intersectAll html
launch_RSA html
median_replicates html
miRBase_20 html
plot_screen_hits html
plot_seeds_methods html
randomSortOnVal html
randomizeInner html
removeSharedOffTargets html
renameColDf html
replace_non_null_elements html
seed_correction html
seed_correction_pooled html
seed_removal html
seeds_analysis html
sortInner html
split_df html
transcribe_seqs html
uuk_screen html
uuk_screen_dh html
** building package indices
** installing vignettes
** testing if installed package can be loaded from temporary location
** testing if installed package can be loaded from final location
** testing if installed package keeps a record of temporary installation path
install for x64
* installing *source* package 'scsR' ...
** testing if installed package can be loaded
* MD5 sums
packaged installation of 'scsR' as scsR_1.19.0.zip
* DONE (scsR)
* installing to library 'C:/Users/biocbuild/bbs-3.9-bioc/R/library'
package 'scsR' successfully unpacked and MD5 sums checked