| Back to Multiple platform build/check report for BioC 3.9 | 
 | 
This page was generated on 2019-04-09 12:17:02 -0400 (Tue, 09 Apr 2019).
| Package 1450/1703 | Hostname | OS / Arch | INSTALL | BUILD | CHECK | BUILD BIN | ||||||
| scsR 1.19.0 Andrea Franceschini 
 | malbec2 | Linux (Ubuntu 18.04.2 LTS) / x86_64 | OK | OK | OK |  | ||||||
| tokay2 | Windows Server 2012 R2 Standard / x64 | OK | OK | OK | [ OK ] |  | ||||||
| celaya2 | OS X 10.11.6 El Capitan / x86_64 | OK | OK | OK | OK |  | ||||||
| merida2 | OS X 10.11.6 El Capitan / x86_64 | OK | OK | OK | OK | 
| Package: scsR | 
| Version: 1.19.0 | 
| Command: rm -rf scsR.buildbin-libdir && mkdir scsR.buildbin-libdir && C:\Users\biocbuild\bbs-3.9-bioc\R\bin\R.exe CMD INSTALL --merge-multiarch --build --library=scsR.buildbin-libdir scsR_1.19.0.tar.gz | 
| StartedAt: 2019-04-09 08:56:14 -0400 (Tue, 09 Apr 2019) | 
| EndedAt: 2019-04-09 08:56:38 -0400 (Tue, 09 Apr 2019) | 
| EllapsedTime: 24.3 seconds | 
| RetCode: 0 | 
| Status: OK | 
| PackageFile: scsR_1.19.0.zip | 
| PackageFileSize: 2.048 MiB | 
##############################################################################
##############################################################################
###
### Running command:
###
###   rm -rf scsR.buildbin-libdir && mkdir scsR.buildbin-libdir && C:\Users\biocbuild\bbs-3.9-bioc\R\bin\R.exe CMD INSTALL --merge-multiarch --build --library=scsR.buildbin-libdir scsR_1.19.0.tar.gz
###
##############################################################################
##############################################################################
install for i386
* installing *source* package 'scsR' ...
** R
** data
** inst
** byte-compile and prepare package for lazy loading
** help
*** installing help indices
  converting help for package 'scsR'
    finding HTML links ... done
    OPIrsa                                  html  
    OPIrsaScore                             html  
    add_rank_col                            html  
    add_seed                                html  
    benchmark_shared_hits                   html  
    bydf                                    html  
    check_consistency                       html  
    compare_sorted_geneSets                 html  
    create_sd_matrix                        html  
    delColDf                                html  
    delete_undefined_rows                   html  
    enrichment_geneSet                      html  
    enrichment_heatmap                      html  
    get_sd_quant                            html  
    get_seed_oligos_df                      html  
    intersectAll                            html  
    launch_RSA                              html  
    median_replicates                       html  
    miRBase_20                              html  
    plot_screen_hits                        html  
    plot_seeds_methods                      html  
    randomSortOnVal                         html  
    randomizeInner                          html  
    removeSharedOffTargets                  html  
    renameColDf                             html  
    replace_non_null_elements               html  
    seed_correction                         html  
    seed_correction_pooled                  html  
    seed_removal                            html  
    seeds_analysis                          html  
    sortInner                               html  
    split_df                                html  
    transcribe_seqs                         html  
    uuk_screen                              html  
    uuk_screen_dh                           html  
** building package indices
** installing vignettes
** testing if installed package can be loaded from temporary location
** testing if installed package can be loaded from final location
** testing if installed package keeps a record of temporary installation path
install for x64
* installing *source* package 'scsR' ...
** testing if installed package can be loaded
* MD5 sums
packaged installation of 'scsR' as scsR_1.19.0.zip
* DONE (scsR)