Back to Multiple platform build/check report for BioC 3.9 |
|
This page was generated on 2019-04-09 12:28:32 -0400 (Tue, 09 Apr 2019).
Package 1444/1703 | Hostname | OS / Arch | INSTALL | BUILD | CHECK | BUILD BIN | ||||||
scone 1.7.1 Michael Cole
| malbec2 | Linux (Ubuntu 18.04.2 LTS) / x86_64 | OK | OK | OK | ![]() | ||||||
tokay2 | Windows Server 2012 R2 Standard / x64 | [ OK ] | OK | WARNINGS | OK | ![]() | ||||||
celaya2 | OS X 10.11.6 El Capitan / x86_64 | OK | OK | OK | OK | ![]() | ||||||
merida2 | OS X 10.11.6 El Capitan / x86_64 | OK | OK | OK | OK |
Package: scone |
Version: 1.7.1 |
Command: C:\cygwin\bin\curl.exe -O https://malbec2.bioconductor.org/BBS/3.9/bioc/src/contrib/scone_1.7.1.tar.gz && rm -rf scone.buildbin-libdir && mkdir scone.buildbin-libdir && C:\Users\biocbuild\bbs-3.9-bioc\R\bin\R.exe CMD INSTALL --merge-multiarch --build --library=scone.buildbin-libdir scone_1.7.1.tar.gz && C:\Users\biocbuild\bbs-3.9-bioc\R\bin\R.exe CMD INSTALL scone_1.7.1.zip && rm scone_1.7.1.tar.gz scone_1.7.1.zip |
StartedAt: 2019-04-08 20:43:25 -0400 (Mon, 08 Apr 2019) |
EndedAt: 2019-04-08 20:44:41 -0400 (Mon, 08 Apr 2019) |
EllapsedTime: 76.1 seconds |
RetCode: 0 |
Status: OK |
############################################################################## ############################################################################## ### ### Running command: ### ### C:\cygwin\bin\curl.exe -O https://malbec2.bioconductor.org/BBS/3.9/bioc/src/contrib/scone_1.7.1.tar.gz && rm -rf scone.buildbin-libdir && mkdir scone.buildbin-libdir && C:\Users\biocbuild\bbs-3.9-bioc\R\bin\R.exe CMD INSTALL --merge-multiarch --build --library=scone.buildbin-libdir scone_1.7.1.tar.gz && C:\Users\biocbuild\bbs-3.9-bioc\R\bin\R.exe CMD INSTALL scone_1.7.1.zip && rm scone_1.7.1.tar.gz scone_1.7.1.zip ### ############################################################################## ############################################################################## % Total % Received % Xferd Average Speed Time Time Time Current Dload Upload Total Spent Left Speed 0 0 0 0 0 0 0 0 --:--:-- --:--:-- --:--:-- 0 100 107k 100 107k 0 0 1708k 0 --:--:-- --:--:-- --:--:-- 1957k install for i386 * installing *source* package 'scone' ... ** R ** data ** inst ** byte-compile and prepare package for lazy loading ** help *** installing help indices converting help for package 'scone' finding HTML links ... done CLR_FN html DESEQ_FN html FQ_FN html SCRAN_FN html SUM_FN html SconeExperiment-class html finding level-2 HTML links ... done TMM_FN html UQ_FN html biplot_color html biplot_interactive html control_genes html Rd warning: C:/Users/biocbuild/bbs-3.9-bioc/tmpdir/RtmpqaF8dN/R.INSTALL2a3c1b2b4ee7/scone/man/control_genes.Rd:28: file link 'toupper' in package 'base' does not exist and so has been treated as a topic Rd warning: C:/Users/biocbuild/bbs-3.9-bioc/tmpdir/RtmpqaF8dN/R.INSTALL2a3c1b2b4ee7/scone/man/control_genes.Rd:29: file link 'tolower' in package 'base' does not exist and so has been treated as a topic estimate_ziber html factor_sample_filter html fast_estimate_ziber html get_bio html get_design html get_negconruv html get_normalized html get_params html get_qc html get_scores html impute_expectation html impute_null html lm_adjust html make_design html metric_sample_filter html scone html Rd warning: C:/Users/biocbuild/bbs-3.9-bioc/tmpdir/RtmpqaF8dN/R.INSTALL2a3c1b2b4ee7/scone/man/scone.Rd:101: file link 'bpparam' in package 'BiocParallel' does not exist and so has been treated as a topic sconeReport html scone_easybake html score_matrix html select_methods html simple_FNR_params html ** building package indices ** installing vignettes ** testing if installed package can be loaded from temporary location ** testing if installed package can be loaded from final location ** testing if installed package keeps a record of temporary installation path install for x64 * installing *source* package 'scone' ... ** testing if installed package can be loaded * MD5 sums packaged installation of 'scone' as scone_1.7.1.zip * DONE (scone) * installing to library 'C:/Users/biocbuild/bbs-3.9-bioc/R/library' package 'scone' successfully unpacked and MD5 sums checked