| Back to Multiple platform build/check report for BioC 3.9 | 
 | 
This page was generated on 2019-04-09 13:17:28 -0400 (Tue, 09 Apr 2019).
| Package 1444/1703 | Hostname | OS / Arch | INSTALL | BUILD | CHECK | BUILD BIN | ||||||
| scone 1.7.1 Michael Cole 
 | malbec2 | Linux (Ubuntu 18.04.2 LTS) / x86_64 | OK | OK | OK |  | ||||||
| tokay2 | Windows Server 2012 R2 Standard / x64 | OK | OK | WARNINGS | OK |  | ||||||
| celaya2 | OS X 10.11.6 El Capitan / x86_64 | OK | OK | OK | [ OK ] |  | ||||||
| merida2 | OS X 10.11.6 El Capitan / x86_64 | OK | OK | OK | OK | 
| Package: scone | 
| Version: 1.7.1 | 
| Command: rm -rf scone.buildbin-libdir && mkdir scone.buildbin-libdir && /Users/biocbuild/BBS/utils/build-universal.sh scone_1.7.1.tar.gz /Library/Frameworks/R.framework/Versions/Current/Resources/bin/R scone.buildbin-libdir | 
| StartedAt: 2019-04-09 07:44:31 -0400 (Tue, 09 Apr 2019) | 
| EndedAt: 2019-04-09 07:45:45 -0400 (Tue, 09 Apr 2019) | 
| EllapsedTime: 74.5 seconds | 
| RetCode: 0 | 
| Status: OK | 
| PackageFile: scone_1.7.1.tgz | 
| PackageFileSize: 1.19 MiB | 
############################################################################## ############################################################################## ### ### Running command: ### ### rm -rf scone.buildbin-libdir && mkdir scone.buildbin-libdir && /Users/biocbuild/BBS/utils/build-universal.sh scone_1.7.1.tar.gz /Library/Frameworks/R.framework/Versions/Current/Resources/bin/R scone.buildbin-libdir ### ############################################################################## ############################################################################## >>>>>>> >>>>>>> INSTALLATION WITH 'R CMD INSTALL --preclean --no-multiarch --library=scone.buildbin-libdir scone_1.7.1.tar.gz' >>>>>>> * installing *source* package ‘scone’ ... ** using staged installation ** R ** data ** inst ** byte-compile and prepare package for lazy loading ** help *** installing help indices ** building package indices ** installing vignettes ** testing if installed package can be loaded from temporary location ** testing if installed package can be loaded from final location ** testing if installed package keeps a record of temporary installation path * DONE (scone)