| Back to Multiple platform build/check report for BioC 3.9 |
|
This page was generated on 2019-04-09 12:16:50 -0400 (Tue, 09 Apr 2019).
| Package 1425/1703 | Hostname | OS / Arch | INSTALL | BUILD | CHECK | BUILD BIN | ||||||
| sangerseqR 1.19.0 Jonathon Hill
| malbec2 | Linux (Ubuntu 18.04.2 LTS) / x86_64 | OK | OK | OK | |||||||
| tokay2 | Windows Server 2012 R2 Standard / x64 | OK | OK | WARNINGS | [ OK ] | |||||||
| celaya2 | OS X 10.11.6 El Capitan / x86_64 | OK | OK | OK | OK | |||||||
| merida2 | OS X 10.11.6 El Capitan / x86_64 | OK | OK | OK | OK |
| Package: sangerseqR |
| Version: 1.19.0 |
| Command: rm -rf sangerseqR.buildbin-libdir && mkdir sangerseqR.buildbin-libdir && C:\Users\biocbuild\bbs-3.9-bioc\R\bin\R.exe CMD INSTALL --merge-multiarch --build --library=sangerseqR.buildbin-libdir sangerseqR_1.19.0.tar.gz |
| StartedAt: 2019-04-09 08:54:46 -0400 (Tue, 09 Apr 2019) |
| EndedAt: 2019-04-09 08:55:16 -0400 (Tue, 09 Apr 2019) |
| EllapsedTime: 29.7 seconds |
| RetCode: 0 |
| Status: OK |
| PackageFile: sangerseqR_1.19.0.zip |
| PackageFileSize: 1.751 MiB |
##############################################################################
##############################################################################
###
### Running command:
###
### rm -rf sangerseqR.buildbin-libdir && mkdir sangerseqR.buildbin-libdir && C:\Users\biocbuild\bbs-3.9-bioc\R\bin\R.exe CMD INSTALL --merge-multiarch --build --library=sangerseqR.buildbin-libdir sangerseqR_1.19.0.tar.gz
###
##############################################################################
##############################################################################
install for i386
* installing *source* package 'sangerseqR' ...
** R
** inst
** byte-compile and prepare package for lazy loading
** help
*** installing help indices
converting help for package 'sangerseqR'
finding HTML links ... done
PolyPeakParser html
abif-class html
chromatogram html
makeBaseCalls html
read.abif html
read.scf html
readsangerseq html
sangerseq-class html
Rd warning: C:/Users/biocbuild/bbs-3.9-bioc/tmpdir/RtmpErThXP/R.INSTALLde84900ad6/sangerseqR/man/sangerseq-class.Rd:36: file link 'DNAString' in package 'Biostrings' does not exist and so has been treated as a topic
Rd warning: C:/Users/biocbuild/bbs-3.9-bioc/tmpdir/RtmpErThXP/R.INSTALLde84900ad6/sangerseqR/man/sangerseq-class.Rd:39: file link 'DNAString' in package 'Biostrings' does not exist and so has been treated as a topic
sangerseqAccessors html
finding level-2 HTML links ... done
sangerseqR-package html
scf-class html
Rd warning: C:/Users/biocbuild/bbs-3.9-bioc/tmpdir/RtmpErThXP/R.INSTALLde84900ad6/sangerseqR/man/scf-class.Rd:28: file link 'DNAString' in package 'Biostrings' does not exist and so has been treated as a topic
setAllelePhase html
** building package indices
** installing vignettes
** testing if installed package can be loaded from temporary location
** testing if installed package can be loaded from final location
** testing if installed package keeps a record of temporary installation path
install for x64
* installing *source* package 'sangerseqR' ...
** testing if installed package can be loaded
* MD5 sums
packaged installation of 'sangerseqR' as sangerseqR_1.19.0.zip
* DONE (sangerseqR)