Back to Multiple platform build/check report for BioC 3.9
ABCDEFGHIJKLMNOP[Q]RSTUVWXYZ

BUILD BIN report for qsmooth on celaya2

This page was generated on 2019-04-04 13:17:17 -0400 (Thu, 04 Apr 2019).

Package 1264/1700HostnameOS / ArchINSTALLBUILDCHECKBUILD BIN
qsmooth 0.99.7
Stephanie C. Hicks
Snapshot Date: 2019-04-03 17:01:07 -0400 (Wed, 03 Apr 2019)
URL: https://git.bioconductor.org/packages/qsmooth
Branch: master
Last Commit: 0797b5e
Last Changed Date: 2019-03-31 06:47:50 -0400 (Sun, 31 Mar 2019)
malbec2 Linux (Ubuntu 18.04.2 LTS) / x86_64  OK  OK  OK UNNEEDED, same version exists in internal repository
tokay2 Windows Server 2012 R2 Standard / x64  OK  OK  OK  OK YES, package does not exist in internal repository.
celaya2 OS X 10.11.6 El Capitan / x86_64  OK  OK  OK [ OK ]YES, package does not exist in internal repository.
merida2 OS X 10.11.6 El Capitan / x86_64  OK  OK  OK  OK 

Summary

Package: qsmooth
Version: 0.99.7
Command: rm -rf qsmooth.buildbin-libdir && mkdir qsmooth.buildbin-libdir && /Users/biocbuild/BBS/utils/build-universal.sh qsmooth_0.99.7.tar.gz /Library/Frameworks/R.framework/Versions/Current/Resources/bin/R qsmooth.buildbin-libdir
StartedAt: 2019-04-04 07:22:08 -0400 (Thu, 04 Apr 2019)
EndedAt: 2019-04-04 07:22:38 -0400 (Thu, 04 Apr 2019)
EllapsedTime: 29.7 seconds
RetCode: 0
Status:  OK 
PackageFile: qsmooth_0.99.7.tgz
PackageFileSize: 387.3 KiB

Command output

##############################################################################
##############################################################################
###
### Running command:
###
###   rm -rf qsmooth.buildbin-libdir && mkdir qsmooth.buildbin-libdir && /Users/biocbuild/BBS/utils/build-universal.sh qsmooth_0.99.7.tar.gz /Library/Frameworks/R.framework/Versions/Current/Resources/bin/R qsmooth.buildbin-libdir
###
##############################################################################
##############################################################################


>>>>>>> 
>>>>>>> INSTALLATION WITH 'R CMD INSTALL --preclean --no-multiarch --library=qsmooth.buildbin-libdir qsmooth_0.99.7.tar.gz'
>>>>>>> 

* installing *source* package ‘qsmooth’ ...
** using staged installation
** R
** inst
** byte-compile and prepare package for lazy loading
** help
*** installing help indices
** building package indices
** installing vignettes
** testing if installed package can be loaded from temporary location
** testing if installed package can be loaded from final location
** testing if installed package keeps a record of temporary installation path
* DONE (qsmooth)