| Back to Multiple platform build/check report for BioC 3.9 | 
  | 
This page was generated on 2019-04-09 12:56:31 -0400 (Tue, 09 Apr 2019).
| Package 1260/1703 | Hostname | OS / Arch | INSTALL | BUILD | CHECK | BUILD BIN | ||||||
| qpgraph 2.17.0 Robert Castelo 
  | malbec2 | Linux (Ubuntu 18.04.2 LTS) / x86_64 | OK | OK | OK | |||||||
| tokay2 | Windows Server 2012 R2 Standard / x64 | OK | OK | WARNINGS | OK | |||||||
| celaya2 | OS X 10.11.6 El Capitan / x86_64 | [ OK ] | OK | OK | OK | |||||||
| merida2 | OS X 10.11.6 El Capitan / x86_64 | OK | OK | OK | OK | 
| Package: qpgraph | 
| Version: 2.17.0 | 
| Command: /Library/Frameworks/R.framework/Versions/Current/Resources/bin/R CMD INSTALL qpgraph | 
| StartedAt: 2019-04-08 18:50:57 -0400 (Mon, 08 Apr 2019) | 
| EndedAt: 2019-04-08 18:52:18 -0400 (Mon, 08 Apr 2019) | 
| EllapsedTime: 80.9 seconds | 
| RetCode: 0 | 
| Status: OK | 
##############################################################################
##############################################################################
###
### Running command:
###
###   /Library/Frameworks/R.framework/Versions/Current/Resources/bin/R CMD INSTALL qpgraph
###
##############################################################################
##############################################################################
* installing to library ‘/Library/Frameworks/R.framework/Versions/3.6/Resources/library’
* installing *source* package ‘qpgraph’ ...
** using staged installation
checking for gcc... gcc
checking for C compiler default output file name... a.out
checking whether the C compiler works... yes
checking whether we are cross compiling... no
checking for suffix of executables... 
checking for suffix of object files... o
checking whether we are using the GNU C compiler... yes
checking whether gcc accepts -g... yes
checking for gcc option to accept ANSI C... none needed
checking build system type... i686-apple-darwin15.6.0
checking host system type... i686-apple-darwin15.6.0
configure: creating ./config.status
config.status: creating src/Makevars
** libs
clang -I"/Library/Frameworks/R.framework/Resources/include" -DNDEBUG -I/usr/local/include  -I/usr/local/include -Wall -g -O2 -Wall -pedantic -fPIC  -Wall -g -O2  -c cliquer.c -o cliquer.o
cliquer.c:229:5: warning: implicit declaration of function 'R_ProcessEvents' is invalid in C99 [-Wimplicit-function-declaration]
    R_ProcessEvents();
    ^
1 warning generated.
clang -I"/Library/Frameworks/R.framework/Resources/include" -DNDEBUG -I/usr/local/include  -I/usr/local/include -Wall -g -O2 -Wall -pedantic -fPIC  -Wall -g -O2  -c graph.c -o graph.o
clang -I"/Library/Frameworks/R.framework/Resources/include" -DNDEBUG -I/usr/local/include  -I/usr/local/include -Wall -g -O2 -Wall -pedantic -fPIC  -Wall -g -O2  -c qpgraph.c -o qpgraph.o
qpgraph.c:5851:19: warning: expression result unused [-Wunused-value]
    int i = edges[k, 0];
                  ^
qpgraph.c:5852:19: warning: expression result unused [-Wunused-value]
    int j = edges[k, 1];
                  ^
2 warnings generated.
clang -I"/Library/Frameworks/R.framework/Resources/include" -DNDEBUG -I/usr/local/include  -I/usr/local/include -Wall -g -O2 -Wall -pedantic -fPIC  -Wall -g -O2  -c reorder.c -o reorder.o
clang -dynamiclib -Wl,-headerpad_max_install_names -undefined dynamic_lookup -single_module -multiply_defined suppress -L/Library/Frameworks/R.framework/Resources/lib -L/usr/local/lib -o qpgraph.so cliquer.o graph.o qpgraph.o reorder.o -L/Library/Frameworks/R.framework/Resources/lib -lRlapack -L/Library/Frameworks/R.framework/Resources/lib -lRblas -L/usr/local/gfortran/lib/gcc/x86_64-apple-darwin15/6.1.0 -L/usr/local/gfortran/lib -lgfortran -lquadmath -lm -F/Library/Frameworks/R.framework/.. -framework R -Wl,-framework -Wl,CoreFoundation
installing to /Library/Frameworks/R.framework/Versions/3.6/Resources/library/00LOCK-qpgraph/00new/qpgraph/libs
** R
** data
*** moving datasets to lazyload DB
** inst
** byte-compile and prepare package for lazy loading
No methods found in package ‘GenomicRanges’ for request: ‘c’ when loading ‘qpgraph’
Creating a generic function for ‘det’ from package ‘Matrix’ in package ‘qpgraph’
** help
*** installing help indices
** building package indices
** installing vignettes
   ‘eQTLnetworks.Rnw’ 
   ‘qpTxRegNet.Rnw’ 
   ‘qpgraphSimulate.Rnw’ 
** testing if installed package can be loaded from temporary location
No methods found in package ‘GenomicRanges’ for request: ‘c’ when loading ‘qpgraph’
** checking absolute paths in shared objects and dynamic libraries
** testing if installed package can be loaded from final location
No methods found in package ‘GenomicRanges’ for request: ‘c’ when loading ‘qpgraph’
** testing if installed package keeps a record of temporary installation path
* DONE (qpgraph)