| Back to Multiple platform build/check report for BioC 3.9 | 
 | 
This page was generated on 2019-04-09 13:31:16 -0400 (Tue, 09 Apr 2019).
| Package 1204/1703 | Hostname | OS / Arch | INSTALL | BUILD | CHECK | BUILD BIN | ||||||
| podkat 1.15.1 Ulrich Bodenhofer 
 | malbec2 | Linux (Ubuntu 18.04.2 LTS) / x86_64 | OK | OK | OK |  | ||||||
| tokay2 | Windows Server 2012 R2 Standard / x64 | OK | OK | ERROR | OK | |||||||
| celaya2 | OS X 10.11.6 El Capitan / x86_64 | OK | OK | OK | OK |  | ||||||
| merida2 | OS X 10.11.6 El Capitan / x86_64 | OK | OK | [ OK ] | OK | 
| Package: podkat | 
| Version: 1.15.1 | 
| Command: /Library/Frameworks/R.framework/Versions/Current/Resources/bin/R CMD check --install=check:podkat.install-out.txt --library=/Library/Frameworks/R.framework/Versions/Current/Resources/library --no-vignettes --timings podkat_1.15.1.tar.gz | 
| StartedAt: 2019-04-09 02:56:00 -0400 (Tue, 09 Apr 2019) | 
| EndedAt: 2019-04-09 03:02:05 -0400 (Tue, 09 Apr 2019) | 
| EllapsedTime: 365.3 seconds | 
| RetCode: 0 | 
| Status: OK | 
| CheckDir: podkat.Rcheck | 
| Warnings: 0 | 
##############################################################################
##############################################################################
###
### Running command:
###
###   /Library/Frameworks/R.framework/Versions/Current/Resources/bin/R CMD check --install=check:podkat.install-out.txt --library=/Library/Frameworks/R.framework/Versions/Current/Resources/library --no-vignettes --timings podkat_1.15.1.tar.gz
###
##############################################################################
##############################################################################
* using log directory ‘/Users/biocbuild/bbs-3.9-bioc/meat/podkat.Rcheck’
* using R Under development (unstable) (2018-11-27 r75683)
* using platform: x86_64-apple-darwin15.6.0 (64-bit)
* using session charset: UTF-8
* using option ‘--no-vignettes’
* checking for file ‘podkat/DESCRIPTION’ ... OK
* checking extension type ... Package
* this is package ‘podkat’ version ‘1.15.1’
* checking package namespace information ... OK
* checking package dependencies ... OK
* checking if this is a source package ... OK
* checking if there is a namespace ... OK
* checking for hidden files and directories ... OK
* checking for portable file names ... OK
* checking for sufficient/correct file permissions ... OK
* checking whether package ‘podkat’ can be installed ... OK
* checking installed package size ... OK
* checking package directory ... OK
* checking ‘build’ directory ... OK
* checking DESCRIPTION meta-information ... OK
* checking top-level files ... OK
* checking for left-over files ... OK
* checking index information ... OK
* checking package subdirectories ... OK
* checking R files for non-ASCII characters ... OK
* checking R files for syntax errors ... OK
* checking whether the package can be loaded ... OK
* checking whether the package can be loaded with stated dependencies ... OK
* checking whether the package can be unloaded cleanly ... OK
* checking whether the namespace can be loaded with stated dependencies ... OK
* checking whether the namespace can be unloaded cleanly ... OK
* checking dependencies in R code ... OK
* checking S3 generic/method consistency ... OK
* checking replacement functions ... OK
* checking foreign function calls ... OK
* checking R code for possible problems ... NOTE
assocTest.TabixFile: no visible global function definition for ‘path’
readGenotypeMatrix.TabixFile: no visible global function definition for
  ‘path’
readSampleNamesFromVcfHeader: no visible global function definition for
  ‘path’
readVariantInfo.TabixFile: no visible global function definition for
  ‘path’
weights.AssocTestResultRanges.TabixFile: no visible global function
  definition for ‘path’
assocTest,TabixFile-NullModel: no visible global function definition
  for ‘path’
readGenotypeMatrix,TabixFile-GRanges: no visible global function
  definition for ‘path’
readVariantInfo,TabixFile-GRanges: no visible global function
  definition for ‘path’
Undefined global functions or variables:
  path
* checking Rd files ... OK
* checking Rd metadata ... OK
* checking Rd cross-references ... OK
* checking for missing documentation entries ... OK
* checking for code/documentation mismatches ... OK
* checking Rd \usage sections ... OK
* checking Rd contents ... OK
* checking for unstated dependencies in examples ... OK
* checking contents of ‘data’ directory ... OK
* checking data for non-ASCII characters ... OK
* checking data for ASCII and uncompressed saves ... OK
* checking line endings in C/C++/Fortran sources/headers ... OK
* checking line endings in Makefiles ... OK
* checking compilation flags in Makevars ... OK
* checking for GNU extensions in Makefiles ... OK
* checking for portable use of $(BLAS_LIBS) and $(LAPACK_LIBS) ... OK
* checking compiled code ... NOTE
Note: information on .o files is not available
File ‘/Library/Frameworks/R.framework/Versions/3.6/Resources/library/podkat/libs/podkat.so’:
  Found ‘___assert_rtn’, possibly from ‘assert’ (C)
  Found ‘___stderrp’, possibly from ‘stderr’ (C)
  Found ‘___stdoutp’, possibly from ‘stdout’ (C)
  Found ‘_abort’, possibly from ‘abort’ (C)
  Found ‘_exit’, possibly from ‘exit’ (C)
  Found ‘_printf’, possibly from ‘printf’ (C)
  Found ‘_putchar’, possibly from ‘putchar’ (C)
  Found ‘_puts’, possibly from ‘printf’ (C), ‘puts’ (C)
  Found ‘_srand48’, possibly from ‘srand48’ (C)
Compiled code should not call entry points which might terminate R nor
write to stdout/stderr instead of to the console, nor use Fortran I/O
nor system RNGs. The detected symbols are linked into the code but
might come from libraries and not actually be called.
See ‘Writing portable packages’ in the ‘Writing R Extensions’ manual.
* checking sizes of PDF files under ‘inst/doc’ ... OK
* checking files in ‘vignettes’ ... OK
* checking examples ... OK
Examples with CPU or elapsed time > 5s
                    user system elapsed
unmaskedRegions   64.077  5.398  69.976
assocTest-methods 13.646  0.505  14.222
plot-methods      10.519  0.497  11.092
* checking for unstated dependencies in vignettes ... OK
* checking package vignettes in ‘inst/doc’ ... OK
* checking running R code from vignettes ... SKIPPED
* checking re-building of vignette outputs ... SKIPPED
* checking PDF version of manual ... OK
* DONE
Status: 2 NOTEs
See
  ‘/Users/biocbuild/bbs-3.9-bioc/meat/podkat.Rcheck/00check.log’
for details.
podkat.Rcheck/00install.out
##############################################################################
##############################################################################
###
### Running command:
###
###   /Library/Frameworks/R.framework/Versions/Current/Resources/bin/R CMD INSTALL podkat
###
##############################################################################
##############################################################################
* installing to library ‘/Library/Frameworks/R.framework/Versions/3.6/Resources/library’
* installing *source* package ‘podkat’ ...
** libs
clang++ -std=gnu++11 -I"/Library/Frameworks/R.framework/Resources/include" -DNDEBUG `echo 'Rhtslib::pkgconfig("PKG_CPPFLAGS")'| "/Library/Frameworks/R.framework/Resources/bin/R" --vanilla --slave` -I"/Library/Frameworks/R.framework/Versions/3.6/Resources/library/Rcpp/include" -I"/Library/Frameworks/R.framework/Versions/3.6/Resources/library/Rhtslib/include" -I/usr/local/include   -fPIC  -Wall -g -O2  -c R_init_podkat.cpp -o R_init_podkat.o
clang++ -std=gnu++11 -I"/Library/Frameworks/R.framework/Resources/include" -DNDEBUG `echo 'Rhtslib::pkgconfig("PKG_CPPFLAGS")'| "/Library/Frameworks/R.framework/Resources/bin/R" --vanilla --slave` -I"/Library/Frameworks/R.framework/Versions/3.6/Resources/library/Rcpp/include" -I"/Library/Frameworks/R.framework/Versions/3.6/Resources/library/Rhtslib/include" -I/usr/local/include   -fPIC  -Wall -g -O2  -c bernoulliExact.cpp -o bernoulliExact.o
clang++ -std=gnu++11 -I"/Library/Frameworks/R.framework/Resources/include" -DNDEBUG `echo 'Rhtslib::pkgconfig("PKG_CPPFLAGS")'| "/Library/Frameworks/R.framework/Resources/bin/R" --vanilla --slave` -I"/Library/Frameworks/R.framework/Versions/3.6/Resources/library/Rcpp/include" -I"/Library/Frameworks/R.framework/Versions/3.6/Resources/library/Rhtslib/include" -I/usr/local/include   -fPIC  -Wall -g -O2  -c checkAndFixGenotype.cpp -o checkAndFixGenotype.o
clang++ -std=gnu++11 -I"/Library/Frameworks/R.framework/Resources/include" -DNDEBUG `echo 'Rhtslib::pkgconfig("PKG_CPPFLAGS")'| "/Library/Frameworks/R.framework/Resources/bin/R" --vanilla --slave` -I"/Library/Frameworks/R.framework/Versions/3.6/Resources/library/Rcpp/include" -I"/Library/Frameworks/R.framework/Versions/3.6/Resources/library/Rhtslib/include" -I/usr/local/include   -fPIC  -Wall -g -O2  -c cumMax.cpp -o cumMax.o
clang++ -std=gnu++11 -I"/Library/Frameworks/R.framework/Resources/include" -DNDEBUG `echo 'Rhtslib::pkgconfig("PKG_CPPFLAGS")'| "/Library/Frameworks/R.framework/Resources/bin/R" --vanilla --slave` -I"/Library/Frameworks/R.framework/Versions/3.6/Resources/library/Rcpp/include" -I"/Library/Frameworks/R.framework/Versions/3.6/Resources/library/Rhtslib/include" -I/usr/local/include   -fPIC  -Wall -g -O2  -c doubleMale.cpp -o doubleMale.o
clang++ -std=gnu++11 -I"/Library/Frameworks/R.framework/Resources/include" -DNDEBUG `echo 'Rhtslib::pkgconfig("PKG_CPPFLAGS")'| "/Library/Frameworks/R.framework/Resources/bin/R" --vanilla --slave` -I"/Library/Frameworks/R.framework/Versions/3.6/Resources/library/Rcpp/include" -I"/Library/Frameworks/R.framework/Versions/3.6/Resources/library/Rhtslib/include" -I/usr/local/include   -fPIC  -Wall -g -O2  -c kernels.cpp -o kernels.o
clang++ -std=gnu++11 -I"/Library/Frameworks/R.framework/Resources/include" -DNDEBUG `echo 'Rhtslib::pkgconfig("PKG_CPPFLAGS")'| "/Library/Frameworks/R.framework/Resources/bin/R" --vanilla --slave` -I"/Library/Frameworks/R.framework/Versions/3.6/Resources/library/Rcpp/include" -I"/Library/Frameworks/R.framework/Versions/3.6/Resources/library/Rhtslib/include" -I/usr/local/include   -fPIC  -Wall -g -O2  -c pValues.cpp -o pValues.o
clang++ -std=gnu++11 -I"/Library/Frameworks/R.framework/Resources/include" -DNDEBUG `echo 'Rhtslib::pkgconfig("PKG_CPPFLAGS")'| "/Library/Frameworks/R.framework/Resources/bin/R" --vanilla --slave` -I"/Library/Frameworks/R.framework/Versions/3.6/Resources/library/Rcpp/include" -I"/Library/Frameworks/R.framework/Versions/3.6/Resources/library/Rhtslib/include" -I/usr/local/include   -fPIC  -Wall -g -O2  -c partitionRegions.cpp -o partitionRegions.o
clang++ -std=gnu++11 -I"/Library/Frameworks/R.framework/Resources/include" -DNDEBUG `echo 'Rhtslib::pkgconfig("PKG_CPPFLAGS")'| "/Library/Frameworks/R.framework/Resources/bin/R" --vanilla --slave` -I"/Library/Frameworks/R.framework/Versions/3.6/Resources/library/Rcpp/include" -I"/Library/Frameworks/R.framework/Versions/3.6/Resources/library/Rhtslib/include" -I/usr/local/include   -fPIC  -Wall -g -O2  -c qfc.cpp -o qfc.o
clang++ -std=gnu++11 -I"/Library/Frameworks/R.framework/Resources/include" -DNDEBUG `echo 'Rhtslib::pkgconfig("PKG_CPPFLAGS")'| "/Library/Frameworks/R.framework/Resources/bin/R" --vanilla --slave` -I"/Library/Frameworks/R.framework/Versions/3.6/Resources/library/Rcpp/include" -I"/Library/Frameworks/R.framework/Versions/3.6/Resources/library/Rhtslib/include" -I/usr/local/include   -fPIC  -Wall -g -O2  -c readGenotypeMatrix.cpp -o readGenotypeMatrix.o
In file included from readGenotypeMatrix.cpp:2:
In file included from /Library/Frameworks/R.framework/Versions/3.6/Resources/library/Rcpp/include/Rcpp.h:27:
In file included from /Library/Frameworks/R.framework/Versions/3.6/Resources/library/Rcpp/include/RcppCommon.h:128:
/Library/Frameworks/R.framework/Versions/3.6/Resources/library/Rcpp/include/Rcpp/exceptions.h:109:53: warning: all paths through this function will call itself [-Winfinite-recursion]
    inline void warning(const std::string& message) {        // #nocov start
                                                    ^
1 warning generated.
clang++ -std=gnu++11 -I"/Library/Frameworks/R.framework/Resources/include" -DNDEBUG `echo 'Rhtslib::pkgconfig("PKG_CPPFLAGS")'| "/Library/Frameworks/R.framework/Resources/bin/R" --vanilla --slave` -I"/Library/Frameworks/R.framework/Versions/3.6/Resources/library/Rcpp/include" -I"/Library/Frameworks/R.framework/Versions/3.6/Resources/library/Rhtslib/include" -I/usr/local/include   -fPIC  -Wall -g -O2  -c readVariantInfo.cpp -o readVariantInfo.o
In file included from readVariantInfo.cpp:2:
In file included from /Library/Frameworks/R.framework/Versions/3.6/Resources/library/Rcpp/include/Rcpp.h:27:
In file included from /Library/Frameworks/R.framework/Versions/3.6/Resources/library/Rcpp/include/RcppCommon.h:128:
/Library/Frameworks/R.framework/Versions/3.6/Resources/library/Rcpp/include/Rcpp/exceptions.h:109:53: warning: all paths through this function will call itself [-Winfinite-recursion]
    inline void warning(const std::string& message) {        // #nocov start
                                                    ^
1 warning generated.
clang++ -std=gnu++11 -dynamiclib -Wl,-headerpad_max_install_names -undefined dynamic_lookup -single_module -multiply_defined suppress -L/Library/Frameworks/R.framework/Resources/lib -L/usr/local/lib -o podkat.so R_init_podkat.o bernoulliExact.o checkAndFixGenotype.o cumMax.o doubleMale.o kernels.o pValues.o partitionRegions.o qfc.o readGenotypeMatrix.o readVariantInfo.o /Library/Frameworks/R.framework/Versions/3.6/Resources/library/Rhtslib/usrlib/libhts.a -F/Library/Frameworks/R.framework/.. -framework R -Wl,-framework -Wl,CoreFoundation
installing to /Library/Frameworks/R.framework/Versions/3.6/Resources/library/podkat/libs
** R
** data
** inst
** byte-compile and prepare package for lazy loading
Creating a generic function for ‘p.adjust’ from package ‘stats’ in package ‘podkat’
Creating a generic function for ‘qqplot’ from package ‘stats’ in package ‘podkat’
** help
*** installing help indices
** building package indices
** installing vignettes
** testing if installed package can be loaded
* DONE (podkat)
podkat.Rcheck/podkat-Ex.timings
| name | user | system | elapsed | |
| AssocTestResult-class | 0.793 | 0.038 | 0.840 | |
| AssocTestResultRanges-class | 2.711 | 0.136 | 2.860 | |
| GenotypeMatrix-class | 3.002 | 0.114 | 3.130 | |
| NullModel-class | 1.859 | 0.145 | 2.021 | |
| VariantInfo-class | 0.399 | 0.011 | 0.413 | |
| assocTest-methods | 13.646 | 0.505 | 14.222 | |
| computeKernel | 0.004 | 0.001 | 0.004 | |
| filterResult-methods | 1.563 | 0.025 | 1.593 | |
| genotypeMatrix-methods | 0.832 | 0.030 | 0.863 | |
| hgA | 0.014 | 0.002 | 0.016 | |
| nullModel-methods | 1.123 | 0.124 | 1.252 | |
| p.adjust-methods | 1.251 | 0.007 | 1.261 | |
| partitionRegions-methods | 0.680 | 0.005 | 0.689 | |
| plot-methods | 10.519 | 0.497 | 11.092 | |
| podkat-package | 1.307 | 0.028 | 1.341 | |
| print-methods | 1.463 | 0.011 | 1.479 | |
| qqplot-methods | 2.078 | 0.006 | 2.097 | |
| readGenotypeMatrix-methods | 0.367 | 0.002 | 0.370 | |
| readRegionsFromBedFile | 0.030 | 0.003 | 0.042 | |
| readSampleNamesFromVcfHeader | 0.048 | 0.001 | 0.050 | |
| readVariantInfo-methods | 0.415 | 0.003 | 0.419 | |
| sort-methods | 1.268 | 0.013 | 1.285 | |
| split-methods | 2.877 | 0.176 | 3.059 | |
| unmasked-datasets | 0.388 | 0.006 | 0.396 | |
| unmaskedRegions | 64.077 | 5.398 | 69.976 | |
| weightFuncs | 0.006 | 0.001 | 0.008 | |
| weights-methods | 1.707 | 0.012 | 1.730 | |