| Back to Multiple platform build/check report for BioC 3.9 | 
  | 
This page was generated on 2019-04-09 13:13:45 -0400 (Tue, 09 Apr 2019).
| Package 1204/1703 | Hostname | OS / Arch | INSTALL | BUILD | CHECK | BUILD BIN | ||||||
| podkat 1.15.1 Ulrich Bodenhofer 
  | malbec2 | Linux (Ubuntu 18.04.2 LTS) / x86_64 | OK | OK | OK | |||||||
| tokay2 | Windows Server 2012 R2 Standard / x64 | OK | OK | ERROR | OK | |||||||
| celaya2 | OS X 10.11.6 El Capitan / x86_64 | OK | OK | OK | [ OK ] | |||||||
| merida2 | OS X 10.11.6 El Capitan / x86_64 | OK | OK | OK | OK | 
| Package: podkat | 
| Version: 1.15.1 | 
| Command: rm -rf podkat.buildbin-libdir && mkdir podkat.buildbin-libdir && /Users/biocbuild/BBS/utils/build-universal.sh podkat_1.15.1.tar.gz /Library/Frameworks/R.framework/Versions/Current/Resources/bin/R podkat.buildbin-libdir | 
| StartedAt: 2019-04-09 07:32:42 -0400 (Tue, 09 Apr 2019) | 
| EndedAt: 2019-04-09 07:35:15 -0400 (Tue, 09 Apr 2019) | 
| EllapsedTime: 153.1 seconds | 
| RetCode: 0 | 
| Status: OK | 
| PackageFile: podkat_1.15.1.tgz | 
| PackageFileSize: 2.136 MiB | 
##############################################################################
##############################################################################
###
### Running command:
###
###   rm -rf podkat.buildbin-libdir && mkdir podkat.buildbin-libdir && /Users/biocbuild/BBS/utils/build-universal.sh podkat_1.15.1.tar.gz /Library/Frameworks/R.framework/Versions/Current/Resources/bin/R podkat.buildbin-libdir
###
##############################################################################
##############################################################################
>>>>>>> 
>>>>>>> INSTALLATION WITH 'R CMD INSTALL --preclean --no-multiarch --library=podkat.buildbin-libdir podkat_1.15.1.tar.gz'
>>>>>>> 
* installing *source* package ‘podkat’ ...
** using staged installation
** libs
clang++ -std=gnu++11 -I"/Library/Frameworks/R.framework/Resources/include" -DNDEBUG `echo 'Rhtslib::pkgconfig("PKG_CPPFLAGS")'| "/Library/Frameworks/R.framework/Resources/bin/R" --vanilla --slave` -I"/Library/Frameworks/R.framework/Versions/3.6/Resources/library/Rcpp/include" -I"/Library/Frameworks/R.framework/Versions/3.6/Resources/library/Rhtslib/include" -I/usr/local/include  -fPIC  -Wall -g -O2  -c R_init_podkat.cpp -o R_init_podkat.o
clang++ -std=gnu++11 -I"/Library/Frameworks/R.framework/Resources/include" -DNDEBUG `echo 'Rhtslib::pkgconfig("PKG_CPPFLAGS")'| "/Library/Frameworks/R.framework/Resources/bin/R" --vanilla --slave` -I"/Library/Frameworks/R.framework/Versions/3.6/Resources/library/Rcpp/include" -I"/Library/Frameworks/R.framework/Versions/3.6/Resources/library/Rhtslib/include" -I/usr/local/include  -fPIC  -Wall -g -O2  -c bernoulliExact.cpp -o bernoulliExact.o
clang++ -std=gnu++11 -I"/Library/Frameworks/R.framework/Resources/include" -DNDEBUG `echo 'Rhtslib::pkgconfig("PKG_CPPFLAGS")'| "/Library/Frameworks/R.framework/Resources/bin/R" --vanilla --slave` -I"/Library/Frameworks/R.framework/Versions/3.6/Resources/library/Rcpp/include" -I"/Library/Frameworks/R.framework/Versions/3.6/Resources/library/Rhtslib/include" -I/usr/local/include  -fPIC  -Wall -g -O2  -c checkAndFixGenotype.cpp -o checkAndFixGenotype.o
clang++ -std=gnu++11 -I"/Library/Frameworks/R.framework/Resources/include" -DNDEBUG `echo 'Rhtslib::pkgconfig("PKG_CPPFLAGS")'| "/Library/Frameworks/R.framework/Resources/bin/R" --vanilla --slave` -I"/Library/Frameworks/R.framework/Versions/3.6/Resources/library/Rcpp/include" -I"/Library/Frameworks/R.framework/Versions/3.6/Resources/library/Rhtslib/include" -I/usr/local/include  -fPIC  -Wall -g -O2  -c cumMax.cpp -o cumMax.o
clang++ -std=gnu++11 -I"/Library/Frameworks/R.framework/Resources/include" -DNDEBUG `echo 'Rhtslib::pkgconfig("PKG_CPPFLAGS")'| "/Library/Frameworks/R.framework/Resources/bin/R" --vanilla --slave` -I"/Library/Frameworks/R.framework/Versions/3.6/Resources/library/Rcpp/include" -I"/Library/Frameworks/R.framework/Versions/3.6/Resources/library/Rhtslib/include" -I/usr/local/include  -fPIC  -Wall -g -O2  -c doubleMale.cpp -o doubleMale.o
clang++ -std=gnu++11 -I"/Library/Frameworks/R.framework/Resources/include" -DNDEBUG `echo 'Rhtslib::pkgconfig("PKG_CPPFLAGS")'| "/Library/Frameworks/R.framework/Resources/bin/R" --vanilla --slave` -I"/Library/Frameworks/R.framework/Versions/3.6/Resources/library/Rcpp/include" -I"/Library/Frameworks/R.framework/Versions/3.6/Resources/library/Rhtslib/include" -I/usr/local/include  -fPIC  -Wall -g -O2  -c kernels.cpp -o kernels.o
clang++ -std=gnu++11 -I"/Library/Frameworks/R.framework/Resources/include" -DNDEBUG `echo 'Rhtslib::pkgconfig("PKG_CPPFLAGS")'| "/Library/Frameworks/R.framework/Resources/bin/R" --vanilla --slave` -I"/Library/Frameworks/R.framework/Versions/3.6/Resources/library/Rcpp/include" -I"/Library/Frameworks/R.framework/Versions/3.6/Resources/library/Rhtslib/include" -I/usr/local/include  -fPIC  -Wall -g -O2  -c pValues.cpp -o pValues.o
clang++ -std=gnu++11 -I"/Library/Frameworks/R.framework/Resources/include" -DNDEBUG `echo 'Rhtslib::pkgconfig("PKG_CPPFLAGS")'| "/Library/Frameworks/R.framework/Resources/bin/R" --vanilla --slave` -I"/Library/Frameworks/R.framework/Versions/3.6/Resources/library/Rcpp/include" -I"/Library/Frameworks/R.framework/Versions/3.6/Resources/library/Rhtslib/include" -I/usr/local/include  -fPIC  -Wall -g -O2  -c partitionRegions.cpp -o partitionRegions.o
clang++ -std=gnu++11 -I"/Library/Frameworks/R.framework/Resources/include" -DNDEBUG `echo 'Rhtslib::pkgconfig("PKG_CPPFLAGS")'| "/Library/Frameworks/R.framework/Resources/bin/R" --vanilla --slave` -I"/Library/Frameworks/R.framework/Versions/3.6/Resources/library/Rcpp/include" -I"/Library/Frameworks/R.framework/Versions/3.6/Resources/library/Rhtslib/include" -I/usr/local/include  -fPIC  -Wall -g -O2  -c qfc.cpp -o qfc.o
clang++ -std=gnu++11 -I"/Library/Frameworks/R.framework/Resources/include" -DNDEBUG `echo 'Rhtslib::pkgconfig("PKG_CPPFLAGS")'| "/Library/Frameworks/R.framework/Resources/bin/R" --vanilla --slave` -I"/Library/Frameworks/R.framework/Versions/3.6/Resources/library/Rcpp/include" -I"/Library/Frameworks/R.framework/Versions/3.6/Resources/library/Rhtslib/include" -I/usr/local/include  -fPIC  -Wall -g -O2  -c readGenotypeMatrix.cpp -o readGenotypeMatrix.o
In file included from readGenotypeMatrix.cpp:2:
In file included from /Library/Frameworks/R.framework/Versions/3.6/Resources/library/Rcpp/include/Rcpp.h:27:
In file included from /Library/Frameworks/R.framework/Versions/3.6/Resources/library/Rcpp/include/RcppCommon.h:128:
/Library/Frameworks/R.framework/Versions/3.6/Resources/library/Rcpp/include/Rcpp/exceptions.h:109:53: warning: all paths through this function will call itself [-Winfinite-recursion]
    inline void warning(const std::string& message) {        // #nocov start
                                                    ^
1 warning generated.
clang++ -std=gnu++11 -I"/Library/Frameworks/R.framework/Resources/include" -DNDEBUG `echo 'Rhtslib::pkgconfig("PKG_CPPFLAGS")'| "/Library/Frameworks/R.framework/Resources/bin/R" --vanilla --slave` -I"/Library/Frameworks/R.framework/Versions/3.6/Resources/library/Rcpp/include" -I"/Library/Frameworks/R.framework/Versions/3.6/Resources/library/Rhtslib/include" -I/usr/local/include  -fPIC  -Wall -g -O2  -c readVariantInfo.cpp -o readVariantInfo.o
In file included from readVariantInfo.cpp:2:
In file included from /Library/Frameworks/R.framework/Versions/3.6/Resources/library/Rcpp/include/Rcpp.h:27:
In file included from /Library/Frameworks/R.framework/Versions/3.6/Resources/library/Rcpp/include/RcppCommon.h:128:
/Library/Frameworks/R.framework/Versions/3.6/Resources/library/Rcpp/include/Rcpp/exceptions.h:109:53: warning: all paths through this function will call itself [-Winfinite-recursion]
    inline void warning(const std::string& message) {        // #nocov start
                                                    ^
1 warning generated.
clang++ -std=gnu++11 -dynamiclib -Wl,-headerpad_max_install_names -undefined dynamic_lookup -single_module -multiply_defined suppress -L/Library/Frameworks/R.framework/Resources/lib -L/usr/local/lib -o podkat.so R_init_podkat.o bernoulliExact.o checkAndFixGenotype.o cumMax.o doubleMale.o kernels.o pValues.o partitionRegions.o qfc.o readGenotypeMatrix.o readVariantInfo.o /Library/Frameworks/R.framework/Versions/3.6/Resources/library/Rhtslib/usrlib/libhts.a -F/Library/Frameworks/R.framework/.. -framework R -Wl,-framework -Wl,CoreFoundation
installing to /Users/biocbuild/bbs-3.9-bioc/meat/podkat.buildbin-libdir/00LOCK-podkat/00new/podkat/libs
** R
** data
** inst
** byte-compile and prepare package for lazy loading
Creating a generic function for ‘p.adjust’ from package ‘stats’ in package ‘podkat’
Creating a generic function for ‘qqplot’ from package ‘stats’ in package ‘podkat’
** help
*** installing help indices
** building package indices
** installing vignettes
** testing if installed package can be loaded from temporary location
** checking absolute paths in shared objects and dynamic libraries
** testing if installed package can be loaded from final location
** testing if installed package keeps a record of temporary installation path
* DONE (podkat)
>>>>>>> 
>>>>>>> FIXING LINKS FOR podkat.buildbin-libdir/podkat/libs//podkat.so
>>>>>>> 
install_name_tool -change "/usr/local/lib/libgcc_s.1.dylib" "/Library/Frameworks/R.framework/Versions/3.6/Resources/lib/libgcc_s.1.dylib" "podkat.buildbin-libdir/podkat/libs//podkat.so"
install_name_tool -change "/usr/local/lib/libgfortran.3.dylib" "/Library/Frameworks/R.framework/Versions/3.6/Resources/lib/libgfortran.3.dylib" "podkat.buildbin-libdir/podkat/libs//podkat.so"
install_name_tool -change "/usr/local/lib/libreadline.5.2.dylib" "/Library/Frameworks/R.framework/Versions/3.6/Resources/lib/libreadline.5.2.dylib" "podkat.buildbin-libdir/podkat/libs//podkat.so"
install_name_tool -change "/usr/local/lib/libreadline.dylib" "/Library/Frameworks/R.framework/Versions/3.6/Resources/lib/libreadline.dylib" "podkat.buildbin-libdir/podkat/libs//podkat.so"
install_name_tool -change "/usr/local/lib/libquadmath.0.dylib" "/Library/Frameworks/R.framework/Versions/3.6/Resources/lib/libquadmath.0.dylib" "podkat.buildbin-libdir/podkat/libs//podkat.so"