| Back to Multiple platform build/check report for BioC 3.9 | 
 | 
This page was generated on 2019-04-09 13:31:29 -0400 (Tue, 09 Apr 2019).
| Package 1140/1703 | Hostname | OS / Arch | INSTALL | BUILD | CHECK | BUILD BIN | ||||||
| pandaR 1.15.0 Joseph N. Paulson 
 | malbec2 | Linux (Ubuntu 18.04.2 LTS) / x86_64 | OK | OK | OK |  | ||||||
| tokay2 | Windows Server 2012 R2 Standard / x64 | OK | OK | OK | OK |  | ||||||
| celaya2 | OS X 10.11.6 El Capitan / x86_64 | OK | OK | OK | OK |  | ||||||
| merida2 | OS X 10.11.6 El Capitan / x86_64 | OK | OK | OK | [ OK ] | 
| Package: pandaR | 
| Version: 1.15.0 | 
| Command: rm -rf pandaR.buildbin-libdir && mkdir pandaR.buildbin-libdir && /Users/biocbuild/BBS/utils/build-universal.sh pandaR_1.15.0.tar.gz /Library/Frameworks/R.framework/Versions/Current/Resources/bin/R pandaR.buildbin-libdir | 
| StartedAt: 2019-04-09 06:04:31 -0400 (Tue, 09 Apr 2019) | 
| EndedAt: 2019-04-09 06:05:47 -0400 (Tue, 09 Apr 2019) | 
| EllapsedTime: 75.7 seconds | 
| RetCode: 0 | 
| Status: OK | 
| PackageFile: pandaR_1.15.0.tgz | 
| PackageFileSize: 9.018 MiB | 
############################################################################## ############################################################################## ### ### Running command: ### ### rm -rf pandaR.buildbin-libdir && mkdir pandaR.buildbin-libdir && /Users/biocbuild/BBS/utils/build-universal.sh pandaR_1.15.0.tar.gz /Library/Frameworks/R.framework/Versions/Current/Resources/bin/R pandaR.buildbin-libdir ### ############################################################################## ############################################################################## >>>>>>> >>>>>>> INSTALLATION WITH 'R CMD INSTALL --preclean --no-multiarch --library=pandaR.buildbin-libdir pandaR_1.15.0.tar.gz' >>>>>>> * installing *source* package ‘pandaR’ ... ** R ** data *** moving datasets to lazyload DB ** inst ** byte-compile and prepare package for lazy loading ** help *** installing help indices ** building package indices ** installing vignettes ** testing if installed package can be loaded * DONE (pandaR)