| Back to Multiple platform build/check report for BioC 3.9 | 
 | 
This page was generated on 2019-04-09 11:53:10 -0400 (Tue, 09 Apr 2019).
| Package 1054/1703 | Hostname | OS / Arch | INSTALL | BUILD | CHECK | BUILD BIN | ||||||
| multtest 2.39.0 Katherine S. Pollard 
 | malbec2 | Linux (Ubuntu 18.04.2 LTS) / x86_64 | OK | OK | WARNINGS |  | ||||||
| tokay2 | Windows Server 2012 R2 Standard / x64 | OK | OK | WARNINGS | [ OK ] |  | ||||||
| celaya2 | OS X 10.11.6 El Capitan / x86_64 | OK | OK | WARNINGS | OK |  | ||||||
| merida2 | OS X 10.11.6 El Capitan / x86_64 | OK | OK | WARNINGS | OK | 
| Package: multtest | 
| Version: 2.39.0 | 
| Command: rm -rf multtest.buildbin-libdir && mkdir multtest.buildbin-libdir && C:\Users\biocbuild\bbs-3.9-bioc\R\bin\R.exe CMD INSTALL --merge-multiarch --build --library=multtest.buildbin-libdir multtest_2.39.0.tar.gz | 
| StartedAt: 2019-04-09 08:32:39 -0400 (Tue, 09 Apr 2019) | 
| EndedAt: 2019-04-09 08:33:27 -0400 (Tue, 09 Apr 2019) | 
| EllapsedTime: 48.3 seconds | 
| RetCode: 0 | 
| Status: OK | 
| PackageFile: multtest_2.39.0.zip | 
| PackageFileSize: 935 KiB | 
##############################################################################
##############################################################################
###
### Running command:
###
###   rm -rf multtest.buildbin-libdir && mkdir multtest.buildbin-libdir && C:\Users\biocbuild\bbs-3.9-bioc\R\bin\R.exe CMD INSTALL --merge-multiarch --build --library=multtest.buildbin-libdir multtest_2.39.0.tar.gz
###
##############################################################################
##############################################################################
install for i386
* installing *source* package 'multtest' ...
** libs
C:/Rtools/mingw_32/bin/gcc  -I"C:/Users/BIOCBU˜1/BBS-3˜1.9-B/R/include" -DNDEBUG     -I"C:/extsoft/include"  -DUSEDOUBLE -DWINDOWS   -O3 -Wall  -std=gnu99 -mtune=generic -c Rpack.c -o Rpack.o
Rpack.c: In function 'get_samples_T':
Rpack.c:139:17: warning: 'sd.test' may be used uninitialized in this function [-Wmaybe-uninitialized]
   SAMPLING_DATA sd;
                 ^
Rpack.c:143:3: warning: 'sd.fn_maxT' may be used uninitialized in this function [-Wmaybe-uninitialized]
   get_all_samples_T(V,n,T,*pna,sd.fn_maxT,sd.fn_first,sd.fn_next,(void*)extra);
   ^
Rpack.c: In function 'get_samples_P':
Rpack.c:150:17: warning: 'sd.test' may be used uninitialized in this function [-Wmaybe-uninitialized]
   SAMPLING_DATA sd;
                 ^
Rpack.c:154:3: warning: 'sd.fn_minP' may be used uninitialized in this function [-Wmaybe-uninitialized]
   get_all_samples_P(V,n,P,*pna,sd.fn_minP,sd.fn_first,sd.fn_next,sd.fn_cmp,(void*)extra);
   ^
C:/Rtools/mingw_32/bin/gcc  -I"C:/Users/BIOCBU˜1/BBS-3˜1.9-B/R/include" -DNDEBUG     -I"C:/extsoft/include"  -DUSEDOUBLE -DWINDOWS   -O3 -Wall  -std=gnu99 -mtune=generic -c VScount.c -o VScount.o
C:/Rtools/mingw_32/bin/gcc  -I"C:/Users/BIOCBU˜1/BBS-3˜1.9-B/R/include" -DNDEBUG     -I"C:/extsoft/include"  -DUSEDOUBLE -DWINDOWS   -O3 -Wall  -std=gnu99 -mtune=generic -c block_sampling_fixed.c -o block_sampling_fixed.o
C:/Rtools/mingw_32/bin/gcc  -I"C:/Users/BIOCBU˜1/BBS-3˜1.9-B/R/include" -DNDEBUG     -I"C:/extsoft/include"  -DUSEDOUBLE -DWINDOWS   -O3 -Wall  -std=gnu99 -mtune=generic -c bootloop.c -o bootloop.o
C:/Rtools/mingw_32/bin/gcc  -I"C:/Users/BIOCBU˜1/BBS-3˜1.9-B/R/include" -DNDEBUG     -I"C:/extsoft/include"  -DUSEDOUBLE -DWINDOWS   -O3 -Wall  -std=gnu99 -mtune=generic -c mt.c -o mt.o
C:/Rtools/mingw_32/bin/gcc  -I"C:/Users/BIOCBU˜1/BBS-3˜1.9-B/R/include" -DNDEBUG     -I"C:/extsoft/include"  -DUSEDOUBLE -DWINDOWS   -O3 -Wall  -std=gnu99 -mtune=generic -c pairt_sampling.c -o pairt_sampling.o
C:/Rtools/mingw_32/bin/gcc  -I"C:/Users/BIOCBU˜1/BBS-3˜1.9-B/R/include" -DNDEBUG     -I"C:/extsoft/include"  -DUSEDOUBLE -DWINDOWS   -O3 -Wall  -std=gnu99 -mtune=generic -c pairt_sampling_fixed.c -o pairt_sampling_fixed.o
C:/Rtools/mingw_32/bin/gcc  -I"C:/Users/BIOCBU˜1/BBS-3˜1.9-B/R/include" -DNDEBUG     -I"C:/extsoft/include"  -DUSEDOUBLE -DWINDOWS   -O3 -Wall  -std=gnu99 -mtune=generic -c random.c -o random.o
C:/Rtools/mingw_32/bin/gcc  -I"C:/Users/BIOCBU˜1/BBS-3˜1.9-B/R/include" -DNDEBUG     -I"C:/extsoft/include"  -DUSEDOUBLE -DWINDOWS   -O3 -Wall  -std=gnu99 -mtune=generic -c sampling.c -o sampling.o
C:/Rtools/mingw_32/bin/gcc  -I"C:/Users/BIOCBU˜1/BBS-3˜1.9-B/R/include" -DNDEBUG     -I"C:/extsoft/include"  -DUSEDOUBLE -DWINDOWS   -O3 -Wall  -std=gnu99 -mtune=generic -c sampling_fixed.c -o sampling_fixed.o
C:/Rtools/mingw_32/bin/gcc  -I"C:/Users/BIOCBU˜1/BBS-3˜1.9-B/R/include" -DNDEBUG     -I"C:/extsoft/include"  -DUSEDOUBLE -DWINDOWS   -O3 -Wall  -std=gnu99 -mtune=generic -c stat_func.c -o stat_func.o
C:/Rtools/mingw_32/bin/gcc  -I"C:/Users/BIOCBU˜1/BBS-3˜1.9-B/R/include" -DNDEBUG     -I"C:/extsoft/include"  -DUSEDOUBLE -DWINDOWS   -O3 -Wall  -std=gnu99 -mtune=generic -c stat_order.c -o stat_order.o
C:/Rtools/mingw_32/bin/gcc -shared -s -static-libgcc -o multtest.dll tmp.def Rpack.o VScount.o block_sampling_fixed.o bootloop.o mt.o pairt_sampling.o pairt_sampling_fixed.o random.o sampling.o sampling_fixed.o stat_func.o stat_order.o -lm -LC:/extsoft/lib/i386 -LC:/extsoft/lib -LC:/Users/BIOCBU˜1/BBS-3˜1.9-B/R/bin/i386 -lR
installing to C:/Users/biocbuild/bbs-3.9-bioc/meat/multtest.buildbin-libdir/00LOCK-multtest/00new/multtest/libs/i386
** R
** data
** inst
** byte-compile and prepare package for lazy loading
** help
*** installing help indices
  converting help for package 'multtest'
    finding HTML links ... done
    EBMTP-class                             html  
    EBMTP                                   html  
    Hsets                                   html  
    MTP-class                               html  
    MTP-methods                             html  
    MTP                                     html  
    boot.null                               html  
    corr.null                               html  
    fwer2gfwer                              html  
    get.index                               html  
    golub                                   html  
    meanX                                   html  
    mt.internal                             html  
    mt.maxT                                 html  
    mt.plot                                 html  
    mt.rawp2adjp                            html  
    mt.reject                               html  
    mt.sample.teststat                      html  
    mt.teststat                             html  
    ss.maxT                                 html  
    wapply                                  html  
** building package indices
** installing vignettes
** testing if installed package can be loaded from temporary location
** testing if installed package can be loaded from final location
** testing if installed package keeps a record of temporary installation path
install for x64
* installing *source* package 'multtest' ...
** libs
C:/Rtools/mingw_64/bin/gcc  -I"C:/Users/BIOCBU˜1/BBS-3˜1.9-B/R/include" -DNDEBUG     -I"C:/extsoft/include"  -DUSEDOUBLE -DWINDOWS   -O2 -Wall  -std=gnu99 -mtune=generic -c Rpack.c -o Rpack.o
C:/Rtools/mingw_64/bin/gcc  -I"C:/Users/BIOCBU˜1/BBS-3˜1.9-B/R/include" -DNDEBUG     -I"C:/extsoft/include"  -DUSEDOUBLE -DWINDOWS   -O2 -Wall  -std=gnu99 -mtune=generic -c VScount.c -o VScount.o
C:/Rtools/mingw_64/bin/gcc  -I"C:/Users/BIOCBU˜1/BBS-3˜1.9-B/R/include" -DNDEBUG     -I"C:/extsoft/include"  -DUSEDOUBLE -DWINDOWS   -O2 -Wall  -std=gnu99 -mtune=generic -c block_sampling_fixed.c -o block_sampling_fixed.o
C:/Rtools/mingw_64/bin/gcc  -I"C:/Users/BIOCBU˜1/BBS-3˜1.9-B/R/include" -DNDEBUG     -I"C:/extsoft/include"  -DUSEDOUBLE -DWINDOWS   -O2 -Wall  -std=gnu99 -mtune=generic -c bootloop.c -o bootloop.o
C:/Rtools/mingw_64/bin/gcc  -I"C:/Users/BIOCBU˜1/BBS-3˜1.9-B/R/include" -DNDEBUG     -I"C:/extsoft/include"  -DUSEDOUBLE -DWINDOWS   -O2 -Wall  -std=gnu99 -mtune=generic -c mt.c -o mt.o
C:/Rtools/mingw_64/bin/gcc  -I"C:/Users/BIOCBU˜1/BBS-3˜1.9-B/R/include" -DNDEBUG     -I"C:/extsoft/include"  -DUSEDOUBLE -DWINDOWS   -O2 -Wall  -std=gnu99 -mtune=generic -c pairt_sampling.c -o pairt_sampling.o
C:/Rtools/mingw_64/bin/gcc  -I"C:/Users/BIOCBU˜1/BBS-3˜1.9-B/R/include" -DNDEBUG     -I"C:/extsoft/include"  -DUSEDOUBLE -DWINDOWS   -O2 -Wall  -std=gnu99 -mtune=generic -c pairt_sampling_fixed.c -o pairt_sampling_fixed.o
C:/Rtools/mingw_64/bin/gcc  -I"C:/Users/BIOCBU˜1/BBS-3˜1.9-B/R/include" -DNDEBUG     -I"C:/extsoft/include"  -DUSEDOUBLE -DWINDOWS   -O2 -Wall  -std=gnu99 -mtune=generic -c random.c -o random.o
C:/Rtools/mingw_64/bin/gcc  -I"C:/Users/BIOCBU˜1/BBS-3˜1.9-B/R/include" -DNDEBUG     -I"C:/extsoft/include"  -DUSEDOUBLE -DWINDOWS   -O2 -Wall  -std=gnu99 -mtune=generic -c sampling.c -o sampling.o
C:/Rtools/mingw_64/bin/gcc  -I"C:/Users/BIOCBU˜1/BBS-3˜1.9-B/R/include" -DNDEBUG     -I"C:/extsoft/include"  -DUSEDOUBLE -DWINDOWS   -O2 -Wall  -std=gnu99 -mtune=generic -c sampling_fixed.c -o sampling_fixed.o
C:/Rtools/mingw_64/bin/gcc  -I"C:/Users/BIOCBU˜1/BBS-3˜1.9-B/R/include" -DNDEBUG     -I"C:/extsoft/include"  -DUSEDOUBLE -DWINDOWS   -O2 -Wall  -std=gnu99 -mtune=generic -c stat_func.c -o stat_func.o
C:/Rtools/mingw_64/bin/gcc  -I"C:/Users/BIOCBU˜1/BBS-3˜1.9-B/R/include" -DNDEBUG     -I"C:/extsoft/include"  -DUSEDOUBLE -DWINDOWS   -O2 -Wall  -std=gnu99 -mtune=generic -c stat_order.c -o stat_order.o
C:/Rtools/mingw_64/bin/gcc -shared -s -static-libgcc -o multtest.dll tmp.def Rpack.o VScount.o block_sampling_fixed.o bootloop.o mt.o pairt_sampling.o pairt_sampling_fixed.o random.o sampling.o sampling_fixed.o stat_func.o stat_order.o -lm -LC:/extsoft/lib/x64 -LC:/extsoft/lib -LC:/Users/BIOCBU˜1/BBS-3˜1.9-B/R/bin/x64 -lR
installing to C:/Users/biocbuild/bbs-3.9-bioc/meat/multtest.buildbin-libdir/multtest/libs/x64
** testing if installed package can be loaded
* MD5 sums
packaged installation of 'multtest' as multtest_2.39.0.zip
* DONE (multtest)