| Back to Multiple platform build/check report for BioC 3.9 | 
 | 
This page was generated on 2019-04-09 12:46:21 -0400 (Tue, 09 Apr 2019).
| Package 1054/1703 | Hostname | OS / Arch | INSTALL | BUILD | CHECK | BUILD BIN | ||||||
| multtest 2.39.0 Katherine S. Pollard 
 | malbec2 | Linux (Ubuntu 18.04.2 LTS) / x86_64 | OK | OK | WARNINGS |  | ||||||
| tokay2 | Windows Server 2012 R2 Standard / x64 | OK | OK | WARNINGS | OK |  | ||||||
| celaya2 | OS X 10.11.6 El Capitan / x86_64 | [ OK ] | OK | WARNINGS | OK |  | ||||||
| merida2 | OS X 10.11.6 El Capitan / x86_64 | OK | OK | WARNINGS | OK | 
| Package: multtest | 
| Version: 2.39.0 | 
| Command: /Library/Frameworks/R.framework/Versions/Current/Resources/bin/R CMD INSTALL multtest | 
| StartedAt: 2019-04-08 18:13:35 -0400 (Mon, 08 Apr 2019) | 
| EndedAt: 2019-04-08 18:14:11 -0400 (Mon, 08 Apr 2019) | 
| EllapsedTime: 35.9 seconds | 
| RetCode: 0 | 
| Status: OK | 
##############################################################################
##############################################################################
###
### Running command:
###
###   /Library/Frameworks/R.framework/Versions/Current/Resources/bin/R CMD INSTALL multtest
###
##############################################################################
##############################################################################
* installing to library ‘/Library/Frameworks/R.framework/Versions/3.6/Resources/library’
* installing *source* package ‘multtest’ ...
** using staged installation
** libs
clang -I"/Library/Frameworks/R.framework/Resources/include" -DNDEBUG   -I/usr/local/include -DUSEDOUBLE -fPIC  -Wall -g -O2  -c Rpack.c -o Rpack.o
clang -I"/Library/Frameworks/R.framework/Resources/include" -DNDEBUG   -I/usr/local/include -DUSEDOUBLE -fPIC  -Wall -g -O2  -c VScount.c -o VScount.o
clang -I"/Library/Frameworks/R.framework/Resources/include" -DNDEBUG   -I/usr/local/include -DUSEDOUBLE -fPIC  -Wall -g -O2  -c block_sampling_fixed.c -o block_sampling_fixed.o
clang -I"/Library/Frameworks/R.framework/Resources/include" -DNDEBUG   -I/usr/local/include -DUSEDOUBLE -fPIC  -Wall -g -O2  -c bootloop.c -o bootloop.o
clang -I"/Library/Frameworks/R.framework/Resources/include" -DNDEBUG   -I/usr/local/include -DUSEDOUBLE -fPIC  -Wall -g -O2  -c mt.c -o mt.o
clang -I"/Library/Frameworks/R.framework/Resources/include" -DNDEBUG   -I/usr/local/include -DUSEDOUBLE -fPIC  -Wall -g -O2  -c pairt_sampling.c -o pairt_sampling.o
clang -I"/Library/Frameworks/R.framework/Resources/include" -DNDEBUG   -I/usr/local/include -DUSEDOUBLE -fPIC  -Wall -g -O2  -c pairt_sampling_fixed.c -o pairt_sampling_fixed.o
clang -I"/Library/Frameworks/R.framework/Resources/include" -DNDEBUG   -I/usr/local/include -DUSEDOUBLE -fPIC  -Wall -g -O2  -c random.c -o random.o
random.c:48:6: warning: absolute value function 'abs' given an argument of type 'long' but has parameter of type 'int' which may cause truncation of value [-Wabsolute-value]
  z1=abs(seed); /*setting the seed to z1 and initialize it*/
     ^
random.c:48:6: note: use function 'labs' instead
  z1=abs(seed); /*setting the seed to z1 and initialize it*/
     ^˜˜
     labs
1 warning generated.
clang -I"/Library/Frameworks/R.framework/Resources/include" -DNDEBUG   -I/usr/local/include -DUSEDOUBLE -fPIC  -Wall -g -O2  -c sampling.c -o sampling.o
clang -I"/Library/Frameworks/R.framework/Resources/include" -DNDEBUG   -I/usr/local/include -DUSEDOUBLE -fPIC  -Wall -g -O2  -c sampling_fixed.c -o sampling_fixed.o
clang -I"/Library/Frameworks/R.framework/Resources/include" -DNDEBUG   -I/usr/local/include -DUSEDOUBLE -fPIC  -Wall -g -O2  -c stat_func.c -o stat_func.o
clang -I"/Library/Frameworks/R.framework/Resources/include" -DNDEBUG   -I/usr/local/include -DUSEDOUBLE -fPIC  -Wall -g -O2  -c stat_order.c -o stat_order.o
clang -dynamiclib -Wl,-headerpad_max_install_names -undefined dynamic_lookup -single_module -multiply_defined suppress -L/Library/Frameworks/R.framework/Resources/lib -L/usr/local/lib -o multtest.so Rpack.o VScount.o block_sampling_fixed.o bootloop.o mt.o pairt_sampling.o pairt_sampling_fixed.o random.o sampling.o sampling_fixed.o stat_func.o stat_order.o -lm -F/Library/Frameworks/R.framework/.. -framework R -Wl,-framework -Wl,CoreFoundation
installing to /Library/Frameworks/R.framework/Versions/3.6/Resources/library/00LOCK-multtest/00new/multtest/libs
** R
** data
** inst
** byte-compile and prepare package for lazy loading
** help
*** installing help indices
** building package indices
** installing vignettes
** testing if installed package can be loaded from temporary location
** checking absolute paths in shared objects and dynamic libraries
** testing if installed package can be loaded from final location
** testing if installed package keeps a record of temporary installation path
* DONE (multtest)