| Back to Multiple platform build/check report for BioC 3.9 | 
 | 
This page was generated on 2019-04-09 12:22:29 -0400 (Tue, 09 Apr 2019).
| Package 898/1703 | Hostname | OS / Arch | INSTALL | BUILD | CHECK | BUILD BIN | ||||||
| mAPKL 1.13.0 Argiris Sakellariou 
 | malbec2 | Linux (Ubuntu 18.04.2 LTS) / x86_64 | OK | OK | ERROR | |||||||
| tokay2 | Windows Server 2012 R2 Standard / x64 | OK | OK | ERROR | [ OK ] | |||||||
| celaya2 | OS X 10.11.6 El Capitan / x86_64 | OK | OK | ERROR | OK | |||||||
| merida2 | OS X 10.11.6 El Capitan / x86_64 | OK | OK | WARNINGS | OK | 
| Package: mAPKL | 
| Version: 1.13.0 | 
| Command: rm -rf mAPKL.buildbin-libdir && mkdir mAPKL.buildbin-libdir && C:\Users\biocbuild\bbs-3.9-bioc\R\bin\R.exe CMD INSTALL --merge-multiarch --build --library=mAPKL.buildbin-libdir mAPKL_1.13.0.tar.gz | 
| StartedAt: 2019-04-09 08:23:18 -0400 (Tue, 09 Apr 2019) | 
| EndedAt: 2019-04-09 08:23:59 -0400 (Tue, 09 Apr 2019) | 
| EllapsedTime: 41.5 seconds | 
| RetCode: 0 | 
| Status: OK | 
| PackageFile: mAPKL_1.13.0.zip | 
| PackageFileSize: 1.813 MiB | 
##############################################################################
##############################################################################
###
### Running command:
###
###   rm -rf mAPKL.buildbin-libdir && mkdir mAPKL.buildbin-libdir && C:\Users\biocbuild\bbs-3.9-bioc\R\bin\R.exe CMD INSTALL --merge-multiarch --build --library=mAPKL.buildbin-libdir mAPKL_1.13.0.tar.gz
###
##############################################################################
##############################################################################
install for i386
* installing *source* package 'mAPKL' ...
** R
** inst
** byte-compile and prepare package for lazy loading
** help
*** installing help indices
  converting help for package 'mAPKL'
    finding HTML links ... done
    Annot-class                             html  
    Classify-class                          html  
    DataLD-class                            html  
    NetAttr-class                           html  
    annotate                                html  
    classification                          html  
    loadFiles                               html  
    mAPKL-package                           html  
    mAPKL                                   html  
    mAPKLRes-class                          html  
    metrics                                 html  
    netwAttr                                html  
    preprocess                              html  
    probes2pathways                         html  
    report                                  html  
    sampling                                html  
*** copying figures
** building package indices
** installing vignettes
** testing if installed package can be loaded from temporary location
** testing if installed package can be loaded from final location
** testing if installed package keeps a record of temporary installation path
install for x64
* installing *source* package 'mAPKL' ...
** testing if installed package can be loaded
* MD5 sums
packaged installation of 'mAPKL' as mAPKL_1.13.0.zip
* DONE (mAPKL)