| Back to Multiple platform build/check report for BioC 3.9 |
|
This page was generated on 2019-04-09 12:31:00 -0400 (Tue, 09 Apr 2019).
| Package 780/1703 | Hostname | OS / Arch | INSTALL | BUILD | CHECK | BUILD BIN | ||||||
| ideal 1.7.4 Federico Marini
| malbec2 | Linux (Ubuntu 18.04.2 LTS) / x86_64 | OK | OK | OK | |||||||
| tokay2 | Windows Server 2012 R2 Standard / x64 | [ OK ] | OK | OK | OK | |||||||
| celaya2 | OS X 10.11.6 El Capitan / x86_64 | OK | OK | OK | OK | |||||||
| merida2 | OS X 10.11.6 El Capitan / x86_64 | OK | OK | OK | OK |
| Package: ideal |
| Version: 1.7.4 |
| Command: C:\cygwin\bin\curl.exe -O https://malbec2.bioconductor.org/BBS/3.9/bioc/src/contrib/ideal_1.7.4.tar.gz && rm -rf ideal.buildbin-libdir && mkdir ideal.buildbin-libdir && C:\Users\biocbuild\bbs-3.9-bioc\R\bin\R.exe CMD INSTALL --merge-multiarch --build --library=ideal.buildbin-libdir ideal_1.7.4.tar.gz && C:\Users\biocbuild\bbs-3.9-bioc\R\bin\R.exe CMD INSTALL ideal_1.7.4.zip && rm ideal_1.7.4.tar.gz ideal_1.7.4.zip |
| StartedAt: 2019-04-08 20:46:34 -0400 (Mon, 08 Apr 2019) |
| EndedAt: 2019-04-08 20:47:56 -0400 (Mon, 08 Apr 2019) |
| EllapsedTime: 81.0 seconds |
| RetCode: 0 |
| Status: OK |
##############################################################################
##############################################################################
###
### Running command:
###
### C:\cygwin\bin\curl.exe -O https://malbec2.bioconductor.org/BBS/3.9/bioc/src/contrib/ideal_1.7.4.tar.gz && rm -rf ideal.buildbin-libdir && mkdir ideal.buildbin-libdir && C:\Users\biocbuild\bbs-3.9-bioc\R\bin\R.exe CMD INSTALL --merge-multiarch --build --library=ideal.buildbin-libdir ideal_1.7.4.tar.gz && C:\Users\biocbuild\bbs-3.9-bioc\R\bin\R.exe CMD INSTALL ideal_1.7.4.zip && rm ideal_1.7.4.tar.gz ideal_1.7.4.zip
###
##############################################################################
##############################################################################
% Total % Received % Xferd Average Speed Time Time Time Current
Dload Upload Total Spent Left Speed
0 0 0 0 0 0 0 0 --:--:-- --:--:-- --:--:-- 0
100 3739k 100 3739k 0 0 32.8M 0 --:--:-- --:--:-- --:--:-- 34.7M
install for i386
* installing *source* package 'ideal' ...
** R
** inst
** byte-compile and prepare package for lazy loading
groupGOTerms: GOBPTerm, GOMFTerm, GOCCTerm environments built.
** help
*** installing help indices
converting help for package 'ideal'
finding HTML links ... done
deseqresult2DEgenes html
finding level-2 HTML links ... done
deseqresult2tbl html
ggplotCounts html
goseqTable html
ideal-pkg html
ideal html
plot_ma html
plot_volcano html
read_gmt html
sepguesser html
sig_heatmap html
** building package indices
** installing vignettes
** testing if installed package can be loaded from temporary location
groupGOTerms: GOBPTerm, GOMFTerm, GOCCTerm environments built.
** testing if installed package can be loaded from final location
groupGOTerms: GOBPTerm, GOMFTerm, GOCCTerm environments built.
** testing if installed package keeps a record of temporary installation path
install for x64
* installing *source* package 'ideal' ...
** testing if installed package can be loaded
groupGOTerms: GOBPTerm, GOMFTerm, GOCCTerm environments built.
* MD5 sums
packaged installation of 'ideal' as ideal_1.7.4.zip
* DONE (ideal)
* installing to library 'C:/Users/biocbuild/bbs-3.9-bioc/R/library'
package 'ideal' successfully unpacked and MD5 sums checked