| Back to Multiple platform build/check report for BioC 3.9 | 
 | 
This page was generated on 2019-04-09 13:18:16 -0400 (Tue, 09 Apr 2019).
| Package 780/1703 | Hostname | OS / Arch | INSTALL | BUILD | CHECK | BUILD BIN | ||||||
| ideal 1.7.4 Federico Marini 
 | malbec2 | Linux (Ubuntu 18.04.2 LTS) / x86_64 | OK | OK | OK |  | ||||||
| tokay2 | Windows Server 2012 R2 Standard / x64 | OK | OK | OK | OK |  | ||||||
| celaya2 | OS X 10.11.6 El Capitan / x86_64 | OK | OK | OK | [ OK ] |  | ||||||
| merida2 | OS X 10.11.6 El Capitan / x86_64 | OK | OK | OK | OK | 
| Package: ideal | 
| Version: 1.7.4 | 
| Command: rm -rf ideal.buildbin-libdir && mkdir ideal.buildbin-libdir && /Users/biocbuild/BBS/utils/build-universal.sh ideal_1.7.4.tar.gz /Library/Frameworks/R.framework/Versions/Current/Resources/bin/R ideal.buildbin-libdir | 
| StartedAt: 2019-04-09 07:12:57 -0400 (Tue, 09 Apr 2019) | 
| EndedAt: 2019-04-09 07:14:15 -0400 (Tue, 09 Apr 2019) | 
| EllapsedTime: 78.3 seconds | 
| RetCode: 0 | 
| Status: OK | 
| PackageFile: ideal_1.7.4.tgz | 
| PackageFileSize: 2.522 MiB | 
############################################################################## ############################################################################## ### ### Running command: ### ### rm -rf ideal.buildbin-libdir && mkdir ideal.buildbin-libdir && /Users/biocbuild/BBS/utils/build-universal.sh ideal_1.7.4.tar.gz /Library/Frameworks/R.framework/Versions/Current/Resources/bin/R ideal.buildbin-libdir ### ############################################################################## ############################################################################## >>>>>>> >>>>>>> INSTALLATION WITH 'R CMD INSTALL --preclean --no-multiarch --library=ideal.buildbin-libdir ideal_1.7.4.tar.gz' >>>>>>> * installing *source* package ‘ideal’ ... ** using staged installation ** R ** inst ** byte-compile and prepare package for lazy loading groupGOTerms: GOBPTerm, GOMFTerm, GOCCTerm environments built. ** help *** installing help indices ** building package indices ** installing vignettes ** testing if installed package can be loaded from temporary location groupGOTerms: GOBPTerm, GOMFTerm, GOCCTerm environments built. ** testing if installed package can be loaded from final location groupGOTerms: GOBPTerm, GOMFTerm, GOCCTerm environments built. ** testing if installed package keeps a record of temporary installation path * DONE (ideal)