| Back to Multiple platform build/check report for BioC 3.9 | 
 | 
This page was generated on 2019-04-09 12:41:23 -0400 (Tue, 09 Apr 2019).
| Package 745/1703 | Hostname | OS / Arch | INSTALL | BUILD | CHECK | BUILD BIN | ||||||
| hierinf 1.1.1 Claude Renaux 
 | malbec2 | Linux (Ubuntu 18.04.2 LTS) / x86_64 | OK | OK | OK |  | ||||||
| tokay2 | Windows Server 2012 R2 Standard / x64 | OK | OK | OK | [ OK ] |  | ||||||
| celaya2 | OS X 10.11.6 El Capitan / x86_64 | OK | OK | OK | OK |  | ||||||
| merida2 | OS X 10.11.6 El Capitan / x86_64 | OK | OK | OK | OK | 
| Package: hierinf | 
| Version: 1.1.1 | 
| Command: rm -rf hierinf.buildbin-libdir && mkdir hierinf.buildbin-libdir && C:\Users\biocbuild\bbs-3.9-bioc\R\bin\R.exe CMD INSTALL --merge-multiarch --build --library=hierinf.buildbin-libdir hierinf_1.1.1.tar.gz | 
| StartedAt: 2019-04-09 08:13:33 -0400 (Tue, 09 Apr 2019) | 
| EndedAt: 2019-04-09 08:14:20 -0400 (Tue, 09 Apr 2019) | 
| EllapsedTime: 46.8 seconds | 
| RetCode: 0 | 
| Status: OK | 
| PackageFile: hierinf_1.1.1.zip | 
| PackageFileSize: 502.3 KiB | 
##############################################################################
##############################################################################
###
### Running command:
###
###   rm -rf hierinf.buildbin-libdir && mkdir hierinf.buildbin-libdir && C:\Users\biocbuild\bbs-3.9-bioc\R\bin\R.exe CMD INSTALL --merge-multiarch --build --library=hierinf.buildbin-libdir hierinf_1.1.1.tar.gz
###
##############################################################################
##############################################################################
install for i386
* installing *source* package 'hierinf' ...
** R
** data
*** moving datasets to lazyload DB
** inst
** byte-compile and prepare package for lazy loading
** help
*** installing help indices
  converting help for package 'hierinf'
    finding HTML links ... done
    cluster_position                        html  
    cluster_var                             html  
    compute_r2                              html  
    finding level-2 HTML links ... done
    hierinf                                 html  
    multisplit                              html  
    print.hierT                             html  
    simGWAS                                 html  
    test_hierarchy                          html  
    test_only_hierarchy                     html  
** building package indices
** installing vignettes
** testing if installed package can be loaded from temporary location
** testing if installed package can be loaded from final location
** testing if installed package keeps a record of temporary installation path
install for x64
* installing *source* package 'hierinf' ...
** testing if installed package can be loaded
* MD5 sums
packaged installation of 'hierinf' as hierinf_1.1.1.zip
* DONE (hierinf)