| Back to Multiple platform build/check report for BioC 3.9 | 
 | 
This page was generated on 2019-04-09 13:20:55 -0400 (Tue, 09 Apr 2019).
| Package 745/1703 | Hostname | OS / Arch | INSTALL | BUILD | CHECK | BUILD BIN | ||||||
| hierinf 1.1.1 Claude Renaux 
 | malbec2 | Linux (Ubuntu 18.04.2 LTS) / x86_64 | OK | OK | OK |  | ||||||
| tokay2 | Windows Server 2012 R2 Standard / x64 | OK | OK | OK | OK |  | ||||||
| celaya2 | OS X 10.11.6 El Capitan / x86_64 | OK | OK | OK | [ OK ] |  | ||||||
| merida2 | OS X 10.11.6 El Capitan / x86_64 | OK | OK | OK | OK | 
| Package: hierinf | 
| Version: 1.1.1 | 
| Command: rm -rf hierinf.buildbin-libdir && mkdir hierinf.buildbin-libdir && /Users/biocbuild/BBS/utils/build-universal.sh hierinf_1.1.1.tar.gz /Library/Frameworks/R.framework/Versions/Current/Resources/bin/R hierinf.buildbin-libdir | 
| StartedAt: 2019-04-09 07:11:30 -0400 (Tue, 09 Apr 2019) | 
| EndedAt: 2019-04-09 07:11:45 -0400 (Tue, 09 Apr 2019) | 
| EllapsedTime: 14.1 seconds | 
| RetCode: 0 | 
| Status: OK | 
| PackageFile: hierinf_1.1.1.tgz | 
| PackageFileSize: 478 KiB | 
############################################################################## ############################################################################## ### ### Running command: ### ### rm -rf hierinf.buildbin-libdir && mkdir hierinf.buildbin-libdir && /Users/biocbuild/BBS/utils/build-universal.sh hierinf_1.1.1.tar.gz /Library/Frameworks/R.framework/Versions/Current/Resources/bin/R hierinf.buildbin-libdir ### ############################################################################## ############################################################################## >>>>>>> >>>>>>> INSTALLATION WITH 'R CMD INSTALL --preclean --no-multiarch --library=hierinf.buildbin-libdir hierinf_1.1.1.tar.gz' >>>>>>> * installing *source* package ‘hierinf’ ... ** using staged installation ** R ** data *** moving datasets to lazyload DB ** inst ** byte-compile and prepare package for lazy loading ** help *** installing help indices ** building package indices ** installing vignettes ** testing if installed package can be loaded from temporary location ** testing if installed package can be loaded from final location ** testing if installed package keeps a record of temporary installation path * DONE (hierinf)