| Back to Multiple platform build/check report for BioC 3.9 | 
 | 
This page was generated on 2019-04-09 13:30:13 -0400 (Tue, 09 Apr 2019).
| Package 750/1703 | Hostname | OS / Arch | INSTALL | BUILD | CHECK | BUILD BIN | ||||||
| hiReadsProcessor 1.19.0 Nirav V Malani 
 | malbec2 | Linux (Ubuntu 18.04.2 LTS) / x86_64 | OK | OK | OK |  | ||||||
| tokay2 | Windows Server 2012 R2 Standard / x64 | ...NOT SUPPORTED... | ||||||||||
| celaya2 | OS X 10.11.6 El Capitan / x86_64 | OK | OK | OK | OK |  | ||||||
| merida2 | OS X 10.11.6 El Capitan / x86_64 | OK | OK | [ OK ] | OK | |||||||
| Package: hiReadsProcessor | 
| Version: 1.19.0 | 
| Command: /Library/Frameworks/R.framework/Versions/Current/Resources/bin/R CMD check --install=check:hiReadsProcessor.install-out.txt --library=/Library/Frameworks/R.framework/Versions/Current/Resources/library --no-vignettes --timings hiReadsProcessor_1.19.0.tar.gz | 
| StartedAt: 2019-04-09 01:30:19 -0400 (Tue, 09 Apr 2019) | 
| EndedAt: 2019-04-09 01:35:37 -0400 (Tue, 09 Apr 2019) | 
| EllapsedTime: 318.6 seconds | 
| RetCode: 0 | 
| Status: OK | 
| CheckDir: hiReadsProcessor.Rcheck | 
| Warnings: 0 | 
############################################################################## ############################################################################## ### ### Running command: ### ### /Library/Frameworks/R.framework/Versions/Current/Resources/bin/R CMD check --install=check:hiReadsProcessor.install-out.txt --library=/Library/Frameworks/R.framework/Versions/Current/Resources/library --no-vignettes --timings hiReadsProcessor_1.19.0.tar.gz ### ############################################################################## ############################################################################## * using log directory ‘/Users/biocbuild/bbs-3.9-bioc/meat/hiReadsProcessor.Rcheck’ * using R Under development (unstable) (2018-11-27 r75683) * using platform: x86_64-apple-darwin15.6.0 (64-bit) * using session charset: UTF-8 * using option ‘--no-vignettes’ * checking for file ‘hiReadsProcessor/DESCRIPTION’ ... OK * this is package ‘hiReadsProcessor’ version ‘1.19.0’ * checking package namespace information ... OK * checking package dependencies ... OK * checking if this is a source package ... OK * checking if there is a namespace ... OK * checking for hidden files and directories ... NOTE Found the following hidden files and directories: .BBSoptions These were most likely included in error. See section ‘Package structure’ in the ‘Writing R Extensions’ manual. * checking for portable file names ... OK * checking for sufficient/correct file permissions ... OK * checking whether package ‘hiReadsProcessor’ can be installed ... OK * checking installed package size ... OK * checking package directory ... OK * checking ‘build’ directory ... OK * checking DESCRIPTION meta-information ... OK * checking top-level files ... OK * checking for left-over files ... OK * checking index information ... OK * checking package subdirectories ... OK * checking R files for non-ASCII characters ... OK * checking R files for syntax errors ... OK * checking whether the package can be loaded ... OK * checking whether the package can be loaded with stated dependencies ... OK * checking whether the package can be unloaded cleanly ... OK * checking whether the namespace can be loaded with stated dependencies ... OK * checking whether the namespace can be unloaded cleanly ... OK * checking dependencies in R code ... OK * checking S3 generic/method consistency ... OK * checking replacement functions ... OK * checking foreign function calls ... OK * checking R code for possible problems ... NOTE chunkize: no visible global function definition for ‘breakInChunks’ chunkize: no visible global function definition for ‘detectCores’ clusterSites : <anonymous>: no visible binding for global variable ‘queryHits’ clusterSites: no visible binding for global variable ‘clusteredValue’ clusterSites: no visible binding for global variable ‘clusteredValue.freq’ crossOverCheck: no visible binding for global variable ‘queryHits’ decodeByBarcode: no visible global function definition for ‘metadata<-’ decodeByBarcode: no visible global function definition for ‘metadata’ extractSeqs : <anonymous>: no visible global function definition for ‘metadata’ extractSeqs : <anonymous> : <anonymous> : <anonymous>: no visible global function definition for ‘IRanges’ extractSeqs : <anonymous> : <anonymous>: no visible global function definition for ‘IRanges’ findBarcodes: no visible global function definition for ‘metadata<-’ findBarcodes: no visible global function definition for ‘metadata’ findIntegrations: no visible global function definition for ‘fasta.info’ findIntegrations : <anonymous>: no visible global function definition for ‘IRanges’ findVector : <anonymous>: no visible global function definition for ‘IRanges’ pairUpAlignments : <anonymous>: no visible binding for global variable ‘queryHits’ pairwiseAlignSeqs: no visible global function definition for ‘IRangesList’ pairwiseAlignSeqs: no visible global function definition for ‘IRanges’ primerIDAlignSeqs: no visible global function definition for ‘IRanges’ primerIDAlignSeqs: no visible global function definition for ‘IRangesList’ pslToRangedObject: no visible global function definition for ‘IRanges’ read.BAMasPSL: no visible global function definition for ‘ScanBamParam’ read.BAMasPSL: no visible global function definition for ‘scanBamFlag’ read.BAMasPSL: no visible global function definition for ‘DataFrame’ read.SeqFolder: no visible global function definition for ‘SimpleList’ read.psl: no visible global function definition for ‘mclapply’ read.psl : <anonymous>: no visible binding for global variable ‘matches’ read.psl : <anonymous>: no visible binding for global variable ‘misMatches’ read.psl : <anonymous>: no visible binding for global variable ‘qBaseInsert’ read.psl : <anonymous>: no visible binding for global variable ‘tBaseInsert’ read.psl: no visible binding for global variable ‘matches’ read.psl: no visible binding for global variable ‘misMatches’ read.psl: no visible binding for global variable ‘qBaseInsert’ read.psl: no visible binding for global variable ‘tBaseInsert’ read.sampleInfo: no visible global function definition for ‘SimpleList’ splitSeqsToFiles: no visible global function definition for ‘fasta.info’ vpairwiseAlignSeqs: no visible global function definition for ‘Rle’ vpairwiseAlignSeqs: no visible global function definition for ‘runLength’ vpairwiseAlignSeqs: no visible global function definition for ‘IRanges’ vpairwiseAlignSeqs: no visible global function definition for ‘runValue’ Undefined global functions or variables: DataFrame IRanges IRangesList Rle ScanBamParam SimpleList breakInChunks clusteredValue clusteredValue.freq detectCores fasta.info matches mclapply metadata metadata<- misMatches qBaseInsert queryHits runLength runValue scanBamFlag tBaseInsert * checking Rd files ... OK * checking Rd metadata ... OK * checking Rd cross-references ... OK * checking for missing documentation entries ... OK * checking for code/documentation mismatches ... OK * checking Rd \usage sections ... OK * checking Rd contents ... OK * checking for unstated dependencies in examples ... OK * checking contents of ‘data’ directory ... OK * checking data for non-ASCII characters ... OK * checking data for ASCII and uncompressed saves ... OK * checking files in ‘vignettes’ ... OK * checking examples ... OK * checking for unstated dependencies in vignettes ... OK * checking package vignettes in ‘inst/doc’ ... OK * checking running R code from vignettes ... SKIPPED * checking re-building of vignette outputs ... SKIPPED * checking PDF version of manual ... OK * DONE Status: 2 NOTEs See ‘/Users/biocbuild/bbs-3.9-bioc/meat/hiReadsProcessor.Rcheck/00check.log’ for details.
hiReadsProcessor.Rcheck/00install.out
############################################################################## ############################################################################## ### ### Running command: ### ### /Library/Frameworks/R.framework/Versions/Current/Resources/bin/R CMD INSTALL hiReadsProcessor ### ############################################################################## ############################################################################## * installing to library ‘/Library/Frameworks/R.framework/Versions/3.6/Resources/library’ * installing *source* package ‘hiReadsProcessor’ ... ** R ** data ** inst ** byte-compile and prepare package for lazy loading ** help *** installing help indices ** building package indices ** installing vignettes ** testing if installed package can be loaded * DONE (hiReadsProcessor)
hiReadsProcessor.Rcheck/hiReadsProcessor-Ex.timings
| name | user | system | elapsed | |
| addFeature | 0.287 | 0.011 | 0.301 | |
| addListNameToReads | 1.030 | 0.014 | 1.061 | |
| annotateSites | 0 | 0 | 0 | |
| blatSeqs | 0 | 0 | 0 | |
| chunkize | 0.043 | 0.002 | 0.044 | |
| clusterSites | 0.270 | 0.008 | 0.285 | |
| crossOverCheck | 0.258 | 0.037 | 0.299 | |
| dereplicateReads | 0.043 | 0.006 | 0.050 | |
| doRCtest | 0.232 | 0.099 | 0.305 | |
| extractFeature | 0.193 | 0.055 | 0.251 | |
| extractSeqs | 0.656 | 0.110 | 0.775 | |
| findAndTrimSeq | 1.887 | 0.253 | 2.157 | |
| findBarcodes | 0.713 | 0.008 | 0.724 | |
| findIntegrations | 0 | 0 | 0 | |
| findLTRs | 0.000 | 0.000 | 0.001 | |
| findLinkers | 0 | 0 | 0 | |
| findPrimers | 0.000 | 0.000 | 0.001 | |
| findVector | 0 | 0 | 0 | |
| getIntegrationSites | 1.610 | 0.025 | 1.649 | |
| getSectorsForSamples | 0.093 | 0.005 | 0.098 | |
| getSonicAbund | 0.319 | 0.102 | 0.425 | |
| isuSites | 2.979 | 0.033 | 3.062 | |
| otuSites | 3.363 | 0.038 | 3.441 | |
| pairUpAlignments | 0.000 | 0.001 | 0.000 | |
| pairwiseAlignSeqs | 2.451 | 0.883 | 3.127 | |
| primerIDAlignSeqs | 2.839 | 0.474 | 3.221 | |
| pslCols | 0.001 | 0.000 | 0.001 | |
| pslToRangedObject | 0.248 | 0.008 | 0.260 | |
| read.BAMasPSL | 0.001 | 0.000 | 0.000 | |
| read.SeqFolder | 1.444 | 0.058 | 1.517 | |
| read.blast8 | 0.000 | 0.000 | 0.001 | |
| read.psl | 0.000 | 0.001 | 0.001 | |
| read.sampleInfo | 1.299 | 0.019 | 1.333 | |
| read.seqsFromSector | 0 | 0 | 0 | |
| removeReadsWithNs | 0.026 | 0.000 | 0.028 | |
| replicateReads | 0.044 | 0.001 | 0.045 | |
| sampleSummary | 0.647 | 0.018 | 0.677 | |
| splitByBarcode | 0.038 | 0.001 | 0.039 | |
| splitSeqsToFiles | 0.227 | 0.008 | 0.237 | |
| startgfServer | 0.000 | 0.000 | 0.001 | |
| trimSeqs | 0.030 | 0.001 | 0.032 | |
| vpairwiseAlignSeqs | 2.169 | 0.900 | 2.861 | |
| write.listedDNAStringSet | 0 | 0 | 0 | |
| write.psl | 0.035 | 0.006 | 0.041 | |