| Back to Multiple platform build/check report for BioC 3.9 |
|
This page was generated on 2019-04-09 12:22:06 -0400 (Tue, 09 Apr 2019).
| Package 640/1703 | Hostname | OS / Arch | INSTALL | BUILD | CHECK | BUILD BIN | ||||||
| genomation 1.15.0 Altuna Akalin
| malbec2 | Linux (Ubuntu 18.04.2 LTS) / x86_64 | OK | OK | OK | |||||||
| tokay2 | Windows Server 2012 R2 Standard / x64 | OK | OK | OK | [ OK ] | |||||||
| celaya2 | OS X 10.11.6 El Capitan / x86_64 | OK | OK | OK | OK | |||||||
| merida2 | OS X 10.11.6 El Capitan / x86_64 | OK | OK | OK | OK |
| Package: genomation |
| Version: 1.15.0 |
| Command: rm -rf genomation.buildbin-libdir && mkdir genomation.buildbin-libdir && C:\Users\biocbuild\bbs-3.9-bioc\R\bin\R.exe CMD INSTALL --merge-multiarch --build --library=genomation.buildbin-libdir genomation_1.15.0.tar.gz |
| StartedAt: 2019-04-09 08:00:11 -0400 (Tue, 09 Apr 2019) |
| EndedAt: 2019-04-09 08:01:38 -0400 (Tue, 09 Apr 2019) |
| EllapsedTime: 87.1 seconds |
| RetCode: 0 |
| Status: OK |
| PackageFile: genomation_1.15.0.zip |
| PackageFileSize: 3.533 MiB |
##############################################################################
##############################################################################
###
### Running command:
###
### rm -rf genomation.buildbin-libdir && mkdir genomation.buildbin-libdir && C:\Users\biocbuild\bbs-3.9-bioc\R\bin\R.exe CMD INSTALL --merge-multiarch --build --library=genomation.buildbin-libdir genomation_1.15.0.tar.gz
###
##############################################################################
##############################################################################
install for i386
* installing *source* package 'genomation' ...
** libs
C:/Rtools/mingw_32/bin/g++ -I"C:/Users/BIOCBU˜1/BBS-3˜1.9-B/R/include" -DNDEBUG -I"C:/Users/biocbuild/bbs-3.9-bioc/R/library/Rcpp/include" -I"C:/extsoft/include" -O2 -Wall -mtune=generic -c RcppExports.cpp -o RcppExports.o
C:/Rtools/mingw_32/bin/g++ -I"C:/Users/BIOCBU˜1/BBS-3˜1.9-B/R/include" -DNDEBUG -I"C:/Users/biocbuild/bbs-3.9-bioc/R/library/Rcpp/include" -I"C:/extsoft/include" -O2 -Wall -mtune=generic -c binSum.cpp -o binSum.o
C:/Rtools/mingw_32/bin/g++ -shared -s -static-libgcc -o genomation.dll tmp.def RcppExports.o binSum.o -LC:/extsoft/lib/i386 -LC:/extsoft/lib -LC:/Users/BIOCBU˜1/BBS-3˜1.9-B/R/bin/i386 -lR
installing to C:/Users/biocbuild/bbs-3.9-bioc/meat/genomation.buildbin-libdir/00LOCK-genomation/00new/genomation/libs/i386
** R
** data
** inst
** byte-compile and prepare package for lazy loading
** help
*** installing help indices
converting help for package 'genomation'
finding HTML links ... done
AnnotationByFeature-class html
AnnotationByGeneParts-class html
AnnotationByGeneParts-methods html
Max_c html
Mean_c html
Median_c html
Min_c html
Ops-ScoreMatrix-ScoreMatrix-method html
Ops-ScoreMatrixList-ScoreMatrixList-method
html
Ops-ScoreMatrixList-numeric-method html
Ops-numeric-ScoreMatrixList-method html
RandomEnrichment-class html
ScoreMatrix-class html
ScoreMatrix-methods html
ScoreMatrixBin-methods html
ScoreMatrixList-class html
ScoreMatrixList-methods html
Sum_c html
annotatGrWithGeneParts html
annotateWithFeature-methods html
annotateWithFeatureFlank-methods html
annotateWithFeatures-methods html
annotateWithGeneParts-methods html
finding level-2 HTML links ... done
bed12ToExons html
bed12ToIntrons html
binMatrix-methods html
binMax html
binMean html
binMedian html
binMin html
binSum html
binner html
c.ScoreMatrix html
c.ScoreMatrixList html
cage html
calculateOverlapSignificance-methods html
checkBedValidity html
checkClass html
compressedAndUrl2temp html
constrainRanges html
convertBed2Exons-methods html
convertBed2Introns-methods html
convertBedDf-methods html
cpgi html
detectUCSCheader html
distance2NearestFeature html
enrichmentMatrix-ScoreMatrix-method html
enrichmentMatrix-ScoreMatrixList-ScoreMatrix-method
html
enrichmentMatrix-ScoreMatrixList-method
html
file.ext html
findFeatureComb-methods html
galpTo2Ranges html
genes html
getColors html
getFeatsWithTargetsStats-methods html
getFlanks-methods html
getMembers-methods html
getRandomEnrichment-methods html
getTargetAnnotationStats-methods html
gffToGRanges html
heatMatrix html
heatMeta html
heatTargetAnnotation-methods html
intersectScoreMatrixList-methods html
listSliceMax html
listSliceMean html
listSliceMedian html
listSliceMin html
listSliceSum html
multiHeatMatrix html
orderBy-methods html
patternMatrix-methods html
plotMeta html
plotTargetAnnotation-methods html
promoters html
randomizeFeature-methods html
read.zip html
readBam html
readBed html
readBigWig html
readBroadPeak html
readFeatureFlank-methods html
readGeneric html
readNarrowPeak html
readTableFast html
readTranscriptFeatures-methods html
scaleScoreMatrix-methods html
scaleScoreMatrixList html
show-methods html
sub-ScoreMatrix-ANY-ANY-ANY-method html
sub-ScoreMatrixList-ANY-ANY-ANY-method
html
target.type html
** building package indices
** installing vignettes
** testing if installed package can be loaded from temporary location
** testing if installed package can be loaded from final location
** testing if installed package keeps a record of temporary installation path
install for x64
* installing *source* package 'genomation' ...
** libs
C:/Rtools/mingw_64/bin/g++ -I"C:/Users/BIOCBU˜1/BBS-3˜1.9-B/R/include" -DNDEBUG -I"C:/Users/biocbuild/bbs-3.9-bioc/R/library/Rcpp/include" -I"C:/extsoft/include" -O2 -Wall -mtune=generic -c RcppExports.cpp -o RcppExports.o
C:/Rtools/mingw_64/bin/g++ -I"C:/Users/BIOCBU˜1/BBS-3˜1.9-B/R/include" -DNDEBUG -I"C:/Users/biocbuild/bbs-3.9-bioc/R/library/Rcpp/include" -I"C:/extsoft/include" -O2 -Wall -mtune=generic -c binSum.cpp -o binSum.o
C:/Rtools/mingw_64/bin/g++ -shared -s -static-libgcc -o genomation.dll tmp.def RcppExports.o binSum.o -LC:/extsoft/lib/x64 -LC:/extsoft/lib -LC:/Users/BIOCBU˜1/BBS-3˜1.9-B/R/bin/x64 -lR
installing to C:/Users/biocbuild/bbs-3.9-bioc/meat/genomation.buildbin-libdir/genomation/libs/x64
** testing if installed package can be loaded
* MD5 sums
packaged installation of 'genomation' as genomation_1.15.0.zip
* DONE (genomation)