| Back to Multiple platform build/check report for BioC 3.9 | 
 | 
This page was generated on 2019-04-09 13:30:49 -0400 (Tue, 09 Apr 2019).
| Package 640/1703 | Hostname | OS / Arch | INSTALL | BUILD | CHECK | BUILD BIN | ||||||
| genomation 1.15.0 Altuna Akalin 
 | malbec2 | Linux (Ubuntu 18.04.2 LTS) / x86_64 | OK | OK | OK |  | ||||||
| tokay2 | Windows Server 2012 R2 Standard / x64 | OK | OK | OK | OK |  | ||||||
| celaya2 | OS X 10.11.6 El Capitan / x86_64 | OK | OK | OK | OK |  | ||||||
| merida2 | OS X 10.11.6 El Capitan / x86_64 | OK | OK | OK | [ OK ] | 
| Package: genomation | 
| Version: 1.15.0 | 
| Command: rm -rf genomation.buildbin-libdir && mkdir genomation.buildbin-libdir && /Users/biocbuild/BBS/utils/build-universal.sh genomation_1.15.0.tar.gz /Library/Frameworks/R.framework/Versions/Current/Resources/bin/R genomation.buildbin-libdir | 
| StartedAt: 2019-04-09 05:26:18 -0400 (Tue, 09 Apr 2019) | 
| EndedAt: 2019-04-09 05:27:32 -0400 (Tue, 09 Apr 2019) | 
| EllapsedTime: 73.6 seconds | 
| RetCode: 0 | 
| Status: OK | 
| PackageFile: genomation_1.15.0.tgz | 
| PackageFileSize: 2.947 MiB | 
############################################################################## ############################################################################## ### ### Running command: ### ### rm -rf genomation.buildbin-libdir && mkdir genomation.buildbin-libdir && /Users/biocbuild/BBS/utils/build-universal.sh genomation_1.15.0.tar.gz /Library/Frameworks/R.framework/Versions/Current/Resources/bin/R genomation.buildbin-libdir ### ############################################################################## ############################################################################## >>>>>>> >>>>>>> INSTALLATION WITH 'R CMD INSTALL --preclean --no-multiarch --library=genomation.buildbin-libdir genomation_1.15.0.tar.gz' >>>>>>> * installing *source* package ‘genomation’ ... ** libs clang++ -std=gnu++11 -I"/Library/Frameworks/R.framework/Resources/include" -DNDEBUG -I"/Library/Frameworks/R.framework/Versions/3.6/Resources/library/Rcpp/include" -I/usr/local/include -fPIC -Wall -g -O2 -c RcppExports.cpp -o RcppExports.o clang++ -std=gnu++11 -I"/Library/Frameworks/R.framework/Resources/include" -DNDEBUG -I"/Library/Frameworks/R.framework/Versions/3.6/Resources/library/Rcpp/include" -I/usr/local/include -fPIC -Wall -g -O2 -c binSum.cpp -o binSum.o clang++ -std=gnu++11 -dynamiclib -Wl,-headerpad_max_install_names -undefined dynamic_lookup -single_module -multiply_defined suppress -L/Library/Frameworks/R.framework/Resources/lib -L/usr/local/lib -o genomation.so RcppExports.o binSum.o -F/Library/Frameworks/R.framework/.. -framework R -Wl,-framework -Wl,CoreFoundation installing to /Users/biocbuild/bbs-3.9-bioc/meat/genomation.buildbin-libdir/genomation/libs ** R ** data ** inst ** byte-compile and prepare package for lazy loading ** help *** installing help indices ** building package indices ** installing vignettes ** testing if installed package can be loaded * DONE (genomation) >>>>>>> >>>>>>> FIXING LINKS FOR genomation.buildbin-libdir/genomation/libs//genomation.so >>>>>>> install_name_tool -change "/usr/local/lib/libgcc_s.1.dylib" "/Library/Frameworks/R.framework/Versions/3.6/Resources/lib/libgcc_s.1.dylib" "genomation.buildbin-libdir/genomation/libs//genomation.so" install_name_tool -change "/usr/local/lib/libgfortran.3.dylib" "/Library/Frameworks/R.framework/Versions/3.6/Resources/lib/libgfortran.3.dylib" "genomation.buildbin-libdir/genomation/libs//genomation.so" install_name_tool -change "/usr/local/lib/libreadline.5.2.dylib" "/Library/Frameworks/R.framework/Versions/3.6/Resources/lib/libreadline.5.2.dylib" "genomation.buildbin-libdir/genomation/libs//genomation.so" install_name_tool -change "/usr/local/lib/libreadline.dylib" "/Library/Frameworks/R.framework/Versions/3.6/Resources/lib/libreadline.dylib" "genomation.buildbin-libdir/genomation/libs//genomation.so" install_name_tool -change "/usr/local/lib/libquadmath.0.dylib" "/Library/Frameworks/R.framework/Versions/3.6/Resources/lib/libquadmath.0.dylib" "genomation.buildbin-libdir/genomation/libs//genomation.so"