| Back to Multiple platform build/check report for BioC 3.9 |
|
This page was generated on 2019-04-09 12:43:03 -0400 (Tue, 09 Apr 2019).
| Package 321/1703 | Hostname | OS / Arch | INSTALL | BUILD | CHECK | BUILD BIN | ||||||
| compartmap 1.1.1 Benjamin Johnson
| malbec2 | Linux (Ubuntu 18.04.2 LTS) / x86_64 | OK | OK | WARNINGS | |||||||
| tokay2 | Windows Server 2012 R2 Standard / x64 | OK | OK | WARNINGS | [ OK ] | |||||||
| celaya2 | OS X 10.11.6 El Capitan / x86_64 | OK | OK | WARNINGS | OK | |||||||
| merida2 | OS X 10.11.6 El Capitan / x86_64 | OK | OK | WARNINGS | OK |
| Package: compartmap |
| Version: 1.1.1 |
| Command: rm -rf compartmap.buildbin-libdir && mkdir compartmap.buildbin-libdir && C:\Users\biocbuild\bbs-3.9-bioc\R\bin\R.exe CMD INSTALL --merge-multiarch --build --library=compartmap.buildbin-libdir compartmap_1.1.1.tar.gz |
| StartedAt: 2019-04-09 07:41:16 -0400 (Tue, 09 Apr 2019) |
| EndedAt: 2019-04-09 07:42:26 -0400 (Tue, 09 Apr 2019) |
| EllapsedTime: 69.5 seconds |
| RetCode: 0 |
| Status: OK |
| PackageFile: compartmap_1.1.1.zip |
| PackageFileSize: 2.962 MiB |
##############################################################################
##############################################################################
###
### Running command:
###
### rm -rf compartmap.buildbin-libdir && mkdir compartmap.buildbin-libdir && C:\Users\biocbuild\bbs-3.9-bioc\R\bin\R.exe CMD INSTALL --merge-multiarch --build --library=compartmap.buildbin-libdir compartmap_1.1.1.tar.gz
###
##############################################################################
##############################################################################
install for i386
* installing *source* package 'compartmap' ...
** R
** data
** inst
** byte-compile and prepare package for lazy loading
** help
*** installing help indices
converting help for package 'compartmap'
finding HTML links ... done
array.data.chr14 html
filtered.data.chr14 html
fisherZ html
getABSignal html
getATACABsignal html
getArrayABsignal html
getBinMatrix html
getCompartments html
getCorMatrix html
ifisherZ html
plotAB html
** building package indices
** installing vignettes
** testing if installed package can be loaded from temporary location
** testing if installed package can be loaded from final location
** testing if installed package keeps a record of temporary installation path
install for x64
* installing *source* package 'compartmap' ...
** testing if installed package can be loaded
* MD5 sums
packaged installation of 'compartmap' as compartmap_1.1.1.zip
* DONE (compartmap)