| Back to Multiple platform build/check report for BioC 3.9 | 
 | 
This page was generated on 2019-04-09 13:38:04 -0400 (Tue, 09 Apr 2019).
| Package 321/1703 | Hostname | OS / Arch | INSTALL | BUILD | CHECK | BUILD BIN | ||||||
| compartmap 1.1.1 Benjamin Johnson 
 | malbec2 | Linux (Ubuntu 18.04.2 LTS) / x86_64 | OK | OK | WARNINGS |  | ||||||
| tokay2 | Windows Server 2012 R2 Standard / x64 | OK | OK | WARNINGS | OK |  | ||||||
| celaya2 | OS X 10.11.6 El Capitan / x86_64 | OK | OK | WARNINGS | OK |  | ||||||
| merida2 | OS X 10.11.6 El Capitan / x86_64 | OK | OK | WARNINGS | [ OK ] | 
| Package: compartmap | 
| Version: 1.1.1 | 
| Command: rm -rf compartmap.buildbin-libdir && mkdir compartmap.buildbin-libdir && /Users/biocbuild/BBS/utils/build-universal.sh compartmap_1.1.1.tar.gz /Library/Frameworks/R.framework/Versions/Current/Resources/bin/R compartmap.buildbin-libdir | 
| StartedAt: 2019-04-09 05:02:23 -0400 (Tue, 09 Apr 2019) | 
| EndedAt: 2019-04-09 05:03:38 -0400 (Tue, 09 Apr 2019) | 
| EllapsedTime: 74.8 seconds | 
| RetCode: 0 | 
| Status: OK | 
| PackageFile: compartmap_1.1.1.tgz | 
| PackageFileSize: 2.95 MiB | 
############################################################################## ############################################################################## ### ### Running command: ### ### rm -rf compartmap.buildbin-libdir && mkdir compartmap.buildbin-libdir && /Users/biocbuild/BBS/utils/build-universal.sh compartmap_1.1.1.tar.gz /Library/Frameworks/R.framework/Versions/Current/Resources/bin/R compartmap.buildbin-libdir ### ############################################################################## ############################################################################## >>>>>>> >>>>>>> INSTALLATION WITH 'R CMD INSTALL --preclean --no-multiarch --library=compartmap.buildbin-libdir compartmap_1.1.1.tar.gz' >>>>>>> * installing *source* package ‘compartmap’ ... ** R ** data ** inst ** byte-compile and prepare package for lazy loading ** help *** installing help indices ** building package indices ** installing vignettes ** testing if installed package can be loaded * DONE (compartmap)