| Back to Multiple platform build/check report for BioC 3.9 |
|
This page was generated on 2019-04-09 12:25:43 -0400 (Tue, 09 Apr 2019).
| Package 286/1703 | Hostname | OS / Arch | INSTALL | BUILD | CHECK | BUILD BIN | ||||||
| clustComp 1.11.0 Aurora Torrente
| malbec2 | Linux (Ubuntu 18.04.2 LTS) / x86_64 | OK | OK | OK | |||||||
| tokay2 | Windows Server 2012 R2 Standard / x64 | OK | OK | OK | [ OK ] | |||||||
| celaya2 | OS X 10.11.6 El Capitan / x86_64 | OK | OK | OK | OK | |||||||
| merida2 | OS X 10.11.6 El Capitan / x86_64 | OK | OK | OK | OK |
| Package: clustComp |
| Version: 1.11.0 |
| Command: rm -rf clustComp.buildbin-libdir && mkdir clustComp.buildbin-libdir && C:\Users\biocbuild\bbs-3.9-bioc\R\bin\R.exe CMD INSTALL --merge-multiarch --build --library=clustComp.buildbin-libdir clustComp_1.11.0.tar.gz |
| StartedAt: 2019-04-09 07:39:15 -0400 (Tue, 09 Apr 2019) |
| EndedAt: 2019-04-09 07:39:59 -0400 (Tue, 09 Apr 2019) |
| EllapsedTime: 44.0 seconds |
| RetCode: 0 |
| Status: OK |
| PackageFile: clustComp_1.11.0.zip |
| PackageFileSize: 941.1 KiB |
##############################################################################
##############################################################################
###
### Running command:
###
### rm -rf clustComp.buildbin-libdir && mkdir clustComp.buildbin-libdir && C:\Users\biocbuild\bbs-3.9-bioc\R\bin\R.exe CMD INSTALL --merge-multiarch --build --library=clustComp.buildbin-libdir clustComp_1.11.0.tar.gz
###
##############################################################################
##############################################################################
install for i386
* installing *source* package 'clustComp' ...
** R
** inst
** byte-compile and prepare package for lazy loading
** help
*** installing help indices
converting help for package 'clustComp'
finding HTML links ... done
SCmapping html
barycentre html
drawTreeGraph html
dyn.cross html
flatVSflat html
flatVShier html
insert html
score.crossing html
score.it html
** building package indices
** installing vignettes
** testing if installed package can be loaded from temporary location
** testing if installed package can be loaded from final location
** testing if installed package keeps a record of temporary installation path
install for x64
* installing *source* package 'clustComp' ...
** testing if installed package can be loaded
* MD5 sums
packaged installation of 'clustComp' as clustComp_1.11.0.zip
* DONE (clustComp)