| Back to Multiple platform build/check report for BioC 3.9 | 
 | 
This page was generated on 2019-04-09 12:10:26 -0400 (Tue, 09 Apr 2019).
| Package 253/1703 | Hostname | OS / Arch | INSTALL | BUILD | CHECK | BUILD BIN | ||||||
| chipenrich 2.7.1 Raymond G. Cavalcante 
 | malbec2 | Linux (Ubuntu 18.04.2 LTS) / x86_64 | OK | OK | OK |  | ||||||
| tokay2 | Windows Server 2012 R2 Standard / x64 | OK | OK | OK | [ OK ] |  | ||||||
| celaya2 | OS X 10.11.6 El Capitan / x86_64 | OK | OK | OK | OK |  | ||||||
| merida2 | OS X 10.11.6 El Capitan / x86_64 | OK | OK | OK | OK | 
| Package: chipenrich | 
| Version: 2.7.1 | 
| Command: rm -rf chipenrich.buildbin-libdir && mkdir chipenrich.buildbin-libdir && C:\Users\biocbuild\bbs-3.9-bioc\R\bin\R.exe CMD INSTALL --merge-multiarch --build --library=chipenrich.buildbin-libdir chipenrich_2.7.1.tar.gz | 
| StartedAt: 2019-04-09 07:37:00 -0400 (Tue, 09 Apr 2019) | 
| EndedAt: 2019-04-09 07:38:11 -0400 (Tue, 09 Apr 2019) | 
| EllapsedTime: 71.0 seconds | 
| RetCode: 0 | 
| Status: OK | 
| PackageFile: chipenrich_2.7.1.zip | 
| PackageFileSize: 685 KiB | 
##############################################################################
##############################################################################
###
### Running command:
###
###   rm -rf chipenrich.buildbin-libdir && mkdir chipenrich.buildbin-libdir && C:\Users\biocbuild\bbs-3.9-bioc\R\bin\R.exe CMD INSTALL --merge-multiarch --build --library=chipenrich.buildbin-libdir chipenrich_2.7.1.tar.gz
###
##############################################################################
##############################################################################
install for i386
* installing *source* package 'chipenrich' ...
** R
** inst
** byte-compile and prepare package for lazy loading
** help
*** installing help indices
  converting help for package 'chipenrich'
    finding HTML links ... done
    assign_peak_segments                    html  
    assign_peaks                            html  
    broadenrich                             html  
    calc_peak_gene_overlap                  html  
    chipenrich                              html  
    chipenrich_package                      html  
    filter_genesets                         html  
    genome_to_organism                      html  
    genome_to_orgdb                         html  
    get_test_method                         html  
    hybridenrich                            html  
    load_peaks                              html  
    num_peaks_per_gene                      html  
    peaks2genes                             html  
    plot_chipenrich_spline                  html  
    plot_dist_to_tss                        html  
    plot_gene_coverage                      html  
    plot_polyenrich_spline                  html  
    polyenrich                              html  
    post_process_enrichments                html  
    postprocess_peak_grs                    html  
    read_bed                                html  
    read_geneset                            html  
    read_ldef                               html  
    read_mappa                              html  
    recode_peaks                            html  
    reset_ncores_for_windows                html  
    setup_genesets                          html  
    setup_locusdef                          html  
    setup_mappa                             html  
    supported_genesets                      html  
    supported_genomes                       html  
    supported_locusdefs                     html  
    supported_methods                       html  
    supported_read_lengths                  html  
** building package indices
** installing vignettes
** testing if installed package can be loaded from temporary location
** testing if installed package can be loaded from final location
** testing if installed package keeps a record of temporary installation path
install for x64
* installing *source* package 'chipenrich' ...
** testing if installed package can be loaded
* MD5 sums
packaged installation of 'chipenrich' as chipenrich_2.7.1.zip
* DONE (chipenrich)