| Back to Multiple platform build/check report for BioC 3.9 | 
 | 
This page was generated on 2019-04-09 13:08:27 -0400 (Tue, 09 Apr 2019).
| Package 253/1703 | Hostname | OS / Arch | INSTALL | BUILD | CHECK | BUILD BIN | ||||||
| chipenrich 2.7.1 Raymond G. Cavalcante 
 | malbec2 | Linux (Ubuntu 18.04.2 LTS) / x86_64 | OK | OK | OK |  | ||||||
| tokay2 | Windows Server 2012 R2 Standard / x64 | OK | OK | OK | OK |  | ||||||
| celaya2 | OS X 10.11.6 El Capitan / x86_64 | OK | OK | OK | [ OK ] |  | ||||||
| merida2 | OS X 10.11.6 El Capitan / x86_64 | OK | OK | OK | OK | 
| Package: chipenrich | 
| Version: 2.7.1 | 
| Command: rm -rf chipenrich.buildbin-libdir && mkdir chipenrich.buildbin-libdir && /Users/biocbuild/BBS/utils/build-universal.sh chipenrich_2.7.1.tar.gz /Library/Frameworks/R.framework/Versions/Current/Resources/bin/R chipenrich.buildbin-libdir | 
| StartedAt: 2019-04-09 06:48:03 -0400 (Tue, 09 Apr 2019) | 
| EndedAt: 2019-04-09 06:49:02 -0400 (Tue, 09 Apr 2019) | 
| EllapsedTime: 58.8 seconds | 
| RetCode: 0 | 
| Status: OK | 
| PackageFile: chipenrich_2.7.1.tgz | 
| PackageFileSize: 986.5 KiB | 
############################################################################## ############################################################################## ### ### Running command: ### ### rm -rf chipenrich.buildbin-libdir && mkdir chipenrich.buildbin-libdir && /Users/biocbuild/BBS/utils/build-universal.sh chipenrich_2.7.1.tar.gz /Library/Frameworks/R.framework/Versions/Current/Resources/bin/R chipenrich.buildbin-libdir ### ############################################################################## ############################################################################## >>>>>>> >>>>>>> INSTALLATION WITH 'R CMD INSTALL --preclean --no-multiarch --library=chipenrich.buildbin-libdir chipenrich_2.7.1.tar.gz' >>>>>>> * installing *source* package ‘chipenrich’ ... ** using staged installation ** R ** inst ** byte-compile and prepare package for lazy loading ** help *** installing help indices ** building package indices ** installing vignettes ** testing if installed package can be loaded from temporary location ** testing if installed package can be loaded from final location ** testing if installed package keeps a record of temporary installation path * DONE (chipenrich)