| Back to Multiple platform build/check report for BioC 3.9 |
|
This page was generated on 2019-04-09 11:54:37 -0400 (Tue, 09 Apr 2019).
| Package 153/1703 | Hostname | OS / Arch | INSTALL | BUILD | CHECK | BUILD BIN | ||||||
| biocViews 1.51.15 Bioconductor Package Maintainer
| malbec2 | Linux (Ubuntu 18.04.2 LTS) / x86_64 | OK | OK | WARNINGS | |||||||
| tokay2 | Windows Server 2012 R2 Standard / x64 | [ OK ] | OK | WARNINGS | OK | |||||||
| celaya2 | OS X 10.11.6 El Capitan / x86_64 | OK | OK | WARNINGS | OK | |||||||
| merida2 | OS X 10.11.6 El Capitan / x86_64 | OK | OK | WARNINGS | OK |
| Package: biocViews |
| Version: 1.51.15 |
| Command: C:\cygwin\bin\curl.exe -O https://malbec2.bioconductor.org/BBS/3.9/bioc/src/contrib/biocViews_1.51.15.tar.gz && rm -rf biocViews.buildbin-libdir && mkdir biocViews.buildbin-libdir && C:\Users\biocbuild\bbs-3.9-bioc\R\bin\R.exe CMD INSTALL --merge-multiarch --build --library=biocViews.buildbin-libdir biocViews_1.51.15.tar.gz && C:\Users\biocbuild\bbs-3.9-bioc\R\bin\R.exe CMD INSTALL biocViews_1.51.15.zip && rm biocViews_1.51.15.tar.gz biocViews_1.51.15.zip |
| StartedAt: 2019-04-08 18:50:20 -0400 (Mon, 08 Apr 2019) |
| EndedAt: 2019-04-08 18:51:34 -0400 (Mon, 08 Apr 2019) |
| EllapsedTime: 74.3 seconds |
| RetCode: 0 |
| Status: OK |
##############################################################################
##############################################################################
###
### Running command:
###
### C:\cygwin\bin\curl.exe -O https://malbec2.bioconductor.org/BBS/3.9/bioc/src/contrib/biocViews_1.51.15.tar.gz && rm -rf biocViews.buildbin-libdir && mkdir biocViews.buildbin-libdir && C:\Users\biocbuild\bbs-3.9-bioc\R\bin\R.exe CMD INSTALL --merge-multiarch --build --library=biocViews.buildbin-libdir biocViews_1.51.15.tar.gz && C:\Users\biocbuild\bbs-3.9-bioc\R\bin\R.exe CMD INSTALL biocViews_1.51.15.zip && rm biocViews_1.51.15.tar.gz biocViews_1.51.15.zip
###
##############################################################################
##############################################################################
% Total % Received % Xferd Average Speed Time Time Time Current
Dload Upload Total Spent Left Speed
0 0 0 0 0 0 0 0 --:--:-- --:--:-- --:--:-- 0
100 73185 100 73185 0 0 537k 0 --:--:-- --:--:-- --:--:-- 567k
install for i386
* installing *source* package 'biocViews' ...
** R
** data
** inst
** byte-compile and prepare package for lazy loading
** help
*** installing help indices
converting help for package 'biocViews'
finding HTML links ... done
BiocView-class html
Htmlized-class html
PackageDetail-class html
RepositoryDetail-class html
biocViews-package html
biocViewsVocab html
extractManuals html
extractNEWS html
extractTopLevelFiles html
extractVignettes html
genReposControlFiles html
getBiocSubViews html
getBiocViews html
getCurrentbiocViews html
getPackageNEWS html
getPackageTitles html
getPacksAndViews html
getSubTerms html
guessPackageType html
htmlDoc html
htmlFilename html
htmlValue html
recommendBiocViews html
recommendPackages html
validation_tests html
writeBiocViews html
writeHtmlDoc html
writePackageDetailHtml html
writeRFilesFromVignettes html
writeRepositoryHtml html
writeTopLevelView html
write_REPOSITORY html
write_SYMBOLS html
write_VIEWS html
** building package indices
** installing vignettes
'HOWTO-BCV.Rnw'
'createReposHtml.Rnw'
** testing if installed package can be loaded from temporary location
** testing if installed package can be loaded from final location
** testing if installed package keeps a record of temporary installation path
install for x64
* installing *source* package 'biocViews' ...
** testing if installed package can be loaded
* MD5 sums
packaged installation of 'biocViews' as biocViews_1.51.15.zip
* DONE (biocViews)
* installing to library 'C:/Users/biocbuild/bbs-3.9-bioc/R/library'
package 'biocViews' successfully unpacked and MD5 sums checked